Back to Multiple platform build/check report for BioC 3.11 |
|
This page was generated on 2020-01-16 13:56:17 -0500 (Thu, 16 Jan 2020).
Package 252/1818 | Hostname | OS / Arch | INSTALL | BUILD | CHECK | BUILD BIN | ||||||
CeTF 0.99.12 Carlos Alberto Oliveira de Biagi Junior
| malbec2 | Linux (Ubuntu 18.04.3 LTS) / x86_64 | OK | OK | OK | |||||||
tokay2 | Windows Server 2012 R2 Standard / x64 | OK | OK | OK | OK | |||||||
celaya2 | OS X 10.11.6 El Capitan / x86_64 | OK | OK | OK | [ OK ] |
Package: CeTF |
Version: 0.99.12 |
Command: rm -rf CeTF.buildbin-libdir && mkdir CeTF.buildbin-libdir && /Users/biocbuild/BBS/utils/build-universal.sh CeTF_0.99.12.tar.gz /Library/Frameworks/R.framework/Versions/Current/Resources/bin/R CeTF.buildbin-libdir |
StartedAt: 2020-01-16 10:36:06 -0500 (Thu, 16 Jan 2020) |
EndedAt: 2020-01-16 10:37:01 -0500 (Thu, 16 Jan 2020) |
EllapsedTime: 55.0 seconds |
RetCode: 0 |
Status: OK |
PackageFile: CeTF_0.99.12.tgz |
PackageFileSize: 3.083 MiB |
############################################################################## ############################################################################## ### ### Running command: ### ### rm -rf CeTF.buildbin-libdir && mkdir CeTF.buildbin-libdir && /Users/biocbuild/BBS/utils/build-universal.sh CeTF_0.99.12.tar.gz /Library/Frameworks/R.framework/Versions/Current/Resources/bin/R CeTF.buildbin-libdir ### ############################################################################## ############################################################################## >>>>>>> >>>>>>> INSTALLATION WITH 'R CMD INSTALL --preclean --no-multiarch --library=CeTF.buildbin-libdir CeTF_0.99.12.tar.gz' >>>>>>> * installing *source* package ‘CeTF’ ... ** using staged installation ** R ** data *** moving datasets to lazyload DB ** inst ** byte-compile and prepare package for lazy loading ** help *** installing help indices ** building package indices ** installing vignettes ** testing if installed package can be loaded from temporary location ** testing if installed package can be loaded from final location ** testing if installed package keeps a record of temporary installation path * DONE (CeTF)