Back to Multiple platform build/check report for BioC 3.11 |
|
This page was generated on 2020-01-16 13:29:28 -0500 (Thu, 16 Jan 2020).
Package 331/1818 | Hostname | OS / Arch | INSTALL | BUILD | CHECK | BUILD BIN | ||||||
CoCiteStats 1.59.0 Bioconductor Package Maintainer
| malbec2 | Linux (Ubuntu 18.04.3 LTS) / x86_64 | OK | OK | OK | |||||||
tokay2 | Windows Server 2012 R2 Standard / x64 | OK | OK | OK | OK | |||||||
celaya2 | OS X 10.11.6 El Capitan / x86_64 | OK | OK | [ OK ] | OK |
Package: CoCiteStats |
Version: 1.59.0 |
Command: /Library/Frameworks/R.framework/Versions/Current/Resources/bin/R CMD check --install=check:CoCiteStats.install-out.txt --library=/Library/Frameworks/R.framework/Versions/Current/Resources/library --no-vignettes --timings CoCiteStats_1.59.0.tar.gz |
StartedAt: 2020-01-16 03:05:23 -0500 (Thu, 16 Jan 2020) |
EndedAt: 2020-01-16 03:11:32 -0500 (Thu, 16 Jan 2020) |
EllapsedTime: 368.9 seconds |
RetCode: 0 |
Status: OK |
CheckDir: CoCiteStats.Rcheck |
Warnings: 0 |
############################################################################## ############################################################################## ### ### Running command: ### ### /Library/Frameworks/R.framework/Versions/Current/Resources/bin/R CMD check --install=check:CoCiteStats.install-out.txt --library=/Library/Frameworks/R.framework/Versions/Current/Resources/library --no-vignettes --timings CoCiteStats_1.59.0.tar.gz ### ############################################################################## ############################################################################## * using log directory ‘/Users/biocbuild/bbs-3.11-bioc/meat/CoCiteStats.Rcheck’ * using R Under development (unstable) (2019-12-14 r77572) * using platform: x86_64-apple-darwin15.6.0 (64-bit) * using session charset: UTF-8 * using option ‘--no-vignettes’ * checking for file ‘CoCiteStats/DESCRIPTION’ ... OK * this is package ‘CoCiteStats’ version ‘1.59.0’ * checking package namespace information ... OK * checking package dependencies ... OK * checking if this is a source package ... OK * checking if there is a namespace ... OK * checking for hidden files and directories ... OK * checking for portable file names ... OK * checking for sufficient/correct file permissions ... OK * checking whether package ‘CoCiteStats’ can be installed ... OK * checking installed package size ... OK * checking package directory ... OK * checking DESCRIPTION meta-information ... NOTE Malformed Title field: should not end in a period. * checking top-level files ... OK * checking for left-over files ... OK * checking index information ... OK * checking package subdirectories ... OK * checking R files for non-ASCII characters ... OK * checking R files for syntax errors ... OK * checking whether the package can be loaded ... OK * checking whether the package can be loaded with stated dependencies ... OK * checking whether the package can be unloaded cleanly ... OK * checking whether the namespace can be loaded with stated dependencies ... OK * checking whether the namespace can be unloaded cleanly ... OK * checking dependencies in R code ... NOTE Package in Depends field not imported from: ‘org.Hs.eg.db’ These packages need to be imported from (in the NAMESPACE file) for when this namespace is loaded but not attached. * checking S3 generic/method consistency ... OK * checking replacement functions ... OK * checking foreign function calls ... OK * checking R code for possible problems ... NOTE gene.geneslist.sig: no visible global function definition for ‘Lkeys’ gene.geneslist.sig: no visible binding for global variable ‘org.Hs.egPMID’ paperLen: no visible global function definition for ‘toTable’ paperLen: no visible binding for global variable ‘org.Hs.egPMID’ paperLen: no visible global function definition for ‘nhit’ paperLen: no visible global function definition for ‘revmap’ Undefined global functions or variables: Lkeys nhit org.Hs.egPMID revmap toTable * checking Rd files ... NOTE prepare_Rd: gene.geneslist.statistic.Rd:19-21: Dropping empty section \details * checking Rd metadata ... OK * checking Rd cross-references ... OK * checking for missing documentation entries ... OK * checking for code/documentation mismatches ... OK * checking Rd \usage sections ... OK * checking Rd contents ... OK * checking for unstated dependencies in examples ... OK * checking examples ... OK Examples with CPU (user + system) or elapsed time > 5s user system elapsed actorAdjTable 38.316 9.667 49.165 gene.geneslist.sig 41.145 2.242 43.391 gene.geneslist.statistic 27.500 0.534 28.042 gene.gene.statistic 26.747 0.475 27.227 twTStats 25.589 0.310 25.969 paperLen 25.456 0.346 25.812 twowayTable 25.262 0.474 25.748 * checking PDF version of manual ... OK * DONE Status: 4 NOTEs See ‘/Users/biocbuild/bbs-3.11-bioc/meat/CoCiteStats.Rcheck/00check.log’ for details.
CoCiteStats.Rcheck/00install.out
############################################################################## ############################################################################## ### ### Running command: ### ### /Library/Frameworks/R.framework/Versions/Current/Resources/bin/R CMD INSTALL CoCiteStats ### ############################################################################## ############################################################################## * installing to library ‘/Library/Frameworks/R.framework/Versions/4.0/Resources/library’ * installing *source* package ‘CoCiteStats’ ... ** using staged installation ** R ** byte-compile and prepare package for lazy loading ** help *** installing help indices ** building package indices ** testing if installed package can be loaded from temporary location ** testing if installed package can be loaded from final location ** testing if installed package keeps a record of temporary installation path * DONE (CoCiteStats)
CoCiteStats.Rcheck/CoCiteStats-Ex.timings
name | user | system | elapsed | |
actorAdjTable | 38.316 | 9.667 | 49.165 | |
gene.gene.statistic | 26.747 | 0.475 | 27.227 | |
gene.geneslist.sig | 41.145 | 2.242 | 43.391 | |
gene.geneslist.statistic | 27.500 | 0.534 | 28.042 | |
paperLen | 25.456 | 0.346 | 25.812 | |
twTStats | 25.589 | 0.310 | 25.969 | |
twowayTable | 25.262 | 0.474 | 25.748 | |