Back to Multiple platform build/check report for BioC 3.11 |
|
This page was generated on 2020-01-16 13:47:01 -0500 (Thu, 16 Jan 2020).
Package 472/1818 | Hostname | OS / Arch | INSTALL | BUILD | CHECK | BUILD BIN | ||||||
DMRScan 1.9.3 Christian M Page
| malbec2 | Linux (Ubuntu 18.04.3 LTS) / x86_64 | OK | OK | OK | |||||||
tokay2 | Windows Server 2012 R2 Standard / x64 | OK | OK | OK | OK | |||||||
celaya2 | OS X 10.11.6 El Capitan / x86_64 | OK | OK | [ OK ] | OK |
Package: DMRScan |
Version: 1.9.3 |
Command: /Library/Frameworks/R.framework/Versions/Current/Resources/bin/R CMD check --install=check:DMRScan.install-out.txt --library=/Library/Frameworks/R.framework/Versions/Current/Resources/library --no-vignettes --timings DMRScan_1.9.3.tar.gz |
StartedAt: 2020-01-16 03:53:32 -0500 (Thu, 16 Jan 2020) |
EndedAt: 2020-01-16 04:06:24 -0500 (Thu, 16 Jan 2020) |
EllapsedTime: 771.9 seconds |
RetCode: 0 |
Status: OK |
CheckDir: DMRScan.Rcheck |
Warnings: 0 |
############################################################################## ############################################################################## ### ### Running command: ### ### /Library/Frameworks/R.framework/Versions/Current/Resources/bin/R CMD check --install=check:DMRScan.install-out.txt --library=/Library/Frameworks/R.framework/Versions/Current/Resources/library --no-vignettes --timings DMRScan_1.9.3.tar.gz ### ############################################################################## ############################################################################## * using log directory ‘/Users/biocbuild/bbs-3.11-bioc/meat/DMRScan.Rcheck’ * using R Under development (unstable) (2019-12-14 r77572) * using platform: x86_64-apple-darwin15.6.0 (64-bit) * using session charset: UTF-8 * using option ‘--no-vignettes’ * checking for file ‘DMRScan/DESCRIPTION’ ... OK * this is package ‘DMRScan’ version ‘1.9.3’ * checking package namespace information ... OK * checking package dependencies ... OK * checking if this is a source package ... OK * checking if there is a namespace ... OK * checking for hidden files and directories ... OK * checking for portable file names ... OK * checking for sufficient/correct file permissions ... OK * checking whether package ‘DMRScan’ can be installed ... OK * checking installed package size ... NOTE installed size is 5.0Mb sub-directories of 1Mb or more: data 4.9Mb * checking package directory ... OK * checking ‘build’ directory ... OK * checking DESCRIPTION meta-information ... OK * checking top-level files ... OK * checking for left-over files ... OK * checking index information ... OK * checking package subdirectories ... OK * checking R files for non-ASCII characters ... OK * checking R files for syntax errors ... OK * checking whether the package can be loaded ... OK * checking whether the package can be loaded with stated dependencies ... OK * checking whether the package can be unloaded cleanly ... OK * checking whether the namespace can be loaded with stated dependencies ... OK * checking whether the namespace can be unloaded cleanly ... OK * checking dependencies in R code ... OK * checking S3 generic/method consistency ... OK * checking replacement functions ... OK * checking foreign function calls ... OK * checking R code for possible problems ... OK * checking Rd files ... OK * checking Rd metadata ... OK * checking Rd cross-references ... OK * checking for missing documentation entries ... OK * checking for code/documentation mismatches ... OK * checking Rd \usage sections ... OK * checking Rd contents ... OK * checking for unstated dependencies in examples ... OK * checking contents of ‘data’ directory ... OK * checking data for non-ASCII characters ... OK * checking data for ASCII and uncompressed saves ... OK * checking files in ‘vignettes’ ... OK * checking examples ... OK Examples with CPU (user + system) or elapsed time > 5s user system elapsed DMRScan_package 165.804 6.629 177.308 DMRScan_slidingWindow 161.224 6.912 168.370 makeCpGregions 125.934 6.312 132.256 makeCpGgenes 98.852 4.666 104.227 * checking for unstated dependencies in vignettes ... OK * checking package vignettes in ‘inst/doc’ ... OK * checking running R code from vignettes ... SKIPPED * checking re-building of vignette outputs ... SKIPPED * checking PDF version of manual ... OK * DONE Status: 1 NOTE See ‘/Users/biocbuild/bbs-3.11-bioc/meat/DMRScan.Rcheck/00check.log’ for details.
DMRScan.Rcheck/00install.out
############################################################################## ############################################################################## ### ### Running command: ### ### /Library/Frameworks/R.framework/Versions/Current/Resources/bin/R CMD INSTALL DMRScan ### ############################################################################## ############################################################################## * installing to library ‘/Library/Frameworks/R.framework/Versions/4.0/Resources/library’ * installing *source* package ‘DMRScan’ ... ** using staged installation ** R ** data *** moving datasets to lazyload DB ** inst ** byte-compile and prepare package for lazy loading ** help *** installing help indices ** building package indices ** installing vignettes ** testing if installed package can be loaded from temporary location ** testing if installed package can be loaded from final location ** testing if installed package keeps a record of temporary installation path * DONE (DMRScan)
DMRScan.Rcheck/DMRScan-Ex.timings
name | user | system | elapsed | |
DMRScan.methylationData | 0.706 | 0.079 | 0.785 | |
DMRScan.phenotypes | 0.004 | 0.002 | 0.005 | |
DMRScan_package | 165.804 | 6.629 | 177.308 | |
DMRScan_slidingWindow | 161.224 | 6.912 | 168.370 | |
Rt-methods | 0 | 0 | 0 | |
St-methods | 0.000 | 0.001 | 0.000 | |
estimateThreshold | 0.073 | 0.000 | 0.073 | |
makeCpGgenes | 98.852 | 4.666 | 104.227 | |
makeCpGregions | 125.934 | 6.312 | 132.256 | |