Back to Multiple platform build/check report for BioC 3.11 |
|
This page was generated on 2020-01-16 13:46:46 -0500 (Thu, 16 Jan 2020).
Package 429/1818 | Hostname | OS / Arch | INSTALL | BUILD | CHECK | BUILD BIN | ||||||
DelayedArray 0.13.2 Hervé Pagès
| malbec2 | Linux (Ubuntu 18.04.3 LTS) / x86_64 | OK | OK | WARNINGS | |||||||
tokay2 | Windows Server 2012 R2 Standard / x64 | OK | OK | WARNINGS | OK | |||||||
celaya2 | OS X 10.11.6 El Capitan / x86_64 | OK | [ OK ] | WARNINGS | OK |
Package: DelayedArray |
Version: 0.13.2 |
Command: /Library/Frameworks/R.framework/Versions/Current/Resources/bin/R CMD build --keep-empty-dirs --no-resave-data DelayedArray |
StartedAt: 2020-01-15 23:10:56 -0500 (Wed, 15 Jan 2020) |
EndedAt: 2020-01-15 23:13:13 -0500 (Wed, 15 Jan 2020) |
EllapsedTime: 136.7 seconds |
RetCode: 0 |
Status: OK |
PackageFile: DelayedArray_0.13.2.tar.gz |
PackageFileSize: 539.8 KiB |
############################################################################## ############################################################################## ### ### Running command: ### ### /Library/Frameworks/R.framework/Versions/Current/Resources/bin/R CMD build --keep-empty-dirs --no-resave-data DelayedArray ### ############################################################################## ############################################################################## * checking for file ‘DelayedArray/DESCRIPTION’ ... OK * preparing ‘DelayedArray’: * checking DESCRIPTION meta-information ... OK * cleaning src * installing the package to build vignettes * creating vignettes ... OK * cleaning src * excluding invalid files Subdirectory 'inst/doc' contains invalid file names: ‘02-Implementing_a_backend.Rmd’ ‘01-Working_with_large_arrays.Rnw’ ‘02-Implementing_a_backend.html’ ‘01-Working_with_large_arrays.pdf’ * checking for LF line-endings in source and make files and shell scripts * checking for empty or unneeded directories * building ‘DelayedArray_0.13.2.tar.gz’