Back to Multiple platform build/check report for BioC 3.11 |
|
This page was generated on 2020-01-16 13:42:46 -0500 (Thu, 16 Jan 2020).
Package 845/1818 | Hostname | OS / Arch | INSTALL | BUILD | CHECK | BUILD BIN | ||||||
INSPEcT 1.17.8 Stefano de Pretis
| malbec2 | Linux (Ubuntu 18.04.3 LTS) / x86_64 | OK | OK | OK | |||||||
tokay2 | Windows Server 2012 R2 Standard / x64 | OK | TIMEOUT | skipped | skipped | |||||||
celaya2 | OS X 10.11.6 El Capitan / x86_64 | [ OK ] | OK | OK | OK |
Package: INSPEcT |
Version: 1.17.8 |
Command: /Library/Frameworks/R.framework/Versions/Current/Resources/bin/R CMD INSTALL INSPEcT |
StartedAt: 2020-01-15 19:33:00 -0500 (Wed, 15 Jan 2020) |
EndedAt: 2020-01-15 19:34:33 -0500 (Wed, 15 Jan 2020) |
EllapsedTime: 93.3 seconds |
RetCode: 0 |
Status: OK |
############################################################################## ############################################################################## ### ### Running command: ### ### /Library/Frameworks/R.framework/Versions/Current/Resources/bin/R CMD INSTALL INSPEcT ### ############################################################################## ############################################################################## * installing to library ‘/Library/Frameworks/R.framework/Versions/4.0/Resources/library’ * installing *source* package ‘INSPEcT’ ... ** using staged installation ** R ** data ** inst ** byte-compile and prepare package for lazy loading ** help *** installing help indices ** building package indices ** installing vignettes ** testing if installed package can be loaded from temporary location ** testing if installed package can be loaded from final location ** testing if installed package keeps a record of temporary installation path * DONE (INSPEcT)