Back to Multiple platform build/check report for BioC 3.11
ABCDEFGH[I]JKLMNOPQRSTUVWXYZ

BUILD BIN report for IdMappingRetrieval on celaya2

This page was generated on 2020-01-06 13:36:40 -0500 (Mon, 06 Jan 2020).

Package 818/1809HostnameOS / ArchINSTALLBUILDCHECKBUILD BIN
IdMappingRetrieval 1.35.0
Alex Lisovich , Roger Day
Snapshot Date: 2020-01-05 16:45:23 -0500 (Sun, 05 Jan 2020)
URL: https://git.bioconductor.org/packages/IdMappingRetrieval
Branch: master
Last Commit: 1272da5
Last Changed Date: 2019-10-29 13:35:39 -0500 (Tue, 29 Oct 2019)
malbec2 Linux (Ubuntu 18.04.3 LTS) / x86_64  OK  OK  ERROR 
tokay2 Windows Server 2012 R2 Standard / x64  OK  OK  ERROR  OK 
celaya2 OS X 10.11.6 El Capitan / x86_64  OK  OK  ERROR [ OK ]

Summary

Package: IdMappingRetrieval
Version: 1.35.0
Command: rm -rf IdMappingRetrieval.buildbin-libdir && mkdir IdMappingRetrieval.buildbin-libdir && /Users/biocbuild/BBS/utils/build-universal.sh IdMappingRetrieval_1.35.0.tar.gz /Library/Frameworks/R.framework/Versions/Current/Resources/bin/R IdMappingRetrieval.buildbin-libdir
StartedAt: 2020-01-06 10:24:04 -0500 (Mon, 06 Jan 2020)
EndedAt: 2020-01-06 10:24:49 -0500 (Mon, 06 Jan 2020)
EllapsedTime: 44.9 seconds
RetCode: 0
Status:  OK 
PackageFile: IdMappingRetrieval_1.35.0.tgz
PackageFileSize: 363.7 KiB

Command output

##############################################################################
##############################################################################
###
### Running command:
###
###   rm -rf IdMappingRetrieval.buildbin-libdir && mkdir IdMappingRetrieval.buildbin-libdir && /Users/biocbuild/BBS/utils/build-universal.sh IdMappingRetrieval_1.35.0.tar.gz /Library/Frameworks/R.framework/Versions/Current/Resources/bin/R IdMappingRetrieval.buildbin-libdir
###
##############################################################################
##############################################################################


>>>>>>> 
>>>>>>> INSTALLATION WITH 'R CMD INSTALL --preclean --no-multiarch --library=IdMappingRetrieval.buildbin-libdir IdMappingRetrieval_1.35.0.tar.gz'
>>>>>>> 

* installing *source* package ‘IdMappingRetrieval’ ...
** using staged installation
** R
** demo
** inst
** byte-compile and prepare package for lazy loading
** help
*** installing help indices
** building package indices
** installing vignettes
** testing if installed package can be loaded from temporary location
** testing if installed package can be loaded from final location
** testing if installed package keeps a record of temporary installation path
* DONE (IdMappingRetrieval)