Back to Multiple platform build/check report for BioC 3.11 |
|
This page was generated on 2020-01-16 13:55:00 -0500 (Thu, 16 Jan 2020).
Package 827/1818 | Hostname | OS / Arch | INSTALL | BUILD | CHECK | BUILD BIN | ||||||
IgGeneUsage 1.1.1 Simo Kitanovski
| malbec2 | Linux (Ubuntu 18.04.3 LTS) / x86_64 | OK | OK | OK | ![]() | ||||||
tokay2 | Windows Server 2012 R2 Standard / x64 | OK | ERROR | skipped | skipped | |||||||
celaya2 | OS X 10.11.6 El Capitan / x86_64 | OK | [ OK ] | OK | OK | ![]() |
Package: IgGeneUsage |
Version: 1.1.1 |
Command: /Library/Frameworks/R.framework/Versions/Current/Resources/bin/R CMD build --keep-empty-dirs --no-resave-data IgGeneUsage |
StartedAt: 2020-01-16 00:51:23 -0500 (Thu, 16 Jan 2020) |
EndedAt: 2020-01-16 01:29:55 -0500 (Thu, 16 Jan 2020) |
EllapsedTime: 2311.5 seconds |
RetCode: 0 |
Status: OK |
PackageFile: IgGeneUsage_1.1.1.tar.gz |
PackageFileSize: 3.207 MiB |
############################################################################## ############################################################################## ### ### Running command: ### ### /Library/Frameworks/R.framework/Versions/Current/Resources/bin/R CMD build --keep-empty-dirs --no-resave-data IgGeneUsage ### ############################################################################## ############################################################################## * checking for file ‘IgGeneUsage/DESCRIPTION’ ... OK * preparing ‘IgGeneUsage’: * checking DESCRIPTION meta-information ... OK * installing the package to build vignettes * creating vignettes ... OK * checking for LF line-endings in source and make files and shell scripts * checking for empty or unneeded directories * building ‘IgGeneUsage_1.1.1.tar.gz’