Back to Multiple platform build/check report for BioC 3.11 |
|
This page was generated on 2020-01-16 13:31:41 -0500 (Thu, 16 Jan 2020).
Package 883/1818 | Hostname | OS / Arch | INSTALL | BUILD | CHECK | BUILD BIN | ||||||
KEGGgraph 1.47.0 Jitao David Zhang
| malbec2 | Linux (Ubuntu 18.04.3 LTS) / x86_64 | OK | OK | OK | ![]() | ||||||
tokay2 | Windows Server 2012 R2 Standard / x64 | OK | OK | OK | OK | ![]() | ||||||
celaya2 | OS X 10.11.6 El Capitan / x86_64 | OK | OK | OK | [ OK ] | ![]() |
Package: KEGGgraph |
Version: 1.47.0 |
Command: rm -rf KEGGgraph.buildbin-libdir && mkdir KEGGgraph.buildbin-libdir && /Users/biocbuild/BBS/utils/build-universal.sh KEGGgraph_1.47.0.tar.gz /Library/Frameworks/R.framework/Versions/Current/Resources/bin/R KEGGgraph.buildbin-libdir |
StartedAt: 2020-01-16 11:10:47 -0500 (Thu, 16 Jan 2020) |
EndedAt: 2020-01-16 11:11:05 -0500 (Thu, 16 Jan 2020) |
EllapsedTime: 17.2 seconds |
RetCode: 0 |
Status: OK |
PackageFile: KEGGgraph_1.47.0.tgz |
PackageFileSize: 1.745 MiB |
############################################################################## ############################################################################## ### ### Running command: ### ### rm -rf KEGGgraph.buildbin-libdir && mkdir KEGGgraph.buildbin-libdir && /Users/biocbuild/BBS/utils/build-universal.sh KEGGgraph_1.47.0.tar.gz /Library/Frameworks/R.framework/Versions/Current/Resources/bin/R KEGGgraph.buildbin-libdir ### ############################################################################## ############################################################################## >>>>>>> >>>>>>> INSTALLATION WITH 'R CMD INSTALL --preclean --no-multiarch --library=KEGGgraph.buildbin-libdir KEGGgraph_1.47.0.tar.gz' >>>>>>> * installing *source* package ‘KEGGgraph’ ... ** using staged installation ** R ** data ** inst ** byte-compile and prepare package for lazy loading ** help *** installing help indices ** building package indices ** installing vignettes ** testing if installed package can be loaded from temporary location ** testing if installed package can be loaded from final location ** testing if installed package keeps a record of temporary installation path * DONE (KEGGgraph)