Back to Multiple platform build/check report for BioC 3.11 |
|
This page was generated on 2020-10-13 11:58:12 -0400 (Tue, 13 Oct 2020).
TO THE DEVELOPERS/MAINTAINERS OF THE MAGeCKFlute PACKAGE: Please make sure to use the following settings in order to reproduce any error or warning you see on this page. |
Package 976/1905 | Hostname | OS / Arch | INSTALL | BUILD | CHECK | BUILD BIN | ||||||
MAGeCKFlute 1.8.0 Wubing Zhang
| malbec2 | Linux (Ubuntu 18.04.4 LTS) / x86_64 | OK | OK | [ OK ] | |||||||
tokay2 | Windows Server 2012 R2 Standard / x64 | OK | OK | OK | NA | |||||||
machv2 | macOS 10.14.6 Mojave / x86_64 | OK | OK | OK | OK |
Package: MAGeCKFlute |
Version: 1.8.0 |
Command: /home/biocbuild/bbs-3.11-bioc/R/bin/R CMD check --install=check:MAGeCKFlute.install-out.txt --library=/home/biocbuild/bbs-3.11-bioc/R/library --no-vignettes --timings MAGeCKFlute_1.8.0.tar.gz |
StartedAt: 2020-10-13 04:28:43 -0400 (Tue, 13 Oct 2020) |
EndedAt: 2020-10-13 04:35:03 -0400 (Tue, 13 Oct 2020) |
EllapsedTime: 380.3 seconds |
RetCode: 0 |
Status: OK |
CheckDir: MAGeCKFlute.Rcheck |
Warnings: 0 |
############################################################################## ############################################################################## ### ### Running command: ### ### /home/biocbuild/bbs-3.11-bioc/R/bin/R CMD check --install=check:MAGeCKFlute.install-out.txt --library=/home/biocbuild/bbs-3.11-bioc/R/library --no-vignettes --timings MAGeCKFlute_1.8.0.tar.gz ### ############################################################################## ############################################################################## * using log directory ‘/home/biocbuild/bbs-3.11-bioc/meat/MAGeCKFlute.Rcheck’ * using R version 4.0.2 (2020-06-22) * using platform: x86_64-pc-linux-gnu (64-bit) * using session charset: UTF-8 * using option ‘--no-vignettes’ * checking for file ‘MAGeCKFlute/DESCRIPTION’ ... OK * checking extension type ... Package * this is package ‘MAGeCKFlute’ version ‘1.8.0’ * package encoding: UTF-8 * checking package namespace information ... OK * checking package dependencies ... OK * checking if this is a source package ... OK * checking if there is a namespace ... OK * checking for hidden files and directories ... NOTE Found the following hidden files and directories: .travis.yml These were most likely included in error. See section ‘Package structure’ in the ‘Writing R Extensions’ manual. * checking for portable file names ... OK * checking for sufficient/correct file permissions ... OK * checking whether package ‘MAGeCKFlute’ can be installed ... OK * checking installed package size ... NOTE installed size is 13.2Mb sub-directories of 1Mb or more: extdata 12.7Mb * checking package directory ... OK * checking ‘build’ directory ... OK * checking DESCRIPTION meta-information ... OK * checking top-level files ... OK * checking for left-over files ... OK * checking index information ... OK * checking package subdirectories ... OK * checking R files for non-ASCII characters ... OK * checking R files for syntax errors ... OK * checking whether the package can be loaded ... OK * checking whether the package can be loaded with stated dependencies ... OK * checking whether the package can be unloaded cleanly ... OK * checking whether the namespace can be loaded with stated dependencies ... OK * checking whether the namespace can be unloaded cleanly ... OK * checking dependencies in R code ... OK * checking S3 generic/method consistency ... OK * checking replacement functions ... OK * checking foreign function calls ... OK * checking R code for possible problems ... OK * checking Rd files ... OK * checking Rd metadata ... OK * checking Rd cross-references ... OK * checking for missing documentation entries ... OK * checking for code/documentation mismatches ... OK * checking Rd \usage sections ... OK * checking Rd contents ... OK * checking for unstated dependencies in examples ... OK * checking files in ‘vignettes’ ... OK * checking examples ... OK Examples with CPU (user + system) or elapsed time > 5s user system elapsed enrich.ORT 13.132 0.120 13.252 arrangePathview 6.360 0.212 7.830 KeggPathwayView 4.496 0.096 6.649 * checking for unstated dependencies in vignettes ... OK * checking package vignettes in ‘inst/doc’ ... OK * checking running R code from vignettes ... SKIPPED * checking re-building of vignette outputs ... SKIPPED * checking PDF version of manual ... OK * DONE Status: 2 NOTEs See ‘/home/biocbuild/bbs-3.11-bioc/meat/MAGeCKFlute.Rcheck/00check.log’ for details.
MAGeCKFlute.Rcheck/00install.out
############################################################################## ############################################################################## ### ### Running command: ### ### /home/biocbuild/bbs-3.11-bioc/R/bin/R CMD INSTALL MAGeCKFlute ### ############################################################################## ############################################################################## * installing to library ‘/home/biocbuild/bbs-3.11-bioc/R/library’ * installing *source* package ‘MAGeCKFlute’ ... ** using staged installation ** R ** inst ** byte-compile and prepare package for lazy loading ** help *** installing help indices ** building package indices ** installing vignettes ** testing if installed package can be loaded from temporary location ** testing if installed package can be loaded from final location ** testing if installed package keeps a record of temporary installation path * DONE (MAGeCKFlute)
MAGeCKFlute.Rcheck/MAGeCKFlute-Ex.timings
name | user | system | elapsed | |
BarView | 0.869 | 0.000 | 0.870 | |
BatchRemove | 1.793 | 0.307 | 2.096 | |
ConsistencyView | 0.512 | 0.012 | 0.607 | |
CutoffCalling | 0.004 | 0.000 | 0.004 | |
DensityDiffView | 0.582 | 0.028 | 0.611 | |
DensityView | 0.496 | 0.012 | 0.508 | |
EnrichAnalyzer | 0.007 | 0.004 | 0.017 | |
EnrichedFilter | 0.010 | 0.000 | 0.011 | |
EnrichedGeneView | 0.01 | 0.00 | 0.01 | |
EnrichedView | 0.01 | 0.00 | 0.01 | |
FluteMLE | 0.001 | 0.000 | 0.000 | |
FluteRRA | 0.001 | 0.000 | 0.001 | |
HeatmapView | 0.124 | 0.000 | 0.125 | |
IdentBarView | 0.145 | 0.000 | 0.155 | |
IncorporateDepmap | 0.135 | 0.000 | 0.145 | |
KeggPathwayView | 4.496 | 0.096 | 6.649 | |
MAView | 2.736 | 0.028 | 2.766 | |
MapRatesView | 0.452 | 0.000 | 0.452 | |
NormalizeBeta | 0.356 | 0.000 | 0.367 | |
OmitCommonEssential | 0.068 | 0.000 | 0.068 | |
RankView | 0.630 | 0.004 | 0.634 | |
ReadBeta | 0.059 | 0.004 | 0.062 | |
ReadGMT | 0.426 | 0.000 | 0.432 | |
ReadRRA | 0.064 | 0.000 | 0.064 | |
ReadsgRRA | 0.740 | 0.012 | 0.943 | |
ResembleDepmap | 0.118 | 0.000 | 0.118 | |
ScatterView | 0.799 | 0.000 | 0.800 | |
Selector | 0.384 | 0.004 | 0.388 | |
SquareView | 0.989 | 0.000 | 0.989 | |
TransGeneID | 2.296 | 0.016 | 2.367 | |
ViolinView | 0.639 | 0.004 | 0.643 | |
VolcanoView | 0.767 | 0.008 | 0.775 | |
arrangePathview | 6.360 | 0.212 | 7.830 | |
enrich.GSE | 0.008 | 0.000 | 0.008 | |
enrich.HGT | 2.060 | 0.012 | 2.076 | |
enrich.ORT | 13.132 | 0.120 | 13.252 | |
getCols | 0.009 | 0.000 | 0.009 | |
getGeneAnn | 0 | 0 | 0 | |
getOrg | 0.001 | 0.000 | 0.001 | |
getOrtAnn | 0 | 0 | 0 | |
gsGetter | 0.266 | 0.000 | 0.267 | |
hclustView | 0.126 | 0.000 | 0.127 | |
normalize.loess | 0.256 | 0.004 | 0.260 | |
sgRankView | 0.963 | 0.000 | 0.964 | |