Back to Multiple platform build/check report for BioC 3.11 |
|
This page was generated on 2020-01-16 13:38:58 -0500 (Thu, 16 Jan 2020).
Package 1144/1818 | Hostname | OS / Arch | INSTALL | BUILD | CHECK | BUILD BIN | ||||||
NetPathMiner 1.23.0 Ahmed Mohamed
| malbec2 | Linux (Ubuntu 18.04.3 LTS) / x86_64 | OK | OK | WARNINGS | ![]() | ||||||
tokay2 | Windows Server 2012 R2 Standard / x64 | OK | OK | OK | OK | ![]() | ||||||
celaya2 | OS X 10.11.6 El Capitan / x86_64 | OK | [ OK ] | WARNINGS | OK | ![]() |
Package: NetPathMiner |
Version: 1.23.0 |
Command: /Library/Frameworks/R.framework/Versions/Current/Resources/bin/R CMD build --keep-empty-dirs --no-resave-data NetPathMiner |
StartedAt: 2020-01-15 21:29:30 -0500 (Wed, 15 Jan 2020) |
EndedAt: 2020-01-15 21:30:41 -0500 (Wed, 15 Jan 2020) |
EllapsedTime: 70.6 seconds |
RetCode: 0 |
Status: OK |
PackageFile: NetPathMiner_1.23.0.tar.gz |
PackageFileSize: 2.996 MiB |
############################################################################## ############################################################################## ### ### Running command: ### ### /Library/Frameworks/R.framework/Versions/Current/Resources/bin/R CMD build --keep-empty-dirs --no-resave-data NetPathMiner ### ############################################################################## ############################################################################## * checking for file ‘NetPathMiner/DESCRIPTION’ ... OK * preparing ‘NetPathMiner’: * checking DESCRIPTION meta-information ... OK * cleaning src * running ‘cleanup’ * installing the package to build vignettes * creating vignettes ... OK * cleaning src * running ‘cleanup’ * checking for LF line-endings in source and make files and shell scripts * checking for empty or unneeded directories * looking to see if a ‘data/datalist’ file should be added * building ‘NetPathMiner_1.23.0.tar.gz’