Back to Multiple platform build/check report for BioC 3.11 |
|
This page was generated on 2020-10-17 11:57:29 -0400 (Sat, 17 Oct 2020).
TO THE DEVELOPERS/MAINTAINERS OF THE ProteomicsAnnotationHubData PACKAGE: Please make sure to use the following settings in order to reproduce any error or warning you see on this page. |
Package 1368/1905 | Hostname | OS / Arch | INSTALL | BUILD | CHECK | BUILD BIN | ||||||
ProteomicsAnnotationHubData 1.18.0 Laurent Gatto
| malbec2 | Linux (Ubuntu 18.04.4 LTS) / x86_64 | OK | OK | OK | ![]() | ||||||
tokay2 | Windows Server 2012 R2 Standard / x64 | OK | OK | OK | [ OK ] | ![]() | ||||||
machv2 | macOS 10.14.6 Mojave / x86_64 | OK | OK | OK | OK | ![]() |
Package: ProteomicsAnnotationHubData |
Version: 1.18.0 |
Command: rm -rf ProteomicsAnnotationHubData.buildbin-libdir && mkdir ProteomicsAnnotationHubData.buildbin-libdir && C:\Users\biocbuild\bbs-3.11-bioc\R\bin\R.exe CMD INSTALL --merge-multiarch --build --library=ProteomicsAnnotationHubData.buildbin-libdir ProteomicsAnnotationHubData_1.18.0.tar.gz |
StartedAt: 2020-10-17 11:20:52 -0400 (Sat, 17 Oct 2020) |
EndedAt: 2020-10-17 11:22:16 -0400 (Sat, 17 Oct 2020) |
EllapsedTime: 83.9 seconds |
RetCode: 0 |
Status: OK |
PackageFile: ProteomicsAnnotationHubData_1.18.0.zip |
PackageFileSize: 301.6 KiB |
############################################################################## ############################################################################## ### ### Running command: ### ### rm -rf ProteomicsAnnotationHubData.buildbin-libdir && mkdir ProteomicsAnnotationHubData.buildbin-libdir && C:\Users\biocbuild\bbs-3.11-bioc\R\bin\R.exe CMD INSTALL --merge-multiarch --build --library=ProteomicsAnnotationHubData.buildbin-libdir ProteomicsAnnotationHubData_1.18.0.tar.gz ### ############################################################################## ############################################################################## install for i386 * installing *source* package 'ProteomicsAnnotationHubData' ... ** using staged installation ** R ** inst ** byte-compile and prepare package for lazy loading ** help *** installing help indices converting help for package 'ProteomicsAnnotationHubData' finding HTML links ... done PAHD-class html PAHD html ProteomicsAnnotationHubData html identicalRemLoc html makeAnnotationHubMetadata html readPahdFiles html writePahdTemplate html ** building package indices ** installing vignettes ** testing if installed package can be loaded from temporary location ** testing if installed package can be loaded from final location ** testing if installed package keeps a record of temporary installation path install for x64 * installing *source* package 'ProteomicsAnnotationHubData' ... ** testing if installed package can be loaded * MD5 sums packaged installation of 'ProteomicsAnnotationHubData' as ProteomicsAnnotationHubData_1.18.0.zip * DONE (ProteomicsAnnotationHubData)