Back to Multiple platform build/check report for BioC 3.11 |
|
This page was generated on 2020-01-16 13:35:30 -0500 (Thu, 16 Jan 2020).
Package 1441/1818 | Hostname | OS / Arch | INSTALL | BUILD | CHECK | BUILD BIN | ||||||
RMassBank 2.15.3 RMassBank at Eawag
| malbec2 | Linux (Ubuntu 18.04.3 LTS) / x86_64 | OK | OK | WARNINGS | |||||||
tokay2 | Windows Server 2012 R2 Standard / x64 | OK | OK | WARNINGS | OK | |||||||
celaya2 | OS X 10.11.6 El Capitan / x86_64 | OK | OK | WARNINGS | [ OK ] |
Package: RMassBank |
Version: 2.15.3 |
Command: rm -rf RMassBank.buildbin-libdir && mkdir RMassBank.buildbin-libdir && /Users/biocbuild/BBS/utils/build-universal.sh RMassBank_2.15.3.tar.gz /Library/Frameworks/R.framework/Versions/Current/Resources/bin/R RMassBank.buildbin-libdir |
StartedAt: 2020-01-16 11:40:20 -0500 (Thu, 16 Jan 2020) |
EndedAt: 2020-01-16 11:41:00 -0500 (Thu, 16 Jan 2020) |
EllapsedTime: 39.5 seconds |
RetCode: 0 |
Status: OK |
PackageFile: RMassBank_2.15.3.tgz |
PackageFileSize: 1.917 MiB |
############################################################################## ############################################################################## ### ### Running command: ### ### rm -rf RMassBank.buildbin-libdir && mkdir RMassBank.buildbin-libdir && /Users/biocbuild/BBS/utils/build-universal.sh RMassBank_2.15.3.tar.gz /Library/Frameworks/R.framework/Versions/Current/Resources/bin/R RMassBank.buildbin-libdir ### ############################################################################## ############################################################################## >>>>>>> >>>>>>> INSTALLATION WITH 'R CMD INSTALL --preclean --no-multiarch --library=RMassBank.buildbin-libdir RMassBank_2.15.3.tar.gz' >>>>>>> * installing *source* package ‘RMassBank’ ... ** using staged installation ** R ** inst ** byte-compile and prepare package for lazy loading ** help *** installing help indices ** building package indices ** installing vignettes ** testing if installed package can be loaded from temporary location ** testing if installed package can be loaded from final location ** testing if installed package keeps a record of temporary installation path * DONE (RMassBank)