Back to Multiple platform build/check report for BioC 3.11 |
|
This page was generated on 2020-10-17 11:59:29 -0400 (Sat, 17 Oct 2020).
TO THE DEVELOPERS/MAINTAINERS OF THE RUVcorr PACKAGE: Please make sure to use the following settings in order to reproduce any error or warning you see on this page. |
Package 1559/1905 | Hostname | OS / Arch | INSTALL | BUILD | CHECK | BUILD BIN | ||||||
RUVcorr 1.20.0 Saskia Freytag
| malbec2 | Linux (Ubuntu 18.04.4 LTS) / x86_64 | OK | OK | OK | |||||||
tokay2 | Windows Server 2012 R2 Standard / x64 | OK | OK | OK | OK | |||||||
machv2 | macOS 10.14.6 Mojave / x86_64 | OK | OK | [ OK ] | OK |
Package: RUVcorr |
Version: 1.20.0 |
Command: /Library/Frameworks/R.framework/Versions/Current/Resources/bin/R CMD check --install=check:RUVcorr.install-out.txt --library=/Library/Frameworks/R.framework/Versions/Current/Resources/library --no-vignettes --timings RUVcorr_1.20.0.tar.gz |
StartedAt: 2020-10-17 04:56:27 -0400 (Sat, 17 Oct 2020) |
EndedAt: 2020-10-17 04:57:31 -0400 (Sat, 17 Oct 2020) |
EllapsedTime: 64.5 seconds |
RetCode: 0 |
Status: OK |
CheckDir: RUVcorr.Rcheck |
Warnings: 0 |
############################################################################## ############################################################################## ### ### Running command: ### ### /Library/Frameworks/R.framework/Versions/Current/Resources/bin/R CMD check --install=check:RUVcorr.install-out.txt --library=/Library/Frameworks/R.framework/Versions/Current/Resources/library --no-vignettes --timings RUVcorr_1.20.0.tar.gz ### ############################################################################## ############################################################################## * using log directory ‘/Users/biocbuild/bbs-3.11-bioc/meat/RUVcorr.Rcheck’ * using R version 4.0.3 (2020-10-10) * using platform: x86_64-apple-darwin17.0 (64-bit) * using session charset: UTF-8 * using option ‘--no-vignettes’ * checking for file ‘RUVcorr/DESCRIPTION’ ... OK * checking extension type ... Package * this is package ‘RUVcorr’ version ‘1.20.0’ * checking package namespace information ... OK * checking package dependencies ... OK * checking if this is a source package ... OK * checking if there is a namespace ... OK * checking for hidden files and directories ... OK * checking for portable file names ... OK * checking for sufficient/correct file permissions ... OK * checking whether package ‘RUVcorr’ can be installed ... OK * checking installed package size ... OK * checking package directory ... OK * checking ‘build’ directory ... OK * checking DESCRIPTION meta-information ... OK * checking top-level files ... OK * checking for left-over files ... OK * checking index information ... OK * checking package subdirectories ... OK * checking R files for non-ASCII characters ... OK * checking R files for syntax errors ... OK * checking whether the package can be loaded ... OK * checking whether the package can be loaded with stated dependencies ... OK * checking whether the package can be unloaded cleanly ... OK * checking whether the namespace can be loaded with stated dependencies ... OK * checking whether the namespace can be unloaded cleanly ... OK * checking dependencies in R code ... OK * checking S3 generic/method consistency ... OK * checking replacement functions ... OK * checking foreign function calls ... OK * checking R code for possible problems ... OK * checking Rd files ... OK * checking Rd metadata ... OK * checking Rd cross-references ... OK * checking for missing documentation entries ... OK * checking for code/documentation mismatches ... OK * checking Rd \usage sections ... OK * checking Rd contents ... OK * checking for unstated dependencies in examples ... OK * checking files in ‘vignettes’ ... OK * checking examples ... OK * checking for unstated dependencies in vignettes ... OK * checking package vignettes in ‘inst/doc’ ... OK * checking running R code from vignettes ... SKIPPED * checking re-building of vignette outputs ... SKIPPED * checking PDF version of manual ... OK * DONE Status: OK
RUVcorr.Rcheck/00install.out
############################################################################## ############################################################################## ### ### Running command: ### ### /Library/Frameworks/R.framework/Versions/Current/Resources/bin/R CMD INSTALL RUVcorr ### ############################################################################## ############################################################################## * installing to library ‘/Library/Frameworks/R.framework/Versions/4.0/Resources/library’ * installing *source* package ‘RUVcorr’ ... ** using staged installation ** R ** inst ** byte-compile and prepare package for lazy loading ** help *** installing help indices ** building package indices ** installing vignettes ** testing if installed package can be loaded from temporary location ** testing if installed package can be loaded from final location ** testing if installed package keeps a record of temporary installation path * DONE (RUVcorr)
RUVcorr.Rcheck/RUVcorr-Ex.timings
name | user | system | elapsed | |
ECDFPlot | 0.686 | 0.040 | 0.731 | |
PCAPlot | 2.154 | 0.046 | 2.204 | |
RLEPlot | 2.526 | 0.132 | 2.663 | |
RUVNaiveRidge | 0.553 | 0.016 | 0.569 | |
assessQuality | 0.086 | 0.005 | 0.091 | |
background | 0.089 | 0.018 | 0.106 | |
calculateThreshold | 1.858 | 0.075 | 1.934 | |
compareRanks | 0.979 | 0.024 | 1.005 | |
correlationPlot | 0.122 | 0.009 | 0.131 | |
eigenvaluePlot | 0.305 | 0.003 | 0.311 | |
empNegativeControls | 0.234 | 0.008 | 0.243 | |
findWeights | 0.329 | 0.022 | 0.352 | |
genePlot | 0.293 | 0.014 | 0.307 | |
histogramPlot | 0.364 | 0.013 | 0.377 | |
is.optimizeParameters | 0 | 0 | 0 | |
is.simulateGEdata | 0 | 0 | 0 | |
optimizeParameters | 1.909 | 0.043 | 1.953 | |
plot.optimizeParameters | 2.144 | 0.044 | 2.193 | |
plotDesign | 0.799 | 0.028 | 0.828 | |
plotThreshold | 1.732 | 0.043 | 1.776 | |
print.simulateGEdata | 0.001 | 0.000 | 0.000 | |
prioritise | 0.508 | 0.041 | 0.549 | |
simulateGEdata | 0.400 | 0.013 | 0.414 | |
wcor | 0.482 | 0.018 | 0.501 | |