Back to Multiple platform build/check report for BioC 3.11 |
|
This page was generated on 2020-01-16 13:55:19 -0500 (Thu, 16 Jan 2020).
Package 1393/1818 | Hostname | OS / Arch | INSTALL | BUILD | CHECK | BUILD BIN | ||||||
ReactomeGSA 1.1.0 Johannes Griss
| malbec2 | Linux (Ubuntu 18.04.3 LTS) / x86_64 | OK | OK | OK | |||||||
tokay2 | Windows Server 2012 R2 Standard / x64 | OK | OK | OK | OK | |||||||
celaya2 | OS X 10.11.6 El Capitan / x86_64 | [ OK ] | OK | OK | OK |
Package: ReactomeGSA |
Version: 1.1.0 |
Command: /Library/Frameworks/R.framework/Versions/Current/Resources/bin/R CMD INSTALL ReactomeGSA |
StartedAt: 2020-01-15 18:21:18 -0500 (Wed, 15 Jan 2020) |
EndedAt: 2020-01-15 18:21:42 -0500 (Wed, 15 Jan 2020) |
EllapsedTime: 24.4 seconds |
RetCode: 0 |
Status: OK |
############################################################################## ############################################################################## ### ### Running command: ### ### /Library/Frameworks/R.framework/Versions/Current/Resources/bin/R CMD INSTALL ReactomeGSA ### ############################################################################## ############################################################################## * installing to library ‘/Library/Frameworks/R.framework/Versions/4.0/Resources/library’ * installing *source* package ‘ReactomeGSA’ ... ** using staged installation ** R ** byte-compile and prepare package for lazy loading in method for ‘add_dataset’ with signature ‘request="ReactomeAnalysisRequest",expression_values="EList"’: no definition for class “EList” in method for ‘add_dataset’ with signature ‘request="ReactomeAnalysisRequest",expression_values="DGEList"’: no definition for class “DGEList” in method for ‘add_dataset’ with signature ‘request="ReactomeAnalysisRequest",expression_values="ExpressionSet"’: no definition for class “ExpressionSet” ** help *** installing help indices ** building package indices ** installing vignettes ** testing if installed package can be loaded from temporary location ** testing if installed package can be loaded from final location ** testing if installed package keeps a record of temporary installation path * DONE (ReactomeGSA)