Back to Multiple platform build/check report for BioC 3.11 |
|
This page was generated on 2020-01-16 13:53:17 -0500 (Thu, 16 Jan 2020).
Package 1613/1818 | Hostname | OS / Arch | INSTALL | BUILD | CHECK | BUILD BIN | ||||||
SMAD 1.3.1 Qingzhou Zhang
| malbec2 | Linux (Ubuntu 18.04.3 LTS) / x86_64 | OK | OK | OK | |||||||
tokay2 | Windows Server 2012 R2 Standard / x64 | OK | OK | OK | OK | |||||||
celaya2 | OS X 10.11.6 El Capitan / x86_64 | OK | OK | OK | [ OK ] |
Package: SMAD |
Version: 1.3.1 |
Command: rm -rf SMAD.buildbin-libdir && mkdir SMAD.buildbin-libdir && /Users/biocbuild/BBS/utils/build-universal.sh SMAD_1.3.1.tar.gz /Library/Frameworks/R.framework/Versions/Current/Resources/bin/R SMAD.buildbin-libdir |
StartedAt: 2020-01-16 11:51:28 -0500 (Thu, 16 Jan 2020) |
EndedAt: 2020-01-16 11:52:15 -0500 (Thu, 16 Jan 2020) |
EllapsedTime: 47.0 seconds |
RetCode: 0 |
Status: OK |
PackageFile: SMAD_1.3.1.tgz |
PackageFileSize: 524.1 KiB |
############################################################################## ############################################################################## ### ### Running command: ### ### rm -rf SMAD.buildbin-libdir && mkdir SMAD.buildbin-libdir && /Users/biocbuild/BBS/utils/build-universal.sh SMAD_1.3.1.tar.gz /Library/Frameworks/R.framework/Versions/Current/Resources/bin/R SMAD.buildbin-libdir ### ############################################################################## ############################################################################## >>>>>>> >>>>>>> INSTALLATION WITH 'R CMD INSTALL --preclean --no-multiarch --library=SMAD.buildbin-libdir SMAD_1.3.1.tar.gz' >>>>>>> * installing *source* package ‘SMAD’ ... ** using staged installation ** libs clang++ -std=gnu++11 -I"/Library/Frameworks/R.framework/Resources/include" -DNDEBUG -I'/Library/Frameworks/R.framework/Versions/4.0/Resources/library/Rcpp/include' -isysroot /Library/Developer/CommandLineTools/SDKs/MacOSX.sdk -I/usr/local/include -fPIC -Wall -g -O2 -c GetPPN.cpp -o GetPPN.o clang++ -std=gnu++11 -I"/Library/Frameworks/R.framework/Resources/include" -DNDEBUG -I'/Library/Frameworks/R.framework/Versions/4.0/Resources/library/Rcpp/include' -isysroot /Library/Developer/CommandLineTools/SDKs/MacOSX.sdk -I/usr/local/include -fPIC -Wall -g -O2 -c RcppExports.cpp -o RcppExports.o clang++ -std=gnu++11 -dynamiclib -Wl,-headerpad_max_install_names -undefined dynamic_lookup -single_module -multiply_defined suppress -L/Library/Frameworks/R.framework/Resources/lib -L/usr/local/lib -o SMAD.so GetPPN.o RcppExports.o -F/Library/Frameworks/R.framework/.. -framework R -Wl,-framework -Wl,CoreFoundation installing to /Users/biocbuild/bbs-3.11-bioc/meat/SMAD.buildbin-libdir/00LOCK-SMAD/00new/SMAD/libs ** R ** data *** moving datasets to lazyload DB ** inst ** byte-compile and prepare package for lazy loading ** help *** installing help indices ** building package indices ** installing vignettes ** testing if installed package can be loaded from temporary location ** checking absolute paths in shared objects and dynamic libraries ** testing if installed package can be loaded from final location ** testing if installed package keeps a record of temporary installation path * DONE (SMAD) >>>>>>> >>>>>>> FIXING LINKS FOR SMAD.buildbin-libdir/SMAD/libs//SMAD.so >>>>>>> install_name_tool -change "/usr/local/lib/libgcc_s.1.dylib" "/Library/Frameworks/R.framework/Versions/4.0/Resources/lib/libgcc_s.1.dylib" "SMAD.buildbin-libdir/SMAD/libs//SMAD.so" install_name_tool -change "/usr/local/lib/libgfortran.3.dylib" "/Library/Frameworks/R.framework/Versions/4.0/Resources/lib/libgfortran.3.dylib" "SMAD.buildbin-libdir/SMAD/libs//SMAD.so" install_name_tool -change "/usr/local/lib/libreadline.5.2.dylib" "/Library/Frameworks/R.framework/Versions/4.0/Resources/lib/libreadline.5.2.dylib" "SMAD.buildbin-libdir/SMAD/libs//SMAD.so" install_name_tool -change "/usr/local/lib/libreadline.dylib" "/Library/Frameworks/R.framework/Versions/4.0/Resources/lib/libreadline.dylib" "SMAD.buildbin-libdir/SMAD/libs//SMAD.so" install_name_tool -change "/usr/local/lib/libquadmath.0.dylib" "/Library/Frameworks/R.framework/Versions/4.0/Resources/lib/libquadmath.0.dylib" "SMAD.buildbin-libdir/SMAD/libs//SMAD.so"