Back to Multiple platform build/check report for BioC 3.11
ABCDEFGHIJKLMNOPQR[S]TUVWXYZ

BUILD BIN report for STRINGdb on tokay2

This page was generated on 2020-10-16 11:58:59 -0400 (Fri, 16 Oct 2020).

TO THE DEVELOPERS/MAINTAINERS OF THE STRINGdb PACKAGE: Please make sure to use the following settings in order to reproduce any error or warning you see on this page.
Package 1749/1905HostnameOS / ArchINSTALLBUILDCHECKBUILD BIN
STRINGdb 2.0.2
Damian Szklarczyk
Snapshot Date: 2020-10-15 14:40:03 -0400 (Thu, 15 Oct 2020)
URL: https://git.bioconductor.org/packages/STRINGdb
Branch: RELEASE_3_11
Last Commit: 9880d9a
Last Changed Date: 2020-07-16 04:06:57 -0400 (Thu, 16 Jul 2020)
malbec2 Linux (Ubuntu 18.04.4 LTS) / x86_64  OK  OK  OK UNNEEDED, same version exists in internal repository
tokay2 Windows Server 2012 R2 Standard / x64  OK  OK  OK [ OK ]UNNEEDED, same version exists in internal repository
machv2 macOS 10.14.6 Mojave / x86_64  OK  OK  OK  OK UNNEEDED, same version exists in internal repository

Summary

Package: STRINGdb
Version: 2.0.2
Command: rm -rf STRINGdb.buildbin-libdir && mkdir STRINGdb.buildbin-libdir && C:\Users\biocbuild\bbs-3.11-bioc\R\bin\R.exe CMD INSTALL --merge-multiarch --build --library=STRINGdb.buildbin-libdir STRINGdb_2.0.2.tar.gz
StartedAt: 2020-10-16 11:25:48 -0400 (Fri, 16 Oct 2020)
EndedAt: 2020-10-16 11:26:31 -0400 (Fri, 16 Oct 2020)
EllapsedTime: 43.1 seconds
RetCode: 0
Status:  OK  
PackageFile: STRINGdb_2.0.2.zip
PackageFileSize: 8.829 MiB

Command output

##############################################################################
##############################################################################
###
### Running command:
###
###   rm -rf STRINGdb.buildbin-libdir && mkdir STRINGdb.buildbin-libdir && C:\Users\biocbuild\bbs-3.11-bioc\R\bin\R.exe CMD INSTALL --merge-multiarch --build --library=STRINGdb.buildbin-libdir STRINGdb_2.0.2.tar.gz
###
##############################################################################
##############################################################################



install for i386

* installing *source* package 'STRINGdb' ...
** using staged installation
** R
** data
** inst
** byte-compile and prepare package for lazy loading
** help
*** installing help indices
  converting help for package 'STRINGdb'
    finding HTML links ... done
    STRINGdb-class                          html  
    add_diff_exp_color                      html  
    add_proteins_description                html  
    coeffOfvar                              html  
    delColDf                                html  
    diff_exp_example1                       html  
    downloadAbsentFile                      html  
    downloadAbsentFileSTRING                html  
    get_aliases                             html  
    get_annotations                         html  
    get_annotations_desc                    html  
    get_bioc_graph                          html  
    get_clusters                            html  
    get_enrichment                          html  
    get_graph                               html  
    get_homologs_besthits                   html  
    get_interactions                        html  
    get_link                                html  
    get_neighbors                           html  
    get_paralogs                            html  
    get_png                                 html  
    get_ppi_enrichment                      html  
    get_proteins                            html  
    get_subnetwork                          html  
    get_summary                             html  
    get_term_proteins                       html  
    interactions                            html  
    load                                    html  
    load_all                                html  
    map                                     html  
    mp                                      html  
    multi_map_df                            html  
    plot_network                            html  
    post_payload                            html  
    remove_homologous_interactions          html  
    renameColDf                             html  
    set_background                          html  
** building package indices
** installing vignettes
** testing if installed package can be loaded from temporary location
** testing if installed package can be loaded from final location
** testing if installed package keeps a record of temporary installation path

install for x64

* installing *source* package 'STRINGdb' ...
** testing if installed package can be loaded
* MD5 sums
packaged installation of 'STRINGdb' as STRINGdb_2.0.2.zip
* DONE (STRINGdb)