Back to Multiple platform build/check report for BioC 3.11 |
|
This page was generated on 2020-01-16 13:54:26 -0500 (Thu, 16 Jan 2020).
Package 1676/1818 | Hostname | OS / Arch | INSTALL | BUILD | CHECK | BUILD BIN | ||||||
StructuralVariantAnnotation 1.3.0 Daniel Cameron
| malbec2 | Linux (Ubuntu 18.04.3 LTS) / x86_64 | OK | OK | OK | |||||||
tokay2 | Windows Server 2012 R2 Standard / x64 | OK | OK | OK | NA | |||||||
celaya2 | OS X 10.11.6 El Capitan / x86_64 | OK | [ OK ] | OK | OK |
Package: StructuralVariantAnnotation |
Version: 1.3.0 |
Command: /Library/Frameworks/R.framework/Versions/Current/Resources/bin/R CMD build --keep-empty-dirs --no-resave-data StructuralVariantAnnotation |
StartedAt: 2020-01-16 00:43:56 -0500 (Thu, 16 Jan 2020) |
EndedAt: 2020-01-16 00:46:01 -0500 (Thu, 16 Jan 2020) |
EllapsedTime: 125.0 seconds |
RetCode: 0 |
Status: OK |
PackageFile: StructuralVariantAnnotation_1.3.0.tar.gz |
PackageFileSize: 1012 KiB |
############################################################################## ############################################################################## ### ### Running command: ### ### /Library/Frameworks/R.framework/Versions/Current/Resources/bin/R CMD build --keep-empty-dirs --no-resave-data StructuralVariantAnnotation ### ############################################################################## ############################################################################## * checking for file ‘StructuralVariantAnnotation/DESCRIPTION’ ... OK * preparing ‘StructuralVariantAnnotation’: * checking DESCRIPTION meta-information ... OK * installing the package to build vignettes * creating vignettes ... OK * checking for LF line-endings in source and make files and shell scripts * checking for empty or unneeded directories * building ‘StructuralVariantAnnotation_1.3.0.tar.gz’