Back to Multiple platform build/check report for BioC 3.11 |
|
This page was generated on 2020-01-16 13:48:01 -0500 (Thu, 16 Jan 2020).
Package 1759/1818 | Hostname | OS / Arch | INSTALL | BUILD | CHECK | BUILD BIN | ||||||
TSRchitect 1.13.3 R. Taylor Raborn
| malbec2 | Linux (Ubuntu 18.04.3 LTS) / x86_64 | OK | OK | WARNINGS | |||||||
tokay2 | Windows Server 2012 R2 Standard / x64 | OK | OK | WARNINGS | NA | |||||||
celaya2 | OS X 10.11.6 El Capitan / x86_64 | OK | [ OK ] | WARNINGS | OK |
Package: TSRchitect |
Version: 1.13.3 |
Command: /Library/Frameworks/R.framework/Versions/Current/Resources/bin/R CMD build --keep-empty-dirs --no-resave-data TSRchitect |
StartedAt: 2020-01-15 23:26:16 -0500 (Wed, 15 Jan 2020) |
EndedAt: 2020-01-15 23:27:36 -0500 (Wed, 15 Jan 2020) |
EllapsedTime: 79.3 seconds |
RetCode: 0 |
Status: OK |
PackageFile: TSRchitect_1.13.3.tar.gz |
PackageFileSize: 867.5 KiB |
############################################################################## ############################################################################## ### ### Running command: ### ### /Library/Frameworks/R.framework/Versions/Current/Resources/bin/R CMD build --keep-empty-dirs --no-resave-data TSRchitect ### ############################################################################## ############################################################################## * checking for file ‘TSRchitect/DESCRIPTION’ ... OK * preparing ‘TSRchitect’: * checking DESCRIPTION meta-information ... OK * installing the package to build vignettes * creating vignettes ... OK * excluding invalid files Subdirectory 'demo' contains invalid file names: ‘HOWTO.md’ ‘xdemo1’ ‘xdemo2’ ‘xdemo3’ * checking for LF line-endings in source and make files and shell scripts * checking for empty or unneeded directories WARNING: directory ‘TSRchitect/demo’ is empty * building ‘TSRchitect_1.13.3.tar.gz’