Back to Multiple platform build/check report for BioC 3.11
ABCDEFGHIJKLMNOPQRS[T]UVWXYZ

BUILD BIN report for TSRchitect on tokay2

This page was generated on 2020-10-16 11:59:06 -0400 (Fri, 16 Oct 2020).

TO THE DEVELOPERS/MAINTAINERS OF THE TSRchitect PACKAGE: Please make sure to use the following settings in order to reproduce any error or warning you see on this page.
Package 1844/1905HostnameOS / ArchINSTALLBUILDCHECKBUILD BIN
TSRchitect 1.14.0
R. Taylor Raborn
Snapshot Date: 2020-10-15 14:40:03 -0400 (Thu, 15 Oct 2020)
URL: https://git.bioconductor.org/packages/TSRchitect
Branch: RELEASE_3_11
Last Commit: 6b7d9e3
Last Changed Date: 2020-04-27 15:07:46 -0400 (Mon, 27 Apr 2020)
malbec2 Linux (Ubuntu 18.04.4 LTS) / x86_64  OK  OK  WARNINGS UNNEEDED, same version exists in internal repository
tokay2 Windows Server 2012 R2 Standard / x64  OK  OK  WARNINGS [ OK ]UNNEEDED, same version exists in internal repository
machv2 macOS 10.14.6 Mojave / x86_64  OK  OK  WARNINGS  OK UNNEEDED, same version exists in internal repository

Summary

Package: TSRchitect
Version: 1.14.0
Command: rm -rf TSRchitect.buildbin-libdir && mkdir TSRchitect.buildbin-libdir && C:\Users\biocbuild\bbs-3.11-bioc\R\bin\R.exe CMD INSTALL --merge-multiarch --build --library=TSRchitect.buildbin-libdir TSRchitect_1.14.0.tar.gz
StartedAt: 2020-10-16 11:31:54 -0400 (Fri, 16 Oct 2020)
EndedAt: 2020-10-16 11:32:45 -0400 (Fri, 16 Oct 2020)
EllapsedTime: 51.4 seconds
RetCode: 0
Status:  OK  
PackageFile: TSRchitect_1.14.0.zip
PackageFileSize: 1.257 MiB

Command output

##############################################################################
##############################################################################
###
### Running command:
###
###   rm -rf TSRchitect.buildbin-libdir && mkdir TSRchitect.buildbin-libdir && C:\Users\biocbuild\bbs-3.11-bioc\R\bin\R.exe CMD INSTALL --merge-multiarch --build --library=TSRchitect.buildbin-libdir TSRchitect_1.14.0.tar.gz
###
##############################################################################
##############################################################################



install for i386

* installing *source* package 'TSRchitect' ...
** using staged installation
** R
** inst
** byte-compile and prepare package for lazy loading
** help
*** installing help indices
  converting help for package 'TSRchitect'
    finding HTML links ... done
    TSRchitectUsersGuide                    html  
    TSRmshapeIndex                          html  
    TSRshapeIndex                           html  
    addAnnotationToTSR-methods              html  
    finding level-2 HTML links ... done

    addTagCountsToTSR-methods               html  
    bedToTSS-methods                        html  
    createSummarizedExperiment-methods      html  
    detTSR-methods                          html  
    determineTSR-methods                    html  
    getBamDataFirstRead-methods             html  
    getBamDataLastRead-methods              html  
    getFileNames-methods                    html  
    getTSRdata-methods                      html  
    getTSScountData-methods                 html  
    getTSStagData-methods                   html  
    getTitle-methods                        html  
    gsq2bed-methods                         html  
    importAnnotationExternal-methods        html  
    importAnnotationHub-methods             html  
    inputToTSS-methods                      html  
    loadTSSobj-methods                      html  
    makeGRangesFromTSR-methods              html  
    mergeSampleData-methods                 html  
    prcTSS                                  html  
    processTSS-methods                      html  
    tagCountTSS                             html  
    tsrCluster                              html  
    tssArrayProperties                      html  
    tssObject                               html  
    writeTSR-methods                        html  
    writeTSS-methods                        html  
** building package indices
** installing vignettes
** testing if installed package can be loaded from temporary location
** testing if installed package can be loaded from final location
** testing if installed package keeps a record of temporary installation path

install for x64

* installing *source* package 'TSRchitect' ...
** testing if installed package can be loaded
* MD5 sums
packaged installation of 'TSRchitect' as TSRchitect_1.14.0.zip
* DONE (TSRchitect)