Back to Multiple platform build/check report for BioC 3.11 |
|
This page was generated on 2020-01-16 13:35:44 -0500 (Thu, 16 Jan 2020).
Package 38/1818 | Hostname | OS / Arch | INSTALL | BUILD | CHECK | BUILD BIN | ||||||
agilp 3.19.0 Benny Chain
| malbec2 | Linux (Ubuntu 18.04.3 LTS) / x86_64 | OK | OK | OK | ![]() | ||||||
tokay2 | Windows Server 2012 R2 Standard / x64 | OK | OK | OK | OK | ![]() | ||||||
celaya2 | OS X 10.11.6 El Capitan / x86_64 | OK | OK | OK | [ OK ] | ![]() |
Package: agilp |
Version: 3.19.0 |
Command: rm -rf agilp.buildbin-libdir && mkdir agilp.buildbin-libdir && /Users/biocbuild/BBS/utils/build-universal.sh agilp_3.19.0.tar.gz /Library/Frameworks/R.framework/Versions/Current/Resources/bin/R agilp.buildbin-libdir |
StartedAt: 2020-01-16 10:24:50 -0500 (Thu, 16 Jan 2020) |
EndedAt: 2020-01-16 10:25:11 -0500 (Thu, 16 Jan 2020) |
EllapsedTime: 21.0 seconds |
RetCode: 0 |
Status: OK |
PackageFile: agilp_3.19.0.tgz |
PackageFileSize: 448.8 KiB |
############################################################################## ############################################################################## ### ### Running command: ### ### rm -rf agilp.buildbin-libdir && mkdir agilp.buildbin-libdir && /Users/biocbuild/BBS/utils/build-universal.sh agilp_3.19.0.tar.gz /Library/Frameworks/R.framework/Versions/Current/Resources/bin/R agilp.buildbin-libdir ### ############################################################################## ############################################################################## >>>>>>> >>>>>>> INSTALLATION WITH 'R CMD INSTALL --preclean --no-multiarch --library=agilp.buildbin-libdir agilp_3.19.0.tar.gz' >>>>>>> * installing *source* package ‘agilp’ ... ** using staged installation ** R ** inst ** byte-compile and prepare package for lazy loading ** help *** installing help indices ** building package indices ** installing vignettes ** testing if installed package can be loaded from temporary location ** testing if installed package can be loaded from final location ** testing if installed package keeps a record of temporary installation path * DONE (agilp)