Back to Multiple platform build/check report for BioC 3.11 |
|
This page was generated on 2020-01-16 13:30:20 -0500 (Thu, 16 Jan 2020).
Package 76/1818 | Hostname | OS / Arch | INSTALL | BUILD | CHECK | BUILD BIN | ||||||
aroma.light 3.17.1 Henrik Bengtsson
| malbec2 | Linux (Ubuntu 18.04.3 LTS) / x86_64 | OK | OK | OK | |||||||
tokay2 | Windows Server 2012 R2 Standard / x64 | OK | OK | OK | OK | |||||||
celaya2 | OS X 10.11.6 El Capitan / x86_64 | OK | OK | OK | [ OK ] |
Package: aroma.light |
Version: 3.17.1 |
Command: rm -rf aroma.light.buildbin-libdir && mkdir aroma.light.buildbin-libdir && /Users/biocbuild/BBS/utils/build-universal.sh aroma.light_3.17.1.tar.gz /Library/Frameworks/R.framework/Versions/Current/Resources/bin/R aroma.light.buildbin-libdir |
StartedAt: 2020-01-16 10:26:53 -0500 (Thu, 16 Jan 2020) |
EndedAt: 2020-01-16 10:27:10 -0500 (Thu, 16 Jan 2020) |
EllapsedTime: 17.5 seconds |
RetCode: 0 |
Status: OK |
PackageFile: aroma.light_3.17.1.tgz |
PackageFileSize: 595.3 KiB |
############################################################################## ############################################################################## ### ### Running command: ### ### rm -rf aroma.light.buildbin-libdir && mkdir aroma.light.buildbin-libdir && /Users/biocbuild/BBS/utils/build-universal.sh aroma.light_3.17.1.tar.gz /Library/Frameworks/R.framework/Versions/Current/Resources/bin/R aroma.light.buildbin-libdir ### ############################################################################## ############################################################################## >>>>>>> >>>>>>> INSTALLATION WITH 'R CMD INSTALL --preclean --no-multiarch --library=aroma.light.buildbin-libdir aroma.light_3.17.1.tar.gz' >>>>>>> * installing *source* package ‘aroma.light’ ... ** using staged installation ** R ** inst ** byte-compile and prepare package for lazy loading ** help *** installing help indices ** building package indices ** testing if installed package can be loaded from temporary location ** testing if installed package can be loaded from final location ** testing if installed package keeps a record of temporary installation path * DONE (aroma.light)