Back to Multiple platform build/check report for BioC 3.11 |
|
This page was generated on 2020-01-16 13:46:11 -0500 (Thu, 16 Jan 2020).
Package 141/1818 | Hostname | OS / Arch | INSTALL | BUILD | CHECK | BUILD BIN | ||||||
bigmelon 1.13.4 Tyler J. Gorrie-Stone
| malbec2 | Linux (Ubuntu 18.04.3 LTS) / x86_64 | OK | OK | OK | ![]() | ||||||
tokay2 | Windows Server 2012 R2 Standard / x64 | OK | OK | WARNINGS | OK | ![]() | ||||||
celaya2 | OS X 10.11.6 El Capitan / x86_64 | OK | OK | OK | [ OK ] | ![]() |
Package: bigmelon |
Version: 1.13.4 |
Command: rm -rf bigmelon.buildbin-libdir && mkdir bigmelon.buildbin-libdir && /Users/biocbuild/BBS/utils/build-universal.sh bigmelon_1.13.4.tar.gz /Library/Frameworks/R.framework/Versions/Current/Resources/bin/R bigmelon.buildbin-libdir |
StartedAt: 2020-01-16 10:30:22 -0500 (Thu, 16 Jan 2020) |
EndedAt: 2020-01-16 10:31:35 -0500 (Thu, 16 Jan 2020) |
EllapsedTime: 73.0 seconds |
RetCode: 0 |
Status: OK |
PackageFile: bigmelon_1.13.4.tgz |
PackageFileSize: 1.166 MiB |
############################################################################## ############################################################################## ### ### Running command: ### ### rm -rf bigmelon.buildbin-libdir && mkdir bigmelon.buildbin-libdir && /Users/biocbuild/BBS/utils/build-universal.sh bigmelon_1.13.4.tar.gz /Library/Frameworks/R.framework/Versions/Current/Resources/bin/R bigmelon.buildbin-libdir ### ############################################################################## ############################################################################## >>>>>>> >>>>>>> INSTALLATION WITH 'R CMD INSTALL --preclean --no-multiarch --library=bigmelon.buildbin-libdir bigmelon_1.13.4.tar.gz' >>>>>>> * installing *source* package ‘bigmelon’ ... ** using staged installation ** R ** data ** inst ** byte-compile and prepare package for lazy loading No methods found in package ‘RSQLite’ for request: ‘dbListFields’ when loading ‘lumi’ Creating a new generic function for ‘fot’ in package ‘bigmelon’ Creating a new generic function for ‘predictSex’ in package ‘bigmelon’ ** help *** installing help indices ** building package indices ** installing vignettes ** testing if installed package can be loaded from temporary location No methods found in package ‘RSQLite’ for request: ‘dbListFields’ when loading ‘lumi’ ** testing if installed package can be loaded from final location No methods found in package ‘RSQLite’ for request: ‘dbListFields’ when loading ‘lumi’ ** testing if installed package keeps a record of temporary installation path * DONE (bigmelon)