Back to Multiple platform build/check report for BioC 3.11 |
|
This page was generated on 2020-01-16 13:50:53 -0500 (Thu, 16 Jan 2020).
Package 454/1818 | Hostname | OS / Arch | INSTALL | BUILD | CHECK | BUILD BIN | ||||||
diffcyt 1.7.1 Lukas M. Weber
| malbec2 | Linux (Ubuntu 18.04.3 LTS) / x86_64 | OK | OK | OK | |||||||
tokay2 | Windows Server 2012 R2 Standard / x64 | OK | OK | OK | OK | |||||||
celaya2 | OS X 10.11.6 El Capitan / x86_64 | OK | OK | [ OK ] | OK |
Package: diffcyt |
Version: 1.7.1 |
Command: /Library/Frameworks/R.framework/Versions/Current/Resources/bin/R CMD check --install=check:diffcyt.install-out.txt --library=/Library/Frameworks/R.framework/Versions/Current/Resources/library --no-vignettes --timings diffcyt_1.7.1.tar.gz |
StartedAt: 2020-01-16 03:47:13 -0500 (Thu, 16 Jan 2020) |
EndedAt: 2020-01-16 03:55:00 -0500 (Thu, 16 Jan 2020) |
EllapsedTime: 467.2 seconds |
RetCode: 0 |
Status: OK |
CheckDir: diffcyt.Rcheck |
Warnings: 0 |
############################################################################## ############################################################################## ### ### Running command: ### ### /Library/Frameworks/R.framework/Versions/Current/Resources/bin/R CMD check --install=check:diffcyt.install-out.txt --library=/Library/Frameworks/R.framework/Versions/Current/Resources/library --no-vignettes --timings diffcyt_1.7.1.tar.gz ### ############################################################################## ############################################################################## * using log directory ‘/Users/biocbuild/bbs-3.11-bioc/meat/diffcyt.Rcheck’ * using R Under development (unstable) (2019-12-14 r77572) * using platform: x86_64-apple-darwin15.6.0 (64-bit) * using session charset: UTF-8 * using option ‘--no-vignettes’ * checking for file ‘diffcyt/DESCRIPTION’ ... OK * this is package ‘diffcyt’ version ‘1.7.1’ * checking package namespace information ... OK * checking package dependencies ... OK * checking if this is a source package ... OK * checking if there is a namespace ... OK * checking for hidden files and directories ... OK * checking for portable file names ... OK * checking for sufficient/correct file permissions ... OK * checking whether package ‘diffcyt’ can be installed ... OK * checking installed package size ... OK * checking package directory ... OK * checking ‘build’ directory ... OK * checking DESCRIPTION meta-information ... OK * checking top-level files ... OK * checking for left-over files ... OK * checking index information ... OK * checking package subdirectories ... OK * checking R files for non-ASCII characters ... OK * checking R files for syntax errors ... OK * checking whether the package can be loaded ... OK * checking whether the package can be loaded with stated dependencies ... OK * checking whether the package can be unloaded cleanly ... OK * checking whether the namespace can be loaded with stated dependencies ... OK * checking whether the namespace can be unloaded cleanly ... OK * checking dependencies in R code ... OK * checking S3 generic/method consistency ... OK * checking replacement functions ... OK * checking foreign function calls ... OK * checking R code for possible problems ... NOTE calcCounts: no visible binding for global variable ‘cluster_id’ calcCounts: no visible binding for global variable ‘sample_id’ calcMedians: no visible binding for global variable ‘cluster_id’ calcMedians: no visible binding for global variable ‘sample_id’ calcMedians: no visible binding for global variable ‘value’ calcMediansByClusterMarker: no visible binding for global variable ‘cluster_id’ calcMediansByClusterMarker: no visible binding for global variable ‘marker_id’ calcMediansByClusterMarker: no visible binding for global variable ‘value’ calcMediansBySampleMarker: no visible binding for global variable ‘sample_id’ calcMediansBySampleMarker: no visible binding for global variable ‘marker_id’ calcMediansBySampleMarker: no visible binding for global variable ‘value’ Undefined global functions or variables: cluster_id marker_id sample_id value * checking Rd files ... OK * checking Rd metadata ... OK * checking Rd cross-references ... OK * checking for missing documentation entries ... OK * checking for code/documentation mismatches ... OK * checking Rd \usage sections ... OK * checking Rd contents ... OK * checking for unstated dependencies in examples ... OK * checking files in ‘vignettes’ ... OK * checking examples ... OK Examples with CPU (user + system) or elapsed time > 5s user system elapsed diffcyt 18.073 0.532 18.639 testDA_GLMM 15.994 0.161 16.165 plotHeatmap 10.017 0.281 10.343 topTable 8.632 0.216 8.849 testDS_LMM 7.899 0.173 8.072 * checking for unstated dependencies in ‘tests’ ... OK * checking tests ... Running ‘testthat.R’ OK * checking for unstated dependencies in vignettes ... OK * checking package vignettes in ‘inst/doc’ ... OK * checking running R code from vignettes ... SKIPPED * checking re-building of vignette outputs ... SKIPPED * checking PDF version of manual ... OK * DONE Status: 1 NOTE See ‘/Users/biocbuild/bbs-3.11-bioc/meat/diffcyt.Rcheck/00check.log’ for details.
diffcyt.Rcheck/00install.out
############################################################################## ############################################################################## ### ### Running command: ### ### /Library/Frameworks/R.framework/Versions/Current/Resources/bin/R CMD INSTALL diffcyt ### ############################################################################## ############################################################################## * installing to library ‘/Library/Frameworks/R.framework/Versions/4.0/Resources/library’ * installing *source* package ‘diffcyt’ ... ** using staged installation ** R ** inst ** byte-compile and prepare package for lazy loading Warning: replacing previous import ‘ncdfFlow::filter’ by ‘dplyr::filter’ when loading ‘CytoML’ ** help *** installing help indices ** building package indices ** installing vignettes ** testing if installed package can be loaded from temporary location Warning: replacing previous import ‘ncdfFlow::filter’ by ‘dplyr::filter’ when loading ‘CytoML’ ** testing if installed package can be loaded from final location Warning: replacing previous import ‘ncdfFlow::filter’ by ‘dplyr::filter’ when loading ‘CytoML’ ** testing if installed package keeps a record of temporary installation path * DONE (diffcyt)
diffcyt.Rcheck/tests/testthat.Rout
R Under development (unstable) (2019-12-14 r77572) -- "Unsuffered Consequences" Copyright (C) 2019 The R Foundation for Statistical Computing Platform: x86_64-apple-darwin15.6.0 (64-bit) R is free software and comes with ABSOLUTELY NO WARRANTY. You are welcome to redistribute it under certain conditions. Type 'license()' or 'licence()' for distribution details. R is a collaborative project with many contributors. Type 'contributors()' for more information and 'citation()' on how to cite R or R packages in publications. Type 'demo()' for some demos, 'help()' for on-line help, or 'help.start()' for an HTML browser interface to help. Type 'q()' to quit R. > library(testthat) > library(diffcyt) Warning message: replacing previous import 'ncdfFlow::filter' by 'dplyr::filter' when loading 'CytoML' > > test_check("diffcyt") ══ testthat results ═══════════════════════════════════════════════════════════ [ OK: 8 | SKIPPED: 0 | WARNINGS: 0 | FAILED: 0 ] > > proc.time() user system elapsed 18.847 1.633 20.766
diffcyt.Rcheck/diffcyt-Ex.timings
name | user | system | elapsed | |
calcCounts | 2.961 | 0.158 | 3.119 | |
calcMedians | 3.270 | 0.204 | 3.475 | |
calcMediansByClusterMarker | 2.179 | 0.079 | 2.258 | |
calcMediansBySampleMarker | 1.865 | 0.077 | 1.944 | |
createContrast | 0.000 | 0.001 | 0.001 | |
createDesignMatrix | 0.018 | 0.003 | 0.021 | |
createFormula | 0.007 | 0.000 | 0.007 | |
diffcyt | 18.073 | 0.532 | 18.639 | |
generateClusters | 1.893 | 0.020 | 1.917 | |
plotHeatmap | 10.017 | 0.281 | 10.343 | |
prepareData | 0.034 | 0.003 | 0.037 | |
testDA_GLMM | 15.994 | 0.161 | 16.165 | |
testDA_edgeR | 2.446 | 0.022 | 2.469 | |
testDA_voom | 2.371 | 0.105 | 2.476 | |
testDS_LMM | 7.899 | 0.173 | 8.072 | |
testDS_limma | 3.807 | 0.056 | 3.864 | |
topTable | 8.632 | 0.216 | 8.849 | |
transformData | 0.071 | 0.003 | 0.074 | |