Back to Multiple platform build/check report for BioC 3.11 |
|
This page was generated on 2020-01-16 13:36:47 -0500 (Thu, 16 Jan 2020).
Package 512/1818 | Hostname | OS / Arch | INSTALL | BUILD | CHECK | BUILD BIN | ||||||
eiR 1.27.0 Thomas Girke
| malbec2 | Linux (Ubuntu 18.04.3 LTS) / x86_64 | OK | OK | OK | ![]() | ||||||
tokay2 | Windows Server 2012 R2 Standard / x64 | OK | OK | ERROR | OK | |||||||
celaya2 | OS X 10.11.6 El Capitan / x86_64 | OK | [ OK ] | OK | OK | ![]() |
Package: eiR |
Version: 1.27.0 |
Command: /Library/Frameworks/R.framework/Versions/Current/Resources/bin/R CMD build --keep-empty-dirs --no-resave-data eiR |
StartedAt: 2020-01-15 21:07:53 -0500 (Wed, 15 Jan 2020) |
EndedAt: 2020-01-15 21:09:16 -0500 (Wed, 15 Jan 2020) |
EllapsedTime: 82.5 seconds |
RetCode: 0 |
Status: OK |
PackageFile: eiR_1.27.0.tar.gz |
PackageFileSize: 687.4 KiB |
############################################################################## ############################################################################## ### ### Running command: ### ### /Library/Frameworks/R.framework/Versions/Current/Resources/bin/R CMD build --keep-empty-dirs --no-resave-data eiR ### ############################################################################## ############################################################################## * checking for file ‘eiR/DESCRIPTION’ ... OK * preparing ‘eiR’: * checking DESCRIPTION meta-information ... OK * cleaning src * installing the package to build vignettes * creating vignettes ... OK * cleaning src * checking for LF line-endings in source and make files and shell scripts * checking for empty or unneeded directories * looking to see if a ‘data/datalist’ file should be added NB: this package now depends on R (>= 3.5.0) WARNING: Added dependency on R >= 3.5.0 because serialized objects in serialize/load version 3 cannot be read in older versions of R. File(s) containing such objects: ‘eiR/vignettes/eiR_cache/html/sessionInfo_7a5d6e15f0e8417d5924dfbd32336554.RData’ WARNING: Added dependency on R >= 3.5.0 because serialized objects in serialize/load version 3 cannot be read in older versions of R. File(s) containing such objects: ‘eiR/vignettes/eiR_cache/html/sessionInfo_7a5d6e15f0e8417d5924dfbd32336554.rdx’ WARNING: Added dependency on R >= 3.5.0 because serialized objects in serialize/load version 3 cannot be read in older versions of R. File(s) containing such objects: ‘eiR/vignettes/eiR_cache/html/setup_3beae7023196a8cd0fba38f8f7592af1.RData’ WARNING: Added dependency on R >= 3.5.0 because serialized objects in serialize/load version 3 cannot be read in older versions of R. File(s) containing such objects: ‘eiR/vignettes/eiR_cache/html/setup_3beae7023196a8cd0fba38f8f7592af1.rdx’ WARNING: Added dependency on R >= 3.5.0 because serialized objects in serialize/load version 3 cannot be read in older versions of R. File(s) containing such objects: ‘eiR/vignettes/eiR_cache/html/unnamed-chunk-10_0db1719ae0adf51bc9cf84b8aabfbaca.RData’ WARNING: Added dependency on R >= 3.5.0 because serialized objects in serialize/load version 3 cannot be read in older versions of R. File(s) containing such objects: ‘eiR/vignettes/eiR_cache/html/unnamed-chunk-10_0db1719ae0adf51bc9cf84b8aabfbaca.rdx’ WARNING: Added dependency on R >= 3.5.0 because serialized objects in serialize/load version 3 cannot be read in older versions of R. File(s) containing such objects: ‘eiR/vignettes/eiR_cache/html/unnamed-chunk-1_80849441d6c1826c0e7850a778e24766.RData’ WARNING: Added dependency on R >= 3.5.0 because serialized objects in serialize/load version 3 cannot be read in older versions of R. File(s) containing such objects: ‘eiR/vignettes/eiR_cache/html/unnamed-chunk-1_80849441d6c1826c0e7850a778e24766.rdx’ WARNING: Added dependency on R >= 3.5.0 because serialized objects in serialize/load version 3 cannot be read in older versions of R. File(s) containing such objects: ‘eiR/vignettes/eiR_cache/html/unnamed-chunk-2_3cbdb5daa7908a327cc794cf328da01e.RData’ WARNING: Added dependency on R >= 3.5.0 because serialized objects in serialize/load version 3 cannot be read in older versions of R. File(s) containing such objects: ‘eiR/vignettes/eiR_cache/html/unnamed-chunk-2_3cbdb5daa7908a327cc794cf328da01e.rdx’ WARNING: Added dependency on R >= 3.5.0 because serialized objects in serialize/load version 3 cannot be read in older versions of R. File(s) containing such objects: ‘eiR/vignettes/eiR_cache/html/unnamed-chunk-3_f5b4260ac6176f0649e0cca283d1850b.RData’ WARNING: Added dependency on R >= 3.5.0 because serialized objects in serialize/load version 3 cannot be read in older versions of R. File(s) containing such objects: ‘eiR/vignettes/eiR_cache/html/unnamed-chunk-3_f5b4260ac6176f0649e0cca283d1850b.rdx’ WARNING: Added dependency on R >= 3.5.0 because serialized objects in serialize/load version 3 cannot be read in older versions of R. File(s) containing such objects: ‘eiR/vignettes/eiR_cache/html/unnamed-chunk-4_d15d9891c3cb17605830b09a6a3e9101.RData’ WARNING: Added dependency on R >= 3.5.0 because serialized objects in serialize/load version 3 cannot be read in older versions of R. File(s) containing such objects: ‘eiR/vignettes/eiR_cache/html/unnamed-chunk-4_d15d9891c3cb17605830b09a6a3e9101.rdx’ WARNING: Added dependency on R >= 3.5.0 because serialized objects in serialize/load version 3 cannot be read in older versions of R. File(s) containing such objects: ‘eiR/vignettes/eiR_cache/html/unnamed-chunk-5_c97fc5f26f4c541a005f128eb7301060.RData’ WARNING: Added dependency on R >= 3.5.0 because serialized objects in serialize/load version 3 cannot be read in older versions of R. File(s) containing such objects: ‘eiR/vignettes/eiR_cache/html/unnamed-chunk-5_c97fc5f26f4c541a005f128eb7301060.rdx’ WARNING: Added dependency on R >= 3.5.0 because serialized objects in serialize/load version 3 cannot be read in older versions of R. File(s) containing such objects: ‘eiR/vignettes/eiR_cache/html/unnamed-chunk-6_99e9e63199fc7f83e408140e25f272bb.RData’ WARNING: Added dependency on R >= 3.5.0 because serialized objects in serialize/load version 3 cannot be read in older versions of R. File(s) containing such objects: ‘eiR/vignettes/eiR_cache/html/unnamed-chunk-6_99e9e63199fc7f83e408140e25f272bb.rdx’ WARNING: Added dependency on R >= 3.5.0 because serialized objects in serialize/load version 3 cannot be read in older versions of R. File(s) containing such objects: ‘eiR/vignettes/eiR_cache/html/unnamed-chunk-7_72d672b8e3954c73acd93e6190e3c0a0.RData’ WARNING: Added dependency on R >= 3.5.0 because serialized objects in serialize/load version 3 cannot be read in older versions of R. File(s) containing such objects: ‘eiR/vignettes/eiR_cache/html/unnamed-chunk-7_72d672b8e3954c73acd93e6190e3c0a0.rdx’ WARNING: Added dependency on R >= 3.5.0 because serialized objects in serialize/load version 3 cannot be read in older versions of R. File(s) containing such objects: ‘eiR/vignettes/eiR_cache/html/unnamed-chunk-8_c8be87edc40d76e4da93f6d7c6521c80.RData’ WARNING: Added dependency on R >= 3.5.0 because serialized objects in serialize/load version 3 cannot be read in older versions of R. File(s) containing such objects: ‘eiR/vignettes/eiR_cache/html/unnamed-chunk-8_c8be87edc40d76e4da93f6d7c6521c80.rdx’ WARNING: Added dependency on R >= 3.5.0 because serialized objects in serialize/load version 3 cannot be read in older versions of R. File(s) containing such objects: ‘eiR/vignettes/eiR_cache/html/unnamed-chunk-9_318fbfa6bd02e83bad188ff11df620c2.RData’ WARNING: Added dependency on R >= 3.5.0 because serialized objects in serialize/load version 3 cannot be read in older versions of R. File(s) containing such objects: ‘eiR/vignettes/eiR_cache/html/unnamed-chunk-9_318fbfa6bd02e83bad188ff11df620c2.rdx’ * building ‘eiR_1.27.0.tar.gz’