Back to Multiple platform build/check report for BioC 3.11 |
|
This page was generated on 2020-10-14 11:55:20 -0400 (Wed, 14 Oct 2020).
TO THE DEVELOPERS/MAINTAINERS OF THE explorase PACKAGE: Please make sure to use the following settings in order to reproduce any error or warning you see on this page. |
Package 575/1905 | Hostname | OS / Arch | INSTALL | BUILD | CHECK | BUILD BIN | ||||||
explorase 1.52.0 Michael Lawrence
| malbec2 | Linux (Ubuntu 18.04.4 LTS) / x86_64 | ERROR | ERROR | skipped | |||||||
tokay2 | Windows Server 2012 R2 Standard / x64 | OK | OK | OK | [ OK ] | ![]() | ||||||
machv2 | macOS 10.14.6 Mojave / x86_64 | ...NOT SUPPORTED... |
Package: explorase |
Version: 1.52.0 |
Command: rm -rf explorase.buildbin-libdir && mkdir explorase.buildbin-libdir && C:\Users\biocbuild\bbs-3.11-bioc\R\bin\R.exe --arch i386 CMD INSTALL --no-multiarch --build --library=explorase.buildbin-libdir explorase_1.52.0.tar.gz |
StartedAt: 2020-10-14 10:39:49 -0400 (Wed, 14 Oct 2020) |
EndedAt: 2020-10-14 10:40:36 -0400 (Wed, 14 Oct 2020) |
EllapsedTime: 47.9 seconds |
RetCode: 0 |
Status: OK |
PackageFile: explorase_1.52.0.zip |
PackageFileSize: 1.266 MiB |
############################################################################## ############################################################################## ### ### Running command: ### ### rm -rf explorase.buildbin-libdir && mkdir explorase.buildbin-libdir && C:\Users\biocbuild\bbs-3.11-bioc\R\bin\R.exe --arch i386 CMD INSTALL --no-multiarch --build --library=explorase.buildbin-libdir explorase_1.52.0.tar.gz ### ############################################################################## ############################################################################## * installing *source* package 'explorase' ... ** using staged installation ** R ** inst ** byte-compile and prepare package for lazy loading ** help *** installing help indices converting help for package 'explorase' finding HTML links ... done exp-addEntityType-vx html exp-addFilterRule-rn html exp-calcAngleDist-31 html exp-calcCanberraDist html exp-calcCorrelationDist-45 html exp-calcDiff-y4 html exp-calcEuclideanDist-dn html exp-calcMahalanobisDist-r1 html exp-calcResiduals-ps html exp-calcZeroCorDist-by html exp-close html exp-colorEntities-1h html exp-dataset-6l html exp-designFactors-72 html exp-designFrame-d0 html exp-designSelection-5s html exp-entitiesInList-df html exp-entityFrame-4j html exp-entitySelection-11 html exp-entityType-69 html exp-entityTypes-9e html exp-filterRules-vt html exp-findPatterns-yw html exp-ggobi-69 html exp-isRunning-fo html exp-listFrame-gp html exp-listSelection html exp-loadData-bo html exp-loadDesign-35 html exp-loadFiles-1w html exp-loadInfo-gk html exp-loadLists-pr html exp-loadProject-1g html exp-newList-bs html exp-removeFilterRules-1i html exp-showClustering-b7 html exp-showPatterns-bh html exp-showResults-sk html exp-toggleFilterRules-ts html exp_bioc html explorase html ** building package indices ** installing vignettes ** testing if installed package can be loaded from temporary location ** testing if installed package can be loaded from final location ** testing if installed package keeps a record of temporary installation path * MD5 sums packaged installation of 'explorase' as explorase_1.52.0.zip * DONE (explorase)