Back to Multiple platform build/check report for BioC 3.11 |
|
This page was generated on 2020-01-16 13:41:13 -0500 (Thu, 16 Jan 2020).
Package 947/1818 | Hostname | OS / Arch | INSTALL | BUILD | CHECK | BUILD BIN | ||||||
mAPKL 1.17.0 Argiris Sakellariou
| malbec2 | Linux (Ubuntu 18.04.3 LTS) / x86_64 | OK | OK | OK | |||||||
tokay2 | Windows Server 2012 R2 Standard / x64 | OK | OK | OK | OK | |||||||
celaya2 | OS X 10.11.6 El Capitan / x86_64 | OK | OK | WARNINGS | [ OK ] |
Package: mAPKL |
Version: 1.17.0 |
Command: rm -rf mAPKL.buildbin-libdir && mkdir mAPKL.buildbin-libdir && /Users/biocbuild/BBS/utils/build-universal.sh mAPKL_1.17.0.tar.gz /Library/Frameworks/R.framework/Versions/Current/Resources/bin/R mAPKL.buildbin-libdir |
StartedAt: 2020-01-16 11:13:43 -0500 (Thu, 16 Jan 2020) |
EndedAt: 2020-01-16 11:14:22 -0500 (Thu, 16 Jan 2020) |
EllapsedTime: 38.4 seconds |
RetCode: 0 |
Status: OK |
PackageFile: mAPKL_1.17.0.tgz |
PackageFileSize: 1.791 MiB |
############################################################################## ############################################################################## ### ### Running command: ### ### rm -rf mAPKL.buildbin-libdir && mkdir mAPKL.buildbin-libdir && /Users/biocbuild/BBS/utils/build-universal.sh mAPKL_1.17.0.tar.gz /Library/Frameworks/R.framework/Versions/Current/Resources/bin/R mAPKL.buildbin-libdir ### ############################################################################## ############################################################################## >>>>>>> >>>>>>> INSTALLATION WITH 'R CMD INSTALL --preclean --no-multiarch --library=mAPKL.buildbin-libdir mAPKL_1.17.0.tar.gz' >>>>>>> * installing *source* package ‘mAPKL’ ... ** using staged installation ** R ** inst ** byte-compile and prepare package for lazy loading Warning in rgl.init(initValue, onlyNULL) : RGL: GLX extension missing on server Warning: 'rgl_init' failed, running with rgl.useNULL = TRUE ** help *** installing help indices *** copying figures ** building package indices ** installing vignettes ** testing if installed package can be loaded from temporary location Warning in rgl.init(initValue, onlyNULL) : RGL: GLX extension missing on server Warning: 'rgl_init' failed, running with rgl.useNULL = TRUE ** testing if installed package can be loaded from final location Warning in rgl.init(initValue, onlyNULL) : RGL: GLX extension missing on server Warning: 'rgl_init' failed, running with rgl.useNULL = TRUE ** testing if installed package keeps a record of temporary installation path * DONE (mAPKL)