CHECK report for maftools on celaya2
This page was generated on 2020-01-16 13:45:43 -0500 (Thu, 16 Jan 2020).
maftools 2.3.0 Anand Mayakonda
Snapshot Date: 2020-01-15 16:46:30 -0500 (Wed, 15 Jan 2020) |
URL: https://git.bioconductor.org/packages/maftools |
Branch: master |
Last Commit: 9573f80 |
Last Changed Date: 2019-10-29 13:41:52 -0500 (Tue, 29 Oct 2019) |
| malbec2 | Linux (Ubuntu 18.04.3 LTS) / x86_64 | OK | OK | OK | | |
tokay2 | Windows Server 2012 R2 Standard / x64 | OK | OK | OK | OK | |
celaya2 | OS X 10.11.6 El Capitan / x86_64 | OK | OK | [ OK ] | OK | |
Summary
Command output
##############################################################################
##############################################################################
###
### Running command:
###
### /Library/Frameworks/R.framework/Versions/Current/Resources/bin/R CMD check --install=check:maftools.install-out.txt --library=/Library/Frameworks/R.framework/Versions/Current/Resources/library --no-vignettes --timings maftools_2.3.0.tar.gz
###
##############################################################################
##############################################################################
* using log directory ‘/Users/biocbuild/bbs-3.11-bioc/meat/maftools.Rcheck’
* using R Under development (unstable) (2019-12-14 r77572)
* using platform: x86_64-apple-darwin15.6.0 (64-bit)
* using session charset: UTF-8
* using option ‘--no-vignettes’
* checking for file ‘maftools/DESCRIPTION’ ... OK
* checking extension type ... Package
* this is package ‘maftools’ version ‘2.3.0’
* package encoding: UTF-8
* checking package namespace information ... OK
* checking package dependencies ... OK
* checking if this is a source package ... OK
* checking if there is a namespace ... OK
* checking for hidden files and directories ... OK
* checking for portable file names ... OK
* checking for sufficient/correct file permissions ... OK
* checking whether package ‘maftools’ can be installed ... OK
* checking installed package size ... NOTE
installed size is 7.1Mb
sub-directories of 1Mb or more:
extdata 6.3Mb
* checking package directory ... OK
* checking ‘build’ directory ... OK
* checking DESCRIPTION meta-information ... OK
* checking top-level files ... OK
* checking for left-over files ... OK
* checking index information ... OK
* checking package subdirectories ... OK
* checking R files for non-ASCII characters ... OK
* checking R files for syntax errors ... OK
* checking whether the package can be loaded ... OK
* checking whether the package can be loaded with stated dependencies ... OK
* checking whether the package can be unloaded cleanly ... OK
* checking whether the namespace can be loaded with stated dependencies ... OK
* checking whether the namespace can be unloaded cleanly ... OK
* checking dependencies in R code ... OK
* checking S3 generic/method consistency ... OK
* checking replacement functions ... OK
* checking foreign function calls ... OK
* checking R code for possible problems ... NOTE
OncogenicPathways: no visible binding for global variable ‘Pathway’
OncogenicPathways: no visible binding for global variable
‘fraction_affected’
OncogenicPathways: no visible binding for global variable
‘n_affected_genes’
OncogenicPathways: no visible binding for global variable ‘N’
OncogenicPathways: no visible global function definition for ‘par’
OncogenicPathways: no visible global function definition for ‘mtext’
PlotOncogenicPathways: no visible binding for global variable
‘Tumor_Sample_Barcode’
PlotOncogenicPathways: no visible global function definition for ‘par’
PlotOncogenicPathways: no visible global function definition for
‘image’
PlotOncogenicPathways: no visible global function definition for
‘abline’
PlotOncogenicPathways: no visible global function definition for
‘points’
PlotOncogenicPathways: no visible global function definition for
‘mtext’
PlotOncogenicPathways: no visible global function definition for ‘text’
PlotOncogenicPathways: no visible global function definition for
‘title’
add_legend: no visible global function definition for ‘par’
add_legend: no visible global function definition for ‘plot’
add_legend: no visible global function definition for ‘legend’
add_oncoprint: no visible global function definition for ‘unit’
add_oncoprint: no visible binding for global variable ‘bg’
add_oncoprint2: no visible global function definition for ‘unit’
annovarToMaf: no visible binding for global variable ‘Hugo_Symbol’
annovarToMaf: no visible binding for global variable ‘Gene.refGene’
annovarToMaf: no visible binding for global variable ‘Func.refGene’
annovarToMaf: no visible binding for global variable
‘Variant_Classification’
annovarToMaf: no visible binding for global variable
‘ExonicFunc.refGene’
annovarToMaf: no visible binding for global variable ‘ref_alt_diff’
annovarToMaf: no visible binding for global variable ‘Ref’
annovarToMaf: no visible binding for global variable ‘Alt’
annovarToMaf: no visible global function definition for ‘.’
annovarToMaf: no visible binding for global variable ‘Variant_Type’
annovarToMaf : <anonymous>: no visible binding for global variable
‘Variant_Classification’
annovarToMaf : <anonymous>: no visible binding for global variable
‘ref_alt_diff’
annovarToMaf: no visible binding for global variable ‘ens_id’
annovarToMaf: no visible binding for global variable ‘hgnc_symbol’
annovarToMaf: no visible binding for global variable ‘Entrez_Gene_Id’
annovarToMaf: no visible binding for global variable ‘Entrez’
binconf : bc: no visible global function definition for ‘qf’
binconf : bc: no visible global function definition for ‘qnorm’
bubble_plot: no visible global function definition for ‘symbols’
bubble_plot: no visible global function definition for ‘axis’
bubble_plot: no visible global function definition for ‘abline’
bubble_plot: no visible global function definition for ‘text’
clinicalEnrichment : pairwise.fisher.test : compare.levels: no visible
global function definition for ‘fisher.test’
clinicalEnrichment : pairwise.fisher.test: no visible global function
definition for ‘pairwise.table’
clinicalEnrichment: no visible binding for global variable
‘AlteredSamples’
clinicalEnrichment: no visible binding for global variable
‘Hugo_Symbol’
clinicalEnrichment: no visible binding for global variable
‘MutatedSamples’
clinicalEnrichment : <anonymous> : <anonymous>: no visible global
function definition for ‘fisher.test’
clinicalEnrichment : <anonymous> : <anonymous>: no visible binding for
global variable ‘Group’
clinicalEnrichment : <anonymous> : <anonymous>: no visible binding for
global variable ‘Genotype’
clinicalEnrichment : <anonymous>: no visible binding for global
variable ‘Hugo_Symbol’
clinicalEnrichment : <anonymous>: no visible binding for global
variable ‘Analysis’
clinicalEnrichment : <anonymous>: no visible global function definition
for ‘.’
clinicalEnrichment : <anonymous>: no visible binding for global
variable ‘Var1’
clinicalEnrichment : <anonymous>: no visible binding for global
variable ‘Var2’
clinicalEnrichment : <anonymous>: no visible binding for global
variable ‘value’
clinicalEnrichment : <anonymous>: no visible binding for global
variable ‘fdr’
clinicalEnrichment : <anonymous>: no visible binding for global
variable ‘cf’
clinicalEnrichment : <anonymous>: no visible binding for global
variable ‘Genotype’
clinicalEnrichment : <anonymous>: no visible binding for global
variable ‘N’
clinicalEnrichment : <anonymous>: no visible binding for global
variable ‘n_mutated_Feature’
clinicalEnrichment : <anonymous>: no visible binding for global
variable ‘N.x’
clinicalEnrichment : <anonymous>: no visible binding for global
variable ‘N.y’
clinicalEnrichment : <anonymous>: no visible binding for global
variable ‘Feature_1’
clinicalEnrichment : <anonymous>: no visible binding for global
variable ‘Feature_2’
clinicalEnrichment : <anonymous>: no visible binding for global
variable ‘n_mutated_Feature1’
clinicalEnrichment : <anonymous>: no visible binding for global
variable ‘n_mutated_Feature2’
clinicalEnrichment: no visible binding for global variable ‘Analysis’
clinicalEnrichment: no visible global function definition for ‘.’
clinicalEnrichment: no visible binding for global variable ‘Feature_1’
clinicalEnrichment: no visible binding for global variable ‘Feature_2’
clinicalEnrichment: no visible binding for global variable
‘n_mutated_Feature1’
clinicalEnrichment: no visible binding for global variable
‘n_mutated_Feature2’
clinicalEnrichment: no visible binding for global variable ‘fdr’
clinicalEnrichment: no visible binding for global variable ‘Group1’
clinicalEnrichment: no visible binding for global variable ‘Group2’
clinicalEnrichment: no visible binding for global variable
‘n_mutated_group1’
clinicalEnrichment: no visible binding for global variable
‘n_mutated_group2’
clinicalEnrichment: no visible binding for global variable ‘p_value’
clinicalEnrichment: no visible binding for global variable ‘OR_low’
clinicalEnrichment: no visible binding for global variable ‘OR_high’
clinicalEnrichment: no visible global function definition for
‘p.adjust’
clinicalEnrichment: no visible binding for global variable ‘cf’
cluster_prot: no visible binding for global variable ‘N’
cluster_prot: no visible binding for global variable ‘distance’
cluster_prot: no visible binding for global variable ‘startDist’
cluster_prot: no visible binding for global variable ‘endDist’
cluster_prot: no visible binding for global variable ‘fraction’
cluster_prot : <anonymous>: no visible binding for global variable
‘fraction’
coOncoplot: no visible global function definition for ‘.’
coOncoplot: no visible binding for global variable ‘Hugo_Symbol’
coOncoplot: no visible binding for global variable ‘MutatedSamples’
coOncoplot: no visible binding for global variable ‘MutatedSamples.x’
coOncoplot: no visible binding for global variable ‘MutatedSamples.y’
coOncoplot: no visible global function definition for ‘plot.new’
coOncoplot: no visible global function definition for ‘par’
coOncoplot: no visible global function definition for ‘image’
coOncoplot: no visible global function definition for ‘mtext’
coOncoplot: no visible global function definition for ‘plot’
coOncoplot: no visible global function definition for ‘legend’
createOncoMatrix: no visible binding for global variable
‘Tumor_Sample_Barcode’
createOncoMatrix: no visible binding for global variable ‘Hugo_Symbol’
createOncoMatrix: no visible global function definition for ‘.’
createOncoMatrix: no visible binding for global variable
‘Variant_Classification’
dashboard: no visible binding for global variable ‘statFontSize’
dashboard: no visible binding for global variable ‘fs’
dashboard: no visible binding for global variable ‘pie’
dashboard: no visible global function definition for ‘par’
dashboard: no visible global function definition for ‘barplot’
dashboard: no visible global function definition for ‘abline’
dashboard: no visible global function definition for ‘axis’
dashboard: no visible global function definition for ‘title’
dashboard: no visible binding for global variable ‘value’
dashboard: no visible binding for global variable ‘variable’
dashboard: no visible global function definition for ‘text’
dashboard: no visible global function definition for ‘mtext’
dashboard: no visible binding for global variable ‘ID’
dashboard: no visible binding for global variable ‘Mean’
dashboard: no visible global function definition for ‘lines’
dashboard: no visible binding for global variable ‘Median’
dashboard: no visible binding for global variable ‘N’
dashboard: no visible global function definition for ‘.’
dashboard: no visible binding for global variable
‘Variant_Classification’
dashboard: no visible global function definition for ‘boxplot’
dashboard: no visible binding for global variable ‘boxStat’
dashboard: no visible binding for global variable ‘Hugo_Symbol’
dashboard: no visible binding for global variable ‘AlteredSamples’
detect_kataegis: no visible global function definition for
‘write.table’
detect_kataegis: no visible binding for global variable
‘Tumor_Sample_Barcode’
detect_kataegis_chr: no visible binding for global variable ‘row_idx’
detect_kataegis_chr: no visible binding for global variable
‘Start_Position’
detect_kataegis_chr: no visible binding for global variable
‘Chromosome’
detect_kataegis_chr: no visible binding for global variable ‘Size’
detect_kataegis_chr: no visible binding for global variable
‘End_Position’
detect_kataegis_chr: no visible global function definition for ‘.’
detect_kataegis_chr: no visible binding for global variable ‘con.class’
detect_kataegis_chr: no visible binding for global variable
‘Tumor_Sample_Barcode’
dirichletClusters: no visible binding for global variable ‘dp’
drugInteractions: no visible global function definition for ‘read.csv’
drugInteractions: no visible binding for global variable ‘Hugo_Symbol’
drugInteractions: no visible binding for global variable ‘Gene’
drugInteractions: no visible binding for global variable ‘N’
drugInteractions: no visible binding for global variable ‘category’
drugInteractions: no visible global function definition for ‘.’
drugInteractions: no visible binding for global variable ‘V1’
drugInteractions: no visible binding for global variable ‘label’
drugInteractions: no visible global function definition for ‘par’
drugInteractions: no visible global function definition for ‘pie’
drugInteractions: no visible global function definition for
‘heat.colors’
drugInteractions: no visible global function definition for ‘barplot’
drugInteractions: no visible global function definition for ‘text’
drugInteractions: no visible global function definition for ‘axis’
drugInteractions: no visible global function definition for ‘mtext’
drugInteractions: no visible global function definition for ‘title’
estimateSignatures: no visible global function definition for ‘png’
filterCopyNumber: no visible global function definition for ‘.’
filterCopyNumber: no visible binding for global variable ‘Hugo_Symbol’
filterCopyNumber: no visible binding for global variable ‘Chromosome’
filterCopyNumber: no visible binding for global variable
‘i.Start_Position’
filterCopyNumber: no visible binding for global variable
‘i.End_Position’
filterCopyNumber: no visible binding for global variable
‘Tumor_Sample_Barcode’
filterCopyNumber: no visible binding for global variable ‘t_vaf’
filterCopyNumber: no visible binding for global variable
‘Start_Position’
filterCopyNumber: no visible binding for global variable ‘End_Position’
filterCopyNumber: no visible binding for global variable ‘Segment_Mean’
filterCopyNumber: no visible binding for global variable ‘CN’
forestPlot: no visible binding for global variable ‘pval’
forestPlot: no visible binding for global variable ‘adjPval’
forestPlot: no visible binding for global variable ‘Cohort’
forestPlot: no visible binding for global variable ‘SampleSize’
forestPlot: no visible binding for global variable ‘log10OR’
forestPlot: no visible binding for global variable ‘or’
forestPlot: no visible binding for global variable ‘log10OR_high’
forestPlot: no visible binding for global variable ‘ci.up’
forestPlot: no visible binding for global variable ‘log10OR_low’
forestPlot: no visible binding for global variable ‘ci.low’
forestPlot: no visible global function definition for ‘par’
forestPlot: no visible global function definition for ‘plot’
forestPlot: no visible global function definition for ‘segments’
forestPlot: no visible global function definition for ‘points’
forestPlot: no visible global function definition for ‘axis’
forestPlot: no visible global function definition for ‘mtext’
forestPlot: no visible global function definition for ‘title’
forestPlot: no visible global function definition for ‘text’
forestPlot: no visible global function definition for ‘plot.new’
forestPlot: no visible global function definition for ‘legend’
geneCloud: no visible binding for global variable ‘Cytoband’
geneCloud: no visible binding for global variable ‘qvalues’
geneCloud: no visible binding for global variable ‘MutatedSamples’
geneCloud: no visible binding for global variable ‘Hugo_Symbol’
genesToBarcodes: no visible binding for global variable
‘Tumor_Sample_Barcode’
genesToBarcodes : <anonymous>: no visible binding for global variable
‘Tumor_Sample_Barcode’
genotypeMatrix: no visible binding for global variable ‘id’
genotypeMatrix: no visible binding for global variable ‘Chromosome’
genotypeMatrix: no visible binding for global variable ‘Start_Position’
genotypeMatrix: no visible binding for global variable ‘t_vaf’
get_anno_cols: no visible global function definition for
‘colorRampPalette’
get_lp_data: no visible binding for global variable ‘Hugo_Symbol’
get_lp_data: no visible global function definition for ‘.’
get_lp_data: no visible binding for global variable ‘Variant_Type’
get_lp_data: no visible binding for global variable
‘Variant_Classification’
get_lp_data: no visible binding for global variable ‘AAChange’
get_lp_data: no visible binding for global variable ‘HGNC’
get_lp_data: no visible binding for global variable ‘refseq.ID’
get_lp_data: no visible binding for global variable ‘protein.ID’
get_lp_data: no visible binding for global variable ‘aa.length’
get_lp_data: no visible binding for global variable ‘Label’
get_lp_data: no visible binding for global variable ‘domain_lenght’
get_lp_data: no visible binding for global variable ‘End’
get_lp_data: no visible binding for global variable ‘Start’
get_lp_data: no visible binding for global variable ‘ID’
get_lp_data: no visible binding for global variable ‘MutatedSamples’
get_lp_data: no visible binding for global variable ‘conv’
get_lp_data: no visible binding for global variable ‘count2’
get_lp_data: no visible binding for global variable ‘count’
get_lp_data: no visible binding for global variable ‘posRounded’
get_lp_data: no visible binding for global variable ‘lab’
get_threshold : <anonymous>: no visible global function definition for
‘dbinom’
gisticBubblePlot: no visible binding for global variable ‘qvalues’
gisticBubblePlot: no visible binding for global variable ‘Chromosome’
gisticBubblePlot: no visible binding for global variable ‘loc’
gisticBubblePlot: no visible binding for global variable
‘Start_Position’
gisticBubblePlot: no visible binding for global variable ‘End_Position’
gisticBubblePlot: no visible global function definition for ‘.’
gisticBubblePlot: no visible binding for global variable ‘Cytoband’
gisticBubblePlot: no visible binding for global variable
‘Variant_Classification’
gisticBubblePlot: no visible binding for global variable ‘nGenes’
gisticBubblePlot: no visible binding for global variable ‘log_q’
gisticBubblePlot: no visible global function definition for ‘par’
gisticBubblePlot: no visible global function definition for ‘mtext’
gisticChromPlot: no visible binding for global variable ‘qvalues’
gisticChromPlot: no visible binding for global variable ‘Chromosome’
gisticChromPlot: no visible binding for global variable ‘loc’
gisticChromPlot: no visible binding for global variable
‘Start_Position’
gisticChromPlot: no visible binding for global variable ‘End_Position’
gisticChromPlot: no visible global function definition for ‘.’
gisticChromPlot: no visible binding for global variable ‘Cytoband’
gisticChromPlot: no visible binding for global variable
‘Variant_Classification’
gisticChromPlot: no visible binding for global variable ‘amp’
gisticChromPlot: no visible global function definition for ‘par’
gisticChromPlot: no visible global function definition for ‘plot’
gisticChromPlot: no visible global function definition for ‘abline’
gisticChromPlot: no visible global function definition for ‘axis’
gisticChromPlot: no visible global function definition for ‘mtext’
gisticChromPlot: no visible global function definition for ‘segments’
gisticChromPlot: no visible global function definition for ‘rect’
gisticChromPlot: no visible global function definition for ‘text’
gisticChromPlot: no visible binding for global variable
‘Start_Position_updated’
gisticChromPlot: no visible binding for global variable
‘End_Position_updated’
gisticChromPlot: no visible global function definition for
‘complete.cases’
gisticMap: no visible binding for global variable ‘Cytoband’
gisticMap: no visible binding for global variable
‘Variant_Classification’
gisticOncoPlot: no visible global function definition for ‘par’
gisticOncoPlot: no visible global function definition for ‘image’
gisticOncoPlot: no visible global function definition for ‘abline’
gisticOncoPlot: no visible global function definition for ‘mtext’
gisticOncoPlot: no visible global function definition for ‘text’
gisticOncoPlot: no visible global function definition for ‘plot’
gisticOncoPlot: no visible global function definition for ‘legend’
icgcSimpleMutationToMAF: no visible global function definition for
‘read.csv’
icgcSimpleMutationToMAF: no visible binding for global variable
‘consequence_type’
icgcSimpleMutationToMAF: no visible binding for global variable
‘gene_affected’
icgcSimpleMutationToMAF: no visible binding for global variable
‘assembly_version’
icgcSimpleMutationToMAF: no visible binding for global variable
‘chromosome’
icgcSimpleMutationToMAF: no visible binding for global variable
‘chromosome_start’
icgcSimpleMutationToMAF: no visible binding for global variable
‘chromosome_end’
icgcSimpleMutationToMAF: no visible binding for global variable
‘Variant_Classification’
icgcSimpleMutationToMAF: no visible binding for global variable
‘Variant_Type’
icgcSimpleMutationToMAF: no visible binding for global variable
‘reference_genome_allele’
icgcSimpleMutationToMAF: no visible binding for global variable
‘mutated_from_allele’
icgcSimpleMutationToMAF: no visible binding for global variable
‘mutated_to_allele’
icgcSimpleMutationToMAF: no visible binding for global variable
‘icgc_sample_id’
icgcSimpleMutationToMAF: no visible binding for global variable
‘verification_status’
icgcSimpleMutationToMAF: no visible binding for global variable
‘sequencing_strategy’
icgcSimpleMutationToMAF: no visible binding for global variable
‘verification_platform’
icgcSimpleMutationToMAF: no visible binding for global variable
‘ens_id’
icgcSimpleMutationToMAF: no visible binding for global variable
‘Hugo_Symbol’
icgcSimpleMutationToMAF: no visible binding for global variable
‘hgnc_symbol’
icgcSimpleMutationToMAF: no visible binding for global variable
‘Entrez_Gene_Id’
icgcSimpleMutationToMAF: no visible binding for global variable
‘Entrez’
icgcSimpleMutationToMAF: no visible global function definition for
‘write.table’
icgcSimpleMutationToMAF: no visible binding for global variable
‘Tumor_Sample_Barcode’
inferHeterogeneity: no visible binding for global variable
‘Tumor_Sample_Barcode’
inferHeterogeneity: no visible binding for global variable ‘t_vaf’
inferHeterogeneity: no visible binding for global variable
‘t_alt_count’
inferHeterogeneity: no visible binding for global variable
‘t_ref_count’
inferHeterogeneity: no visible binding for global variable ‘Chromosome’
inferHeterogeneity: no visible binding for global variable
‘Start_Position’
inferHeterogeneity: no visible binding for global variable
‘End_Position’
inferHeterogeneity: no visible binding for global variable ‘Sample’
inferHeterogeneity: no visible global function definition for ‘.’
inferHeterogeneity: no visible binding for global variable
‘Hugo_Symbol’
inferHeterogeneity: no visible global function definition for ‘median’
label_pos: no visible binding for global variable ‘labThis’
label_pos: no visible binding for global variable ‘pos2’
label_pos: no visible binding for global variable ‘count2’
label_pos: no visible binding for global variable ‘conv’
lollipopPlot: no visible binding for global variable ‘Hugo_Symbol’
lollipopPlot: no visible global function definition for ‘.’
lollipopPlot: no visible binding for global variable ‘Variant_Type’
lollipopPlot: no visible binding for global variable
‘Variant_Classification’
lollipopPlot: no visible binding for global variable ‘AAChange_’
lollipopPlot: no visible binding for global variable ‘HGNC’
lollipopPlot: no visible binding for global variable ‘refseq.ID’
lollipopPlot: no visible binding for global variable ‘protein.ID’
lollipopPlot: no visible binding for global variable ‘aa.length’
lollipopPlot: no visible binding for global variable ‘Label’
lollipopPlot: no visible binding for global variable ‘domain_lenght’
lollipopPlot: no visible binding for global variable ‘End’
lollipopPlot: no visible binding for global variable ‘Start’
lollipopPlot: no visible binding for global variable ‘ID’
lollipopPlot: no visible binding for global variable ‘MutatedSamples’
lollipopPlot: no visible binding for global variable ‘conv’
lollipopPlot: no visible binding for global variable ‘count2’
lollipopPlot: no visible binding for global variable ‘count’
lollipopPlot: no visible binding for global variable ‘posRounded’
lollipopPlot: no visible binding for global variable ‘lab’
lollipopPlot: no visible binding for global variable ‘labThis’
lollipopPlot: no visible binding for global variable ‘pos2’
lollipopPlot: no visible global function definition for ‘par’
lollipopPlot: no visible global function definition for ‘plot’
lollipopPlot: no visible global function definition for ‘rect’
lollipopPlot: no visible global function definition for ‘axis’
lollipopPlot: no visible global function definition for ‘segments’
lollipopPlot: no visible global function definition for ‘points’
lollipopPlot: no visible global function definition for ‘title’
lollipopPlot: no visible global function definition for ‘text’
lollipopPlot: no visible global function definition for ‘legend’
lollipopPlot2: no visible binding for global variable ‘Label’
lollipopPlot2: no visible binding for global variable
‘Variant_Classification’
lollipopPlot2: no visible global function definition for ‘par’
lollipopPlot2: no visible global function definition for ‘plot’
lollipopPlot2: no visible global function definition for ‘rect’
lollipopPlot2: no visible global function definition for ‘axis’
lollipopPlot2: no visible global function definition for ‘segments’
lollipopPlot2: no visible binding for global variable ‘pos2’
lollipopPlot2: no visible binding for global variable ‘count2’
lollipopPlot2: no visible global function definition for ‘points’
lollipopPlot2: no visible binding for global variable ‘Start’
lollipopPlot2: no visible binding for global variable ‘End’
lollipopPlot2: no visible global function definition for ‘.’
lollipopPlot2: no visible global function definition for ‘text’
lollipopPlot2: no visible global function definition for ‘mtext’
lollipopPlot2: no visible binding for global variable ‘refseq.ID’
lollipopPlot2: no visible binding for global variable ‘conv’
lollipopPlot2: no visible global function definition for ‘plot.new’
lollipopPlot2: no visible global function definition for ‘legend’
mafCompare: no visible binding for global variable ‘AlteredSamples’
mafCompare: no visible binding for global variable ‘Hugo_Symbol’
mafCompare: no visible binding for global variable ‘MutatedSamples’
mafCompare: no visible global function definition for ‘.’
mafCompare : <anonymous>: no visible global function definition for
‘fisher.test’
mafCompare: no visible binding for global variable ‘pval’
mafCompare: no visible binding for global variable ‘adjPval’
mafCompare: no visible global function definition for ‘p.adjust’
mafSurvGroup: no visible binding for global variable ‘Time’
mafSurvGroup: no visible global function definition for ‘.’
mafSurvGroup: no visible global function definition for ‘median’
mafSurvGroup: no visible binding for global variable ‘Group’
mafSurvGroup: no visible global function definition for ‘pchisq’
mafSurvGroup: no visible global function definition for ‘par’
mafSurvGroup: no visible global function definition for ‘plot’
mafSurvGroup: no visible global function definition for ‘abline’
mafSurvGroup: no visible global function definition for ‘points’
mafSurvGroup: no visible binding for global variable ‘survProb’
mafSurvGroup: no visible global function definition for ‘lines’
mafSurvGroup: no visible global function definition for ‘axis’
mafSurvGroup: no visible global function definition for ‘mtext’
mafSurvGroup: no visible global function definition for ‘legend’
mafSurvGroup: no visible global function definition for ‘title’
mafSurvival: no visible global function definition for ‘.’
mafSurvival: no visible global function definition for ‘median’
mafSurvival: no visible binding for global variable ‘Time’
mafSurvival: no visible binding for global variable ‘Group’
mafSurvival: no visible global function definition for ‘pchisq’
mafSurvival: no visible global function definition for ‘par’
mafSurvival: no visible global function definition for ‘plot’
mafSurvival: no visible global function definition for ‘abline’
mafSurvival: no visible global function definition for ‘points’
mafSurvival: no visible binding for global variable ‘survProb’
mafSurvival: no visible global function definition for ‘lines’
mafSurvival: no visible global function definition for ‘axis’
mafSurvival: no visible global function definition for ‘mtext’
mafSurvival: no visible global function definition for ‘legend’
mafSurvival: no visible global function definition for ‘title’
mapMutsToSegs: no visible binding for global variable ‘Sample’
mapMutsToSegs: no visible binding for global variable ‘Chromosome’
mapMutsToSegs: no visible binding for global variable ‘Start_Position’
mapMutsToSegs: no visible binding for global variable ‘End_Position’
mapMutsToSegs: no visible binding for global variable ‘Variant_Type’
mapMutsToSegs: no visible global function definition for ‘.’
mapMutsToSegs: no visible binding for global variable ‘Hugo_Symbol’
mapMutsToSegs: no visible binding for global variable
‘Tumor_Sample_Barcode’
mapMutsToSegs: no visible binding for global variable
‘i.Start_Position’
mapMutsToSegs: no visible binding for global variable ‘i.End_Position’
mapMutsToSegs: no visible binding for global variable ‘Segment_Mean’
mapMutsToSegs: no visible binding for global variable
‘Start_Position_updated’
mapMutsToSegs: no visible binding for global variable
‘End_Position_updated’
mapMutsToSegs: no visible binding for global variable ‘CN’
math.score: no visible binding for global variable
‘Tumor_Sample_Barcode’
math.score: no visible binding for global variable ‘t_vaf’
math.score: no visible binding for global variable ‘t_alt_count’
math.score: no visible binding for global variable ‘t_ref_count’
math.score: no visible global function definition for ‘.’
math.score: no visible binding for global variable ‘Hugo_Symbol’
math.score : <anonymous>: no visible binding for global variable
‘Tumor_Sample_Barcode’
math.score : <anonymous>: no visible global function definition for
‘median’
mutCountMatrix: no visible binding for global variable
‘Variant_Classification’
mutCountMatrix: no visible global function definition for ‘.’
mutCountMatrix: no visible binding for global variable ‘Hugo_Symbol’
mutCountMatrix: no visible binding for global variable
‘Tumor_Sample_Barcode’
mutCountMatrix: no visible binding for global variable ‘tot’
oncodrive: no visible global function definition for ‘read.csv’
oncodrive: no visible global function definition for ‘sd’
oncodrive: no visible binding for global variable ‘Hugo_Symbol’
oncodrive: no visible global function definition for ‘pnorm’
oncodrive: no visible global function definition for ‘p.adjust’
oncodrive: no visible binding for global variable
‘fract_muts_in_clusters’
oncodrive: no visible binding for global variable ‘muts_in_clusters’
oncodrive: no visible binding for global variable ‘total’
oncodrive: no visible global function definition for ‘glm’
oncodrive: no visible global function definition for ‘poisson’
oncodrive : <anonymous>: no visible global function definition for
‘poisson.test’
oncodrive: no visible binding for global variable ‘poissonFdr’
oncodrive: no visible global function definition for ‘.’
oncodrive: no visible binding for global variable ‘tFdr’
oncodrive: no visible binding for global variable ‘fdr’
oncoplot: no visible global function definition for ‘read.csv’
oncoplot: no visible binding for global variable ‘FDR’
oncoplot: no visible binding for global variable ‘gene’
oncoplot: no visible global function definition for ‘.’
oncoplot: no visible binding for global variable ‘AlteredSamples’
oncoplot: no visible binding for global variable ‘Hugo_Symbol’
oncoplot: no visible binding for global variable ‘Tumor_Sample_Barcode’
oncoplot: no visible binding for global variable ‘total’
oncoplot: no visible binding for global variable ‘CNV_total’
oncoplot: no visible binding for global variable ‘Amp’
oncoplot: no visible binding for global variable ‘Del’
oncoplot: no visible global function definition for ‘par’
oncoplot: no visible global function definition for ‘plot’
oncoplot: no visible global function definition for ‘axis’
oncoplot: no visible global function definition for ‘rect’
oncoplot: no visible global function definition for ‘mtext’
oncoplot: no visible global function definition for ‘image’
oncoplot: no visible global function definition for ‘write.table’
oncoplot: no visible global function definition for ‘points’
oncoplot: no visible binding for global variable ‘temp_af’
oncoplot : <anonymous> : <anonymous>: no visible global function
definition for ‘points’
oncoplot: no visible global function definition for ‘abline’
oncoplot: no visible global function definition for ‘text’
oncoplot: no visible global function definition for ‘plot.new’
oncoplot: no visible global function definition for ‘legend’
oncoplot: no visible global function definition for ‘title’
pancanComparison: no visible global function definition for ‘read.csv’
pancanComparison: no visible binding for global variable ‘gene’
pancanComparison: no visible global function definition for ‘.’
pancanComparison: no visible binding for global variable ‘nMut’
pancanComparison: no visible binding for global variable ‘log_q_pancan’
pancanComparison: no visible binding for global variable ‘log_q’
pancanComparison: no visible global function definition for ‘par’
pancanComparison: no visible global function definition for ‘abline’
pancanComparison: no visible global function definition for ‘title’
pancanComparison: no visible global function definition for ‘mtext’
parse_prot: no visible global function definition for ‘.’
parse_prot: no visible binding for global variable ‘Hugo_Symbol’
parse_prot: no visible binding for global variable
‘Variant_Classification’
parse_prot: no visible binding for global variable ‘AAChange’
parse_prot: no visible binding for global variable ‘conv’
parse_prot: no visible binding for global variable ‘aa.length’
parse_prot: no visible binding for global variable ‘total’
parse_prot: no visible global function definition for ‘txtProgressBar’
parse_prot: no visible binding for global variable ‘th’
parse_prot: no visible global function definition for
‘setTxtProgressBar’
pfamDomains: no visible binding for global variable ‘Variant_Type’
pfamDomains: no visible global function definition for ‘.’
pfamDomains: no visible binding for global variable ‘Hugo_Symbol’
pfamDomains: no visible binding for global variable
‘Variant_Classification’
pfamDomains: no visible binding for global variable ‘AAChange’
pfamDomains: no visible binding for global variable ‘conv’
pfamDomains: no visible binding for global variable ‘total’
pfamDomains: no visible binding for global variable ‘N’
pfamDomains: no visible binding for global variable ‘fraction’
pfamDomains: no visible binding for global variable ‘HGNC’
pfamDomains: no visible binding for global variable ‘Start’
pfamDomains: no visible binding for global variable ‘End’
pfamDomains: no visible binding for global variable ‘Label’
pfamDomains: no visible binding for global variable ‘pfam’
pfamDomains: no visible binding for global variable ‘Description’
pfamDomains: no visible binding for global variable ‘idx’
pfamDomains: no visible binding for global variable ‘DomainLabel’
pfamDomains: no visible binding for global variable ‘nMut’
pfamDomains: no visible binding for global variable ‘nGenes’
pfamDomains: no visible global function definition for ‘complete.cases’
pfamDomains: no visible binding for global variable ‘nMuts’
pfamDomains: no visible global function definition for ‘write.table’
pfamDomains: no visible global function definition for ‘par’
pfamDomains: no visible global function definition for ‘mtext’
plotApobecDiff: no visible binding for global variable
‘APOBEC_Enriched’
plotApobecDiff: no visible binding for global variable
‘fraction_APOBEC_mutations’
plotApobecDiff: no visible binding for global variable
‘Tumor_Sample_Barcode’
plotApobecDiff: no visible binding for global variable ‘ID’
plotApobecDiff: no visible global function definition for ‘.’
plotApobecDiff: no visible binding for global variable ‘Mean’
plotApobecDiff: no visible binding for global variable ‘Median’
plotApobecDiff: no visible binding for global variable ‘Cohort’
plotApobecDiff: no visible binding for global variable ‘pval’
plotApobecDiff: no visible binding for global variable ‘Hugo_Symbol’
plotApobecDiff: no visible binding for global variable ‘MutatedSamples’
plotApobecDiff: no visible binding for global variable ‘SampleSize’
plotApobecDiff: no visible binding for global variable ‘nonApobec’
plotApobecDiff: no visible binding for global variable ‘V1’
plotApobecDiff: no visible binding for global variable ‘title’
plotApobecDiff: no visible binding for global variable ‘variable’
plotApobecDiff: no visible binding for global variable ‘value’
plotApobecDiff: no visible global function definition for ‘par’
plotApobecDiff: no visible binding for global variable ‘n_mutations’
plotApobecDiff: no visible global function definition for ‘boxplot’
plotApobecDiff: no visible global function definition for ‘title’
plotApobecDiff: no visible global function definition for ‘axis’
plotApobecDiff: no visible global function definition for ‘na.omit’
plotApobecDiff: no visible binding for global variable ‘N’
plotApobecDiff: no visible global function definition for ‘mtext’
plotApobecDiff: no visible global function definition for ‘wilcox.test’
plotApobecDiff: no visible global function definition for ‘text’
plotApobecDiff: no visible global function definition for ‘segments’
plotApobecDiff: no visible global function definition for ‘pie’
plotApobecDiff: no visible global function definition for ‘symbols’
plotApobecDiff: no visible global function definition for ‘barplot’
plotCBS: no visible binding for global variable ‘Sample’
plotCBS: no visible binding for global variable ‘Chromosome’
plotCBS: no visible binding for global variable ‘Start_Position’
plotCBS: no visible global function definition for ‘par’
plotCBS: no visible global function definition for ‘plot’
plotCBS: no visible global function definition for ‘axis’
plotCBS: no visible global function definition for ‘abline’
plotCBS: no visible global function definition for ‘rect’
plotCBS: no visible binding for global variable ‘N’
plotCBS: no visible global function definition for ‘title’
plotCBS: no visible global function definition for ‘mtext’
plotCBSchr: no visible binding for global variable ‘Sample’
plotCBSchr: no visible binding for global variable ‘Chromosome’
plotCBSsegments: no visible binding for global variable ‘Chromosome’
plotCBSsegments: no visible binding for global variable
‘Start_Position’
plotCBSsegments: no visible binding for global variable ‘End_Position’
plotCBSsegments: no visible binding for global variable ‘Sample’
plotCBSsegments: no visible global function definition for
‘write.table’
plotCBSsegments: no visible global function definition for ‘.’
plotCBSsegments: no visible binding for global variable ‘Hugo_Symbol’
plotCBSsegments: no visible binding for global variable
‘Tumor_Sample_Barcode’
plotCBSsegments: no visible binding for global variable ‘Segment_Start’
plotCBSsegments: no visible binding for global variable ‘Segment_End’
plotCBSsegments: no visible binding for global variable ‘Segment_Mean’
plotCBSsegments: no visible binding for global variable ‘CN’
plotCBSsegments: no visible global function definition for ‘text’
plotCBSsegments: no visible global function definition for ‘segments’
plotClusters: no visible binding for global variable
‘Tumor_Sample_Barcode’
plotClusters: no visible global function definition for ‘par’
plotClusters: no visible global function definition for ‘boxplot’
plotClusters: no visible binding for global variable ‘t_vaf’
plotClusters: no visible global function definition for ‘density’
plotClusters: no visible global function definition for ‘plot’
plotClusters: no visible global function definition for ‘lines’
plotClusters: no visible global function definition for ‘abline’
plotClusters: no visible global function definition for ‘axis’
plotClusters: no visible global function definition for ‘points’
plotClusters: no visible global function definition for ‘title’
plotClusters: no visible binding for global variable ‘MATH’
plotClusters: no visible global function definition for ‘segments’
plotClusters: no visible global function definition for ‘text’
plotClusters: no visible binding for global variable ‘Hugo_Symbol’
plotClusters: no visible global function definition for ‘legend’
plotClusters: no visible global function definition for ‘mtext’
plotCophenetic: no visible global function definition for ‘par’
plotCophenetic: no visible global function definition for ‘plot’
plotCophenetic: no visible global function definition for ‘axis’
plotCophenetic: no visible global function definition for ‘lines’
plotCophenetic: no visible global function definition for ‘points’
plotCophenetic: no visible global function definition for ‘segments’
plotCophenetic: no visible binding for global variable ‘cophenetic’
plotCophenetic: no visible global function definition for ‘title’
plotEnrichmentResults: no visible binding for global variable ‘P_value’
plotEnrichmentResults : <anonymous>: no visible binding for global
variable ‘g1_muts’
plotEnrichmentResults : <anonymous>: no visible binding for global
variable ‘g1_tot’
plotEnrichmentResults : <anonymous>: no visible binding for global
variable ‘g2_muts’
plotEnrichmentResults : <anonymous>: no visible binding for global
variable ‘g2_tot’
plotEnrichmentResults: no visible binding for global variable
‘g1_title’
plotEnrichmentResults: no visible binding for global variable ‘g1_muts’
plotEnrichmentResults: no visible binding for global variable ‘g1_tot’
plotEnrichmentResults: no visible binding for global variable
‘g2_title’
plotEnrichmentResults: no visible binding for global variable ‘g2_muts’
plotEnrichmentResults: no visible binding for global variable ‘g2_tot’
plotEnrichmentResults: no visible binding for global variable ‘Group1’
plotEnrichmentResults : add_legend: no visible global function
definition for ‘par’
plotEnrichmentResults : add_legend: no visible global function
definition for ‘plot’
plotEnrichmentResults : add_legend: no visible global function
definition for ‘legend’
plotEnrichmentResults: no visible global function definition for ‘par’
plotEnrichmentResults: no visible global function definition for
‘barplot’
plotEnrichmentResults: no visible global function definition for ‘axis’
plotEnrichmentResults: no visible global function definition for
‘segments’
plotEnrichmentResults: no visible global function definition for ‘text’
plotEnrichmentResults: no visible global function definition for
‘legend’
plotEnrichmentResults: no visible global function definition for
‘title’
plotOncodrive: no visible binding for global variable ‘log_fdr’
plotOncodrive: no visible binding for global variable ‘fdr’
plotOncodrive: no visible global function definition for ‘par’
plotOncodrive: no visible binding for global variable ‘significant’
plotOncodrive: no visible global function definition for ‘mtext’
plotSignatures: no visible global function definition for ‘par’
plotSignatures: no visible global function definition for ‘barplot’
plotSignatures: no visible global function definition for ‘axis’
plotSignatures: no visible global function definition for ‘mtext’
plotSignatures: no visible global function definition for ‘plot.new’
plotSignatures: no visible global function definition for ‘legend’
plotSignatures: no visible global function definition for ‘title’
plotSignatures: no visible global function definition for ‘rect’
plotSignatures: no visible global function definition for ‘text’
plotTiTv: no visible binding for global variable ‘value’
plotTiTv: no visible global function definition for ‘.’
plotTiTv: no visible binding for global variable ‘variable’
plotTiTv: no visible binding for global variable ‘V1’
plotTiTv: no visible global function definition for ‘par’
plotTiTv: no visible global function definition for ‘barplot’
plotTiTv: no visible global function definition for ‘axis’
plotTiTv: no visible global function definition for ‘mtext’
plotTiTv: no visible global function definition for ‘boxplot’
plotTiTv: no visible global function definition for ‘plot’
plotTiTv: no visible global function definition for ‘abline’
plotVaf: no visible binding for global variable ‘Hugo_Symbol’
plotVaf: no visible binding for global variable ‘t_vaf’
plotVaf: no visible binding for global variable ‘t_alt_count’
plotVaf: no visible binding for global variable ‘t_ref_count’
plotVaf: no visible global function definition for ‘.’
plotVaf: no visible binding for global variable ‘value’
plotVaf: no visible global function definition for ‘median’
plotVaf: no visible binding for global variable ‘V1’
plotVaf: no visible global function definition for ‘par’
plotVaf: no visible global function definition for ‘boxplot’
plotVaf: no visible global function definition for ‘axis’
plotVaf: no visible global function definition for ‘abline’
plotVaf: no visible global function definition for ‘stripchart’
plotmafSummary: no visible binding for global variable ‘statFontSize’
plotmafSummary: no visible global function definition for ‘par’
plotmafSummary: no visible global function definition for ‘barplot’
plotmafSummary: no visible global function definition for ‘axis’
plotmafSummary: no visible global function definition for ‘title’
plotmafSummary: no visible binding for global variable ‘Mean’
plotmafSummary: no visible binding for global variable ‘Median’
plotmafSummary: no visible global function definition for ‘lines’
plotmafSummary: no visible binding for global variable ‘N’
plotmafSummary: no visible global function definition for ‘.’
plotmafSummary: no visible binding for global variable
‘Variant_Classification’
plotmafSummary: no visible global function definition for ‘boxplot’
plotmafSummary: no visible binding for global variable ‘boxStat’
plotmafSummary: no visible global function definition for ‘plot.new’
plotmafSummary: no visible global function definition for ‘legend’
prepareMutSig: no visible global function definition for ‘read.csv’
prepareMutSig: no visible binding for global variable
‘Variant_Classification’
prepareMutSig: no visible binding for global variable ‘OG_Hugo_Symbol’
prepareMutSig: no visible binding for global variable ‘Hugo_Symbol’
prepareMutSig: no visible global function definition for ‘.’
prepareMutSig: no visible binding for global variable ‘MutSig_Synonym’
prepareMutSig: no visible binding for global variable ‘N’
prepareMutSig: no visible global function definition for ‘write.table’
print_mat: no visible binding for global variable
‘Tumor_Sample_Barcode’
print_mat: no visible global function definition for ‘par’
print_mat: no visible global function definition for ‘image’
print_mat: no visible global function definition for ‘points’
print_mat: no visible binding for global variable ‘temp_af’
print_mat : <anonymous> : <anonymous>: no visible global function
definition for ‘points’
print_mat: no visible global function definition for ‘abline’
print_mat: no visible global function definition for ‘mtext’
print_mat: no visible global function definition for ‘text’
rainfallPlot: no visible binding for global variable
‘Tumor_Sample_Barcode’
rainfallPlot: no visible global function definition for ‘.’
rainfallPlot: no visible binding for global variable ‘Chromosome’
rainfallPlot: no visible binding for global variable ‘Hugo_Symbol’
rainfallPlot: no visible binding for global variable ‘Start_Position’
rainfallPlot: no visible binding for global variable ‘End_Position’
rainfallPlot: no visible binding for global variable ‘Reference_Allele’
rainfallPlot: no visible binding for global variable
‘Tumor_Seq_Allele2’
rainfallPlot: no visible binding for global variable ‘Variant_Type’
rainfallPlot: no visible global function definition for
‘complete.cases’
rainfallPlot: no visible global function definition for ‘par’
rainfallPlot: no visible global function definition for ‘plot’
rainfallPlot: no visible global function definition for ‘segments’
rainfallPlot: no visible global function definition for ‘points’
rainfallPlot: no visible global function definition for ‘axis’
rainfallPlot: no visible global function definition for ‘mtext’
rainfallPlot: no visible binding for global variable ‘id’
rainfallPlot: no visible binding for global variable ‘minDiff’
rainfallPlot: no visible binding for global variable
‘Start_Position_updated’
rainfallPlot: no visible binding for global variable
‘End_Position_updated’
rainfallPlot: no visible binding for global variable ‘pos’
rainfallPlot: no visible global function definition for ‘arrows’
rainfallPlot: no visible global function definition for ‘title’
rainfallPlot: no visible global function definition for ‘legend’
read.maf: no visible global function definition for ‘read.csv’
read.maf: no visible binding for global variable ‘Mutation_Status’
read.maf: no visible binding for global variable
‘Variant_Classification’
read.maf: no visible global function definition for ‘.’
read.maf: no visible binding for global variable ‘Tumor_Sample_Barcode’
read.maf: no visible binding for global variable ‘id’
read.maf: no visible binding for global variable ‘Hugo_Symbol’
readGistic: no visible binding for global variable ‘Unique_Name’
readGistic: no visible binding for global variable ‘Wide_Peak_Limits’
readGistic: no visible binding for global variable ‘cytoband’
readGistic: no visible binding for global variable ‘value’
readGistic: no visible global function definition for ‘.’
readGistic: no visible binding for global variable ‘variable’
readGistic : <anonymous>: no visible binding for global variable
‘variable’
readGistic : <anonymous>: no visible binding for global variable
‘cytoband’
readGistic : <anonymous>: no visible binding for global variable
‘TumorSampleBarcode’
readGistic: no visible binding for global variable ‘CN’
readGistic: no visible binding for global variable ‘TumorSampleBarcode’
readGistic: no visible binding for global variable ‘Variant_Type’
readGistic: no visible binding for global variable ‘Cytoband’
readGistic: no visible binding for global variable ‘peakID’
readGistic: no visible binding for global variable
‘Tumor_Sample_Barcode’
readGistic: no visible binding for global variable ‘qvalues’
readSegs: no visible binding for global variable ‘Chromosome’
readSegs: no visible binding for global variable ‘Start_Position’
readSegs: no visible binding for global variable ‘End_Position’
refineClusters: no visible binding for global variable ‘t_vaf’
repelPoints: no visible binding for global variable ‘pos’
repelPoints: no visible binding for global variable ‘distance’
repelPoints: no visible global function definition for ‘.’
run_surv: no visible global function definition for ‘pchisq’
run_surv: no visible binding for global variable ‘Group’
shiftPoints: no visible binding for global variable ‘pos’
signatureEnrichment: no visible global function definition for ‘kmeans’
signatureEnrichment: no visible binding for global variable ‘Cluster’
signatureEnrichment: no visible binding for global variable ‘Signature’
signatureEnrichment : <anonymous>: no visible binding for global
variable ‘Signature’
signatureEnrichment : <anonymous>: no visible binding for global
variable ‘Tumor_Sample_Barcode’
signatureEnrichment : <anonymous>: no visible binding for global
variable ‘sd’
signatureEnrichment : <anonymous>: no visible binding for global
variable ‘N’
signatureEnrichment : add_legend: no visible global function definition
for ‘par’
signatureEnrichment : add_legend: no visible global function definition
for ‘plot’
signatureEnrichment : add_legend: no visible global function definition
for ‘legend’
signatureEnrichment: no visible global function definition for ‘par’
signatureEnrichment: no visible global function definition for
‘barplot’
signatureEnrichment: no visible global function definition for
‘segments’
signatureEnrichment: no visible global function definition for ‘axis’
signatureEnrichment: no visible global function definition for ‘mtext’
signatureEnrichment: no visible global function definition for ‘title’
signatureEnrichment: no visible global function definition for
‘boxplot’
signatureEnrichment: no visible global function definition for ‘.’
signatureEnrichment: no visible global function definition for ‘median’
signatureEnrichment: no visible binding for global variable ‘N’
signatureEnrichment: no visible global function definition for
‘write.table’
somaticInteractions: no visible binding for global variable
‘Hugo_Symbol’
somaticInteractions: no visible binding for global variable
‘Tumor_Sample_Barcode’
somaticInteractions : <anonymous> : <anonymous>: no visible global
function definition for ‘fisher.test’
somaticInteractions: no visible binding for global variable ‘gene1’
somaticInteractions: no visible binding for global variable ‘gene2’
somaticInteractions: no visible global function definition for ‘.’
somaticInteractions: no visible binding for global variable ‘pValue’
somaticInteractions: no visible binding for global variable ‘pair’
somaticInteractions: no visible global function definition for ‘par’
somaticInteractions: no visible global function definition for ‘image’
somaticInteractions: no visible global function definition for ‘abline’
somaticInteractions: no visible global function definition for ‘mtext’
somaticInteractions: no visible global function definition for ‘points’
somaticInteractions: no visible global function definition for ‘axis’
somaticInteractions: no visible global function definition for ‘median’
somaticInteractions: no visible global function definition for ‘text’
sortByMutation: no visible binding for global variable ‘MutatedSamples’
sortByMutation: no visible binding for global variable ‘Hugo_Symbol’
subsetMaf: no visible binding for global variable ‘Variant_Type’
subsetMaf: no visible binding for global variable
‘Tumor_Sample_Barcode’
subsetMaf: no visible binding for global variable ‘Hugo_Symbol’
summarizeGistic: no visible binding for global variable ‘Hugo_Symbol’
summarizeGistic: no visible binding for global variable
‘Tumor_Sample_Barcode’
summarizeGistic: no visible global function definition for ‘.’
summarizeGistic: no visible binding for global variable
‘Variant_Classification’
summarizeGistic: no visible binding for global variable ‘total’
summarizeGistic: no visible binding for global variable ‘median’
summarizeGistic: no visible binding for global variable ‘Cytoband’
summarizeMaf: no visible binding for global variable ‘Variant_Type’
summarizeMaf: no visible binding for global variable ‘Hugo_Symbol’
summarizeMaf: no visible binding for global variable
‘Tumor_Sample_Barcode’
summarizeMaf: no visible global function definition for ‘.’
summarizeMaf: no visible binding for global variable
‘Variant_Classification’
summarizeMaf: no visible binding for global variable ‘total’
summarizeMaf: no visible binding for global variable ‘CNV_total’
summarizeMaf: no visible binding for global variable ‘median’
summarizeMaf: no visible binding for global variable ‘CNV’
summarizeMaf: no visible binding for global variable ‘MutatedSamples’
summarizeMaf: no visible binding for global variable ‘Mean’
summarizeMaf: no visible binding for global variable ‘Median’
survGroup: no visible binding for global variable ‘Hugo_Symbol’
survGroup: no visible global function definition for ‘combn’
survGroup: no visible binding for global variable ‘Time’
survGroup: no visible binding for global variable
‘Tumor_Sample_Barcode’
survGroup: no visible binding for global variable ‘P_value’
tcgaCompare: no visible global function definition for ‘read.csv’
tcgaCompare: no visible global function definition for ‘.’
tcgaCompare: no visible binding for global variable
‘Tumor_Sample_Barcode’
tcgaCompare: no visible binding for global variable ‘total’
tcgaCompare: no visible binding for global variable ‘site’
tcgaCompare: no visible binding for global variable ‘cohort’
tcgaCompare : <anonymous>: no visible global function definition for
‘.’
tcgaCompare : <anonymous>: no visible binding for global variable
‘Tumor_Sample_Barcode’
tcgaCompare : <anonymous>: no visible binding for global variable
‘total’
tcgaCompare : <anonymous>: no visible binding for global variable
‘cohort’
tcgaCompare: no visible global function definition for ‘median’
tcgaCompare: no visible binding for global variable ‘V2’
tcgaCompare : <anonymous>: no visible binding for global variable
‘TCGA’
tcgaCompare: no visible global function definition for ‘par’
tcgaCompare: no visible global function definition for ‘plot’
tcgaCompare: no visible global function definition for ‘rect’
tcgaCompare: no visible global function definition for ‘abline’
tcgaCompare : <anonymous>: no visible binding for global variable ‘V3’
tcgaCompare : <anonymous>: no visible global function definition for
‘points’
tcgaCompare: no visible global function definition for ‘axis’
tcgaCompare: no visible global function definition for ‘mtext’
tcgaCompare: no visible binding for global variable
‘Median_Mutations_log10’
tcgaCompare: no visible binding for global variable ‘Median_Mutations’
tcgaCompare : <anonymous>: no visible global function definition for
‘segments’
tcgaCompare : <anonymous>: no visible binding for global variable
‘Median_Mutations_log10’
tcgaCompare : <anonymous>: no visible binding for global variable
‘Median_Mutations’
titv: no visible binding for global variable ‘Reference_Allele’
titv: no visible binding for global variable ‘Tumor_Seq_Allele2’
titv: no visible binding for global variable ‘con’
titv: no visible global function definition for ‘.’
titv: no visible binding for global variable ‘Tumor_Sample_Barcode’
titv: no visible binding for global variable ‘N’
titv: no visible binding for global variable ‘con.class’
titv: no visible binding for global variable ‘fract’
titv: no visible binding for global variable ‘nVars’
titv: no visible binding for global variable ‘TiTv’
titv: no visible global function definition for ‘write.table’
transformSegments: no visible binding for global variable
‘Start_Position’
transformSegments: no visible binding for global variable
‘End_Position’
transformSegments: no visible binding for global variable ‘Chromosome’
trinucleotideMatrix: no visible binding for global variable ‘pkgname’
trinucleotideMatrix: no visible binding for global variable
‘Chromosome’
trinucleotideMatrix: no visible binding for global variable
‘Start_Position’
trinucleotideMatrix: no visible binding for global variable
‘End_Position’
trinucleotideMatrix: no visible binding for global variable ‘N’
trinucleotideMatrix: no visible binding for global variable ‘Start’
trinucleotideMatrix: no visible binding for global variable ‘End’
trinucleotideMatrix: no visible binding for global variable ‘upstream’
trinucleotideMatrix: no visible binding for global variable
‘downstream’
trinucleotideMatrix: no visible global function definition for ‘.’
trinucleotideMatrix: no visible binding for global variable ‘A’
trinucleotideMatrix: no visible binding for global variable ‘C’
trinucleotideMatrix: no visible binding for global variable ‘G’
trinucleotideMatrix: no visible binding for global variable
‘trinucleotide’
trinucleotideMatrix: no visible binding for global variable ‘updown’
trinucleotideMatrix: no visible binding for global variable ‘TCA’
trinucleotideMatrix: no visible binding for global variable ‘TCT’
trinucleotideMatrix: no visible binding for global variable ‘AGA’
trinucleotideMatrix: no visible binding for global variable ‘TGA’
trinucleotideMatrix: no visible binding for global variable ‘tcw’
trinucleotideMatrix: no visible binding for global variable ‘wga’
trinucleotideMatrix: no visible binding for global variable
‘Substitution’
trinucleotideMatrix: no visible binding for global variable
‘SubstitutionType’
trinucleotideMatrix: no visible binding for global variable
‘Tumor_Sample_Barcode’
trinucleotideMatrix: no visible binding for global variable ‘n_A’
trinucleotideMatrix: no visible binding for global variable ‘A>C’
trinucleotideMatrix: no visible binding for global variable ‘A>G’
trinucleotideMatrix: no visible binding for global variable ‘A>T’
trinucleotideMatrix: no visible binding for global variable ‘n_T’
trinucleotideMatrix: no visible binding for global variable ‘T>A’
trinucleotideMatrix: no visible binding for global variable ‘T>C’
trinucleotideMatrix: no visible binding for global variable ‘T>G’
trinucleotideMatrix: no visible binding for global variable ‘n_G’
trinucleotideMatrix: no visible binding for global variable ‘G>A’
trinucleotideMatrix: no visible binding for global variable ‘G>C’
trinucleotideMatrix: no visible binding for global variable ‘G>T’
trinucleotideMatrix: no visible binding for global variable ‘n_C’
trinucleotideMatrix: no visible binding for global variable ‘C>A’
trinucleotideMatrix: no visible binding for global variable ‘C>G’
trinucleotideMatrix: no visible binding for global variable ‘C>T’
trinucleotideMatrix: no visible binding for global variable
‘n_mutations’
trinucleotideMatrix: no visible binding for global variable
‘SubstitutionMotif’
trinucleotideMatrix: no visible binding for global variable ‘tCw_to_A’
trinucleotideMatrix: no visible binding for global variable ‘T[C>A]A’
trinucleotideMatrix: no visible binding for global variable ‘T[C>A]T’
trinucleotideMatrix: no visible binding for global variable ‘tCw_to_G’
trinucleotideMatrix: no visible binding for global variable ‘T[C>G]A’
trinucleotideMatrix: no visible binding for global variable ‘T[C>G]T’
trinucleotideMatrix: no visible binding for global variable ‘tCw_to_T’
trinucleotideMatrix: no visible binding for global variable ‘T[C>T]A’
trinucleotideMatrix: no visible binding for global variable ‘T[C>T]T’
trinucleotideMatrix: no visible binding for global variable ‘tCw’
trinucleotideMatrix: no visible binding for global variable ‘wGa_to_C’
trinucleotideMatrix: no visible binding for global variable ‘A[G>C]A’
trinucleotideMatrix: no visible binding for global variable ‘T[G>C]A’
trinucleotideMatrix: no visible binding for global variable ‘wGa_to_T’
trinucleotideMatrix: no visible binding for global variable ‘A[G>T]A’
trinucleotideMatrix: no visible binding for global variable ‘T[G>T]A’
trinucleotideMatrix: no visible binding for global variable ‘wGa_to_A’
trinucleotideMatrix: no visible binding for global variable ‘A[G>A]A’
trinucleotideMatrix: no visible binding for global variable ‘T[G>A]A’
trinucleotideMatrix: no visible binding for global variable ‘wGa’
trinucleotideMatrix: no visible binding for global variable
‘tCw_to_G+tCw_to_T’
trinucleotideMatrix: no visible binding for global variable
‘APOBEC_Enrichment’
trinucleotideMatrix: no visible binding for global variable
‘n_C>G_and_C>T’
trinucleotideMatrix: no visible binding for global variable
‘non_APOBEC_mutations’
trinucleotideMatrix: no visible binding for global variable
‘fraction_APOBEC_mutations’
trinucleotideMatrix : <anonymous>: no visible global function
definition for ‘fisher.test’
trinucleotideMatrix: no visible binding for global variable
‘fisher_pvalue’
trinucleotideMatrix: no visible binding for global variable ‘fdr’
trinucleotideMatrix: no visible global function definition for
‘p.adjust’
trinucleotideMatrix: no visible binding for global variable
‘APOBEC_Enriched’
trinucleotideMatrix: no visible binding for global variable
‘SubstitutionTypeMotif’
trinucleotideMatrix: no visible global function definition for
‘write.table’
validateMaf: no visible binding for global variable ‘variantId’
validateMaf: no visible binding for global variable ‘Chromosome’
validateMaf: no visible binding for global variable ‘Start_Position’
validateMaf: no visible binding for global variable
‘Tumor_Sample_Barcode’
validateMaf: no visible binding for global variable ‘Hugo_Symbol’
validateMaf: no visible binding for global variable
‘Variant_Classification’
validateMaf: no visible binding for global variable ‘Variant_Type’
write.GisticSummary: no visible global function definition for
‘write.table’
write.mafSummary: no visible global function definition for
‘write.table’
Undefined global functions or variables:
. A A>C A>G A>T AAChange AAChange_ AGA APOBEC_Enriched
APOBEC_Enrichment A[G>A]A A[G>C]A A[G>T]A Alt AlteredSamples Amp
Analysis C C>A C>G C>T CN CNV CNV_total Chromosome Cluster Cohort
Cytoband Del Description DomainLabel End End_Position
End_Position_updated Entrez Entrez_Gene_Id ExonicFunc.refGene FDR
Feature_1 Feature_2 Func.refGene G G>A G>C G>T Gene Gene.refGene
Genotype Group Group1 Group2 HGNC Hugo_Symbol ID Label MATH Mean
Median Median_Mutations Median_Mutations_log10 MutSig_Synonym
MutatedSamples MutatedSamples.x MutatedSamples.y Mutation_Status N
N.x N.y OG_Hugo_Symbol OR_high OR_low P_value Pathway Ref
Reference_Allele Sample SampleSize Segment_End Segment_Mean
Segment_Start Signature Size Start Start_Position
Start_Position_updated Substitution SubstitutionMotif
SubstitutionType SubstitutionTypeMotif T>A T>C T>G TCA TCGA TCT TGA
T[C>A]A T[C>A]T T[C>G]A T[C>G]T T[C>T]A T[C>T]T T[G>A]A T[G>C]A
T[G>T]A TiTv Time TumorSampleBarcode Tumor_Sample_Barcode
Tumor_Seq_Allele2 Unique_Name V1 V2 V3 Var1 Var2
Variant_Classification Variant_Type Wide_Peak_Limits aa.length abline
adjPval amp arrows assembly_version axis barplot bg boxStat boxplot
category cf chromosome chromosome_end chromosome_start ci.low ci.up
cohort colorRampPalette combn complete.cases con con.class
consequence_type conv cophenetic count count2 cytoband dbinom density
distance domain_lenght downstream dp endDist ens_id fdr fisher.test
fisher_pvalue fract fract_muts_in_clusters fraction
fraction_APOBEC_mutations fraction_affected fs g1_muts g1_title
g1_tot g2_muts g2_title g2_tot gene gene1 gene2 gene_affected glm
heat.colors hgnc_symbol i.End_Position i.Start_Position
icgc_sample_id id idx image kmeans lab labThis label legend lines loc
log10OR log10OR_high log10OR_low log_fdr log_q log_q_pancan median
minDiff mtext mutated_from_allele mutated_to_allele muts_in_clusters
nGenes nMut nMuts nVars n_A n_C n_C>G_and_C>T n_G n_T
n_affected_genes n_mutated_Feature n_mutated_Feature1
n_mutated_Feature2 n_mutated_group1 n_mutated_group2 n_mutations
na.omit nonApobec non_APOBEC_mutations or p.adjust pValue p_value
pair pairwise.table par pchisq peakID pfam pie pkgname plot plot.new
png pnorm points poisson poisson.test poissonFdr pos pos2 posRounded
protein.ID pval qf qnorm qvalues read.csv rect ref_alt_diff
reference_genome_allele refseq.ID row_idx sd segments
sequencing_strategy setTxtProgressBar significant site startDist
statFontSize stripchart survProb symbols tCw tCw_to_A tCw_to_G
tCw_to_G+tCw_to_T tCw_to_T tFdr t_alt_count t_ref_count t_vaf tcw
temp_af text th title tot total trinucleotide txtProgressBar unit
updown upstream value variable variantId verification_platform
verification_status wGa wGa_to_A wGa_to_C wGa_to_T wga wilcox.test
write.table
Consider adding
importFrom("grDevices", "colorRampPalette", "heat.colors", "png")
importFrom("graphics", "abline", "arrows", "axis", "barplot",
"boxplot", "image", "legend", "lines", "mtext", "par",
"pie", "plot", "plot.new", "points", "rect", "segments",
"stripchart", "symbols", "text", "title")
importFrom("stats", "C", "complete.cases", "cophenetic", "dbinom",
"density", "fisher.test", "glm", "kmeans", "median",
"na.omit", "p.adjust", "pairwise.table", "pchisq", "pnorm",
"poisson", "poisson.test", "qf", "qnorm", "sd",
"wilcox.test")
importFrom("utils", "combn", "read.csv", "setTxtProgressBar",
"txtProgressBar", "write.table")
to your NAMESPACE file.
* checking Rd files ... OK
* checking Rd metadata ... OK
* checking Rd cross-references ... OK
* checking for missing documentation entries ... OK
* checking for code/documentation mismatches ... OK
* checking Rd \usage sections ... OK
* checking Rd contents ... OK
* checking for unstated dependencies in examples ... OK
* checking files in ‘vignettes’ ... OK
* checking examples ... OK
Examples with CPU (user + system) or elapsed time > 5s
user system elapsed
plotOncodrive 14.561 8.371 4.232
oncodrive 13.943 7.387 4.158
pfamDomains 8.784 4.894 2.578
gisticChromPlot 6.416 3.143 1.884
gisticBubblePlot 5.910 3.508 1.762
write.GisticSummary 5.753 2.726 1.602
survGroup 5.139 3.236 1.809
subsetMaf 5.328 2.997 1.411
OncogenicPathways 5.377 2.743 1.977
gisticOncoPlot 5.688 2.198 1.821
mutCountMatrix 4.036 3.346 3.054
getCytobandSummary 4.191 3.181 1.572
oncoplot 4.966 2.277 1.186
mafSummary 4.488 2.477 1.547
tcgaCompare 4.804 2.156 1.116
readGistic 3.936 2.786 1.457
somaticInteractions 4.578 2.046 1.209
lollipopPlot 4.108 1.551 1.575
annovarToMaf 2.977 2.578 1.250
PlotOncogenicPathways 3.808 1.513 0.946
read.maf 3.842 1.418 0.817
drugInteractions 3.615 1.583 1.083
plotTiTv 2.952 2.236 1.033
plotmafSummary 3.911 1.235 0.923
* checking for unstated dependencies in vignettes ... OK
* checking package vignettes in ‘inst/doc’ ... OK
* checking running R code from vignettes ... SKIPPED
* checking re-building of vignette outputs ... SKIPPED
* checking PDF version of manual ... OK
* DONE
Status: 2 NOTEs
See
‘/Users/biocbuild/bbs-3.11-bioc/meat/maftools.Rcheck/00check.log’
for details.
Installation output
maftools.Rcheck/00install.out
Tests output
Example timings
maftools.Rcheck/maftools-Ex.timings