Back to Multiple platform build/check report for BioC 3.11 |
|
This page was generated on 2020-10-17 11:58:57 -0400 (Sat, 17 Oct 2020).
TO THE DEVELOPERS/MAINTAINERS OF THE microRNA PACKAGE: Please make sure to use the following settings in order to reproduce any error or warning you see on this page. |
Package 1079/1905 | Hostname | OS / Arch | INSTALL | BUILD | CHECK | BUILD BIN | ||||||
microRNA 1.46.0 "James F. Reid"
| malbec2 | Linux (Ubuntu 18.04.4 LTS) / x86_64 | OK | OK | OK | |||||||
tokay2 | Windows Server 2012 R2 Standard / x64 | OK | OK | OK | OK | |||||||
machv2 | macOS 10.14.6 Mojave / x86_64 | OK | OK | OK | [ OK ] |
Package: microRNA |
Version: 1.46.0 |
Command: rm -rf microRNA.buildbin-libdir && mkdir microRNA.buildbin-libdir && /Users/biocbuild/BBS/utils/build-universal.sh microRNA_1.46.0.tar.gz /Library/Frameworks/R.framework/Versions/Current/Resources/bin/R microRNA.buildbin-libdir |
StartedAt: 2020-10-17 07:29:17 -0400 (Sat, 17 Oct 2020) |
EndedAt: 2020-10-17 07:29:41 -0400 (Sat, 17 Oct 2020) |
EllapsedTime: 24.4 seconds |
RetCode: 0 |
Status: OK |
PackageFile: microRNA_1.46.0.tgz |
PackageFileSize: 5.777 MiB |
############################################################################## ############################################################################## ### ### Running command: ### ### rm -rf microRNA.buildbin-libdir && mkdir microRNA.buildbin-libdir && /Users/biocbuild/BBS/utils/build-universal.sh microRNA_1.46.0.tar.gz /Library/Frameworks/R.framework/Versions/Current/Resources/bin/R microRNA.buildbin-libdir ### ############################################################################## ############################################################################## >>>>>>> >>>>>>> INSTALLATION WITH 'R CMD INSTALL --preclean --no-multiarch --library=microRNA.buildbin-libdir microRNA_1.46.0.tar.gz' >>>>>>> * installing *source* package ‘microRNA’ ... ** using staged installation ** libs clang++ -mmacosx-version-min=10.13 -std=gnu++11 -I"/Library/Frameworks/R.framework/Resources/include" -DNDEBUG -I/usr/local/include -fPIC -Wall -g -O2 -c longest_common_substring.cpp -o longest_common_substring.o clang++ -mmacosx-version-min=10.13 -std=gnu++11 -dynamiclib -Wl,-headerpad_max_install_names -undefined dynamic_lookup -single_module -multiply_defined suppress -L/Library/Frameworks/R.framework/Resources/lib -L/usr/local/lib -o microRNA.so longest_common_substring.o -F/Library/Frameworks/R.framework/.. -framework R -Wl,-framework -Wl,CoreFoundation installing to /Users/biocbuild/bbs-3.11-bioc/meat/microRNA.buildbin-libdir/00LOCK-microRNA/00new/microRNA/libs ** R ** data ** inst ** byte-compile and prepare package for lazy loading ** help *** installing help indices ** building package indices ** testing if installed package can be loaded from temporary location ** checking absolute paths in shared objects and dynamic libraries ** testing if installed package can be loaded from final location ** testing if installed package keeps a record of temporary installation path * DONE (microRNA) >>>>>>> >>>>>>> FIXING LINKS FOR microRNA.buildbin-libdir/microRNA/libs/microRNA.so >>>>>>> install_name_tool -change "/usr/local/lib/libgcc_s.1.dylib" "/Library/Frameworks/R.framework/Versions/4.0/Resources/lib/libgcc_s.1.dylib" "microRNA.buildbin-libdir/microRNA/libs/microRNA.so" install_name_tool -change "/usr/local/lib/libgfortran.5.dylib" "/Library/Frameworks/R.framework/Versions/4.0/Resources/lib/libgfortran.5.dylib" "microRNA.buildbin-libdir/microRNA/libs/microRNA.so" install_name_tool -change "/usr/local/lib/libquadmath.0.dylib" "/Library/Frameworks/R.framework/Versions/4.0/Resources/lib/libquadmath.0.dylib" "microRNA.buildbin-libdir/microRNA/libs/microRNA.so"