Back to Multiple platform build/check report for BioC 3.11 |
|
This page was generated on 2020-09-28 12:27:57 -0400 (Mon, 28 Sep 2020).
TO THE DEVELOPERS/MAINTAINERS OF THE psygenet2r PACKAGE: Please make sure to use the following settings in order to reproduce any error or warning you see on this page. |
Package 1375/1905 | Hostname | OS / Arch | INSTALL | BUILD | CHECK | BUILD BIN | ||||||
psygenet2r 1.20.0 Alba Gutierrez-Sacristan
| malbec2 | Linux (Ubuntu 18.04.4 LTS) / x86_64 | OK | OK | WARNINGS | |||||||
tokay2 | Windows Server 2012 R2 Standard / x64 | OK | OK | ERROR | OK | |||||||
machv2 | macOS 10.14.6 Mojave / x86_64 | OK | OK | WARNINGS | [ OK ] |
Package: psygenet2r |
Version: 1.20.0 |
Command: rm -rf psygenet2r.buildbin-libdir && mkdir psygenet2r.buildbin-libdir && /Users/biocbuild/BBS/utils/build-universal.sh psygenet2r_1.20.0.tar.gz /Library/Frameworks/R.framework/Versions/Current/Resources/bin/R psygenet2r.buildbin-libdir |
StartedAt: 2020-09-28 07:36:57 -0400 (Mon, 28 Sep 2020) |
EndedAt: 2020-09-28 07:37:23 -0400 (Mon, 28 Sep 2020) |
EllapsedTime: 26.0 seconds |
RetCode: 0 |
Status: OK |
PackageFile: psygenet2r_1.20.0.tgz |
PackageFileSize: 1.392 MiB |
############################################################################## ############################################################################## ### ### Running command: ### ### rm -rf psygenet2r.buildbin-libdir && mkdir psygenet2r.buildbin-libdir && /Users/biocbuild/BBS/utils/build-universal.sh psygenet2r_1.20.0.tar.gz /Library/Frameworks/R.framework/Versions/Current/Resources/bin/R psygenet2r.buildbin-libdir ### ############################################################################## ############################################################################## >>>>>>> >>>>>>> INSTALLATION WITH 'R CMD INSTALL --preclean --no-multiarch --library=psygenet2r.buildbin-libdir psygenet2r_1.20.0.tar.gz' >>>>>>> * installing *source* package ‘psygenet2r’ ... ** using staged installation ** R ** data *** moving datasets to lazyload DB ** inst ** byte-compile and prepare package for lazy loading Note: possible error in 'psygenetGene(x, databse = "ALL")': unused argument (databse = "ALL") Note: possible error in 'psygenetGene(x, databse = "ALL")': unused argument (databse = "ALL") Note: possible error in 'psygenetGene(x, databse = "ALL")': unused argument (databse = "ALL") Note: possible error in 'psygenetGene(x, databse = "ALL", ': unused argument (databse = "ALL") ** help *** installing help indices ** building package indices ** installing vignettes ** testing if installed package can be loaded from temporary location ** testing if installed package can be loaded from final location ** testing if installed package keeps a record of temporary installation path * DONE (psygenet2r)