Back to Multiple platform build/check report for BioC 3.11
ABCDEFGHIJKLMNOP[Q]RSTUVWXYZ

CHECK report for qckitfastq on celaya2

This page was generated on 2019-12-17 12:10:58 -0500 (Tue, 17 Dec 2019).

Package 1326/1808HostnameOS / ArchINSTALLBUILDCHECKBUILD BIN
qckitfastq 1.3.0
August Guang
Snapshot Date: 2019-12-16 16:46:10 -0500 (Mon, 16 Dec 2019)
URL: https://git.bioconductor.org/packages/qckitfastq
Branch: master
Last Commit: 4af3351
Last Changed Date: 2019-10-29 13:43:31 -0500 (Tue, 29 Oct 2019)
malbec2 Linux (Ubuntu 18.04.3 LTS) / x86_64  OK  OK  OK UNNEEDED, same version exists in internal repository
celaya2 OS X 10.11.6 El Capitan / x86_64  OK  OK [ OK ] OK UNNEEDED, same version exists in internal repository

Summary

Package: qckitfastq
Version: 1.3.0
Command: /Library/Frameworks/R.framework/Versions/Current/Resources/bin/R CMD check --install=check:qckitfastq.install-out.txt --library=/Library/Frameworks/R.framework/Versions/Current/Resources/library --no-vignettes --timings qckitfastq_1.3.0.tar.gz
StartedAt: 2019-12-17 07:11:01 -0500 (Tue, 17 Dec 2019)
EndedAt: 2019-12-17 07:13:27 -0500 (Tue, 17 Dec 2019)
EllapsedTime: 145.6 seconds
RetCode: 0
Status:  OK 
CheckDir: qckitfastq.Rcheck
Warnings: 0

Command output

##############################################################################
##############################################################################
###
### Running command:
###
###   /Library/Frameworks/R.framework/Versions/Current/Resources/bin/R CMD check --install=check:qckitfastq.install-out.txt --library=/Library/Frameworks/R.framework/Versions/Current/Resources/library --no-vignettes --timings qckitfastq_1.3.0.tar.gz
###
##############################################################################
##############################################################################


* using log directory ‘/Users/biocbuild/bbs-3.11-bioc/meat/qckitfastq.Rcheck’
* using R Under development (unstable) (2019-12-14 r77572)
* using platform: x86_64-apple-darwin15.6.0 (64-bit)
* using session charset: UTF-8
* using option ‘--no-vignettes’
* checking for file ‘qckitfastq/DESCRIPTION’ ... OK
* checking extension type ... Package
* this is package ‘qckitfastq’ version ‘1.3.0’
* package encoding: UTF-8
* checking package namespace information ... OK
* checking package dependencies ... OK
* checking if this is a source package ... OK
* checking if there is a namespace ... OK
* checking for hidden files and directories ... OK
* checking for portable file names ... OK
* checking for sufficient/correct file permissions ... OK
* checking whether package ‘qckitfastq’ can be installed ... OK
* checking installed package size ... OK
* checking package directory ... OK
* checking ‘build’ directory ... OK
* checking DESCRIPTION meta-information ... OK
* checking top-level files ... OK
* checking for left-over files ... OK
* checking index information ... OK
* checking package subdirectories ... OK
* checking R files for non-ASCII characters ... OK
* checking R files for syntax errors ... OK
* checking whether the package can be loaded ... OK
* checking whether the package can be loaded with stated dependencies ... OK
* checking whether the package can be unloaded cleanly ... OK
* checking whether the namespace can be loaded with stated dependencies ... OK
* checking whether the namespace can be unloaded cleanly ... OK
* checking dependencies in R code ... OK
* checking S3 generic/method consistency ... OK
* checking replacement functions ... OK
* checking foreign function calls ... OK
* checking R code for possible problems ... OK
* checking Rd files ... OK
* checking Rd metadata ... OK
* checking Rd cross-references ... OK
* checking for missing documentation entries ... OK
* checking for code/documentation mismatches ... OK
* checking Rd \usage sections ... OK
* checking Rd contents ... OK
* checking for unstated dependencies in examples ... OK
* checking line endings in C/C++/Fortran sources/headers ... OK
* checking line endings in Makefiles ... OK
* checking compilation flags in Makevars ... OK
* checking for GNU extensions in Makefiles ... OK
* checking for portable use of $(BLAS_LIBS) and $(LAPACK_LIBS) ... OK
* checking use of PKG_*FLAGS in Makefiles ... OK
* checking compiled code ... NOTE
Note: information on .o files is not available
* checking sizes of PDF files under ‘inst/doc’ ... OK
* checking files in ‘vignettes’ ... OK
* checking examples ... OK
Examples with CPU (user + system) or elapsed time > 5s
          user system elapsed
run_all 24.307 12.292  32.561
* checking for unstated dependencies in ‘tests’ ... OK
* checking tests ...
  Running ‘testthat.R’
 OK
* checking for unstated dependencies in vignettes ... OK
* checking package vignettes in ‘inst/doc’ ... OK
* checking running R code from vignettes ... SKIPPED
* checking re-building of vignette outputs ... SKIPPED
* checking PDF version of manual ... OK
* DONE

Status: 1 NOTE
See
  ‘/Users/biocbuild/bbs-3.11-bioc/meat/qckitfastq.Rcheck/00check.log’
for details.



Installation output

qckitfastq.Rcheck/00install.out

##############################################################################
##############################################################################
###
### Running command:
###
###   /Library/Frameworks/R.framework/Versions/Current/Resources/bin/R CMD INSTALL qckitfastq
###
##############################################################################
##############################################################################


* installing to library ‘/Library/Frameworks/R.framework/Versions/4.0/Resources/library’
* installing *source* package ‘qckitfastq’ ...
** using staged installation
** libs
clang++ -std=gnu++14 -I"/Library/Frameworks/R.framework/Resources/include" -DNDEBUG  -I'/Library/Frameworks/R.framework/Versions/4.0/Resources/library/Rcpp/include' -I'/Library/Frameworks/R.framework/Versions/4.0/Resources/library/RSeqAn/include' -isysroot /Library/Developer/CommandLineTools/SDKs/MacOSX.sdk -I/usr/local/include   -fPIC  -Wall -g -O2  -c RcppExports.cpp -o RcppExports.o
clang++ -std=gnu++14 -I"/Library/Frameworks/R.framework/Resources/include" -DNDEBUG  -I'/Library/Frameworks/R.framework/Versions/4.0/Resources/library/Rcpp/include' -I'/Library/Frameworks/R.framework/Versions/4.0/Resources/library/RSeqAn/include' -isysroot /Library/Developer/CommandLineTools/SDKs/MacOSX.sdk -I/usr/local/include   -fPIC  -Wall -g -O2  -c calc_adapter_content.cpp -o calc_adapter_content.o
clang++ -std=gnu++14 -I"/Library/Frameworks/R.framework/Resources/include" -DNDEBUG  -I'/Library/Frameworks/R.framework/Versions/4.0/Resources/library/Rcpp/include' -I'/Library/Frameworks/R.framework/Versions/4.0/Resources/library/RSeqAn/include' -isysroot /Library/Developer/CommandLineTools/SDKs/MacOSX.sdk -I/usr/local/include   -fPIC  -Wall -g -O2  -c gzstream.cpp -o gzstream.o
clang++ -std=gnu++14 -I"/Library/Frameworks/R.framework/Resources/include" -DNDEBUG  -I'/Library/Frameworks/R.framework/Versions/4.0/Resources/library/Rcpp/include' -I'/Library/Frameworks/R.framework/Versions/4.0/Resources/library/RSeqAn/include' -isysroot /Library/Developer/CommandLineTools/SDKs/MacOSX.sdk -I/usr/local/include   -fPIC  -Wall -g -O2  -c read_fastq.cpp -o read_fastq.o
clang++ -std=gnu++14 -dynamiclib -Wl,-headerpad_max_install_names -undefined dynamic_lookup -single_module -multiply_defined suppress -L/Library/Frameworks/R.framework/Resources/lib -L/usr/local/lib -o qckitfastq.so RcppExports.o calc_adapter_content.o gzstream.o read_fastq.o -lz -F/Library/Frameworks/R.framework/.. -framework R -Wl,-framework -Wl,CoreFoundation
installing to /Library/Frameworks/R.framework/Versions/4.0/Resources/library/00LOCK-qckitfastq/00new/qckitfastq/libs
** R
** inst
** byte-compile and prepare package for lazy loading
** help
*** installing help indices
** building package indices
** installing vignettes
** testing if installed package can be loaded from temporary location
** checking absolute paths in shared objects and dynamic libraries
** testing if installed package can be loaded from final location
** testing if installed package keeps a record of temporary installation path
* DONE (qckitfastq)

Tests output

qckitfastq.Rcheck/tests/testthat.Rout


R Under development (unstable) (2019-12-14 r77572) -- "Unsuffered Consequences"
Copyright (C) 2019 The R Foundation for Statistical Computing
Platform: x86_64-apple-darwin15.6.0 (64-bit)

R is free software and comes with ABSOLUTELY NO WARRANTY.
You are welcome to redistribute it under certain conditions.
Type 'license()' or 'licence()' for distribution details.

R is a collaborative project with many contributors.
Type 'contributors()' for more information and
'citation()' on how to cite R or R packages in publications.

Type 'demo()' for some demos, 'help()' for on-line help, or
'help.start()' for an HTML browser interface to help.
Type 'q()' to quit R.

> library(testthat)
> library(qckitfastq)
> 
> test_check("qckitfastq")
[fastqq] File ( 1/1) '/Library/Frameworks/R.framework/Versions/4.0/Resources/library/qckitfastq/extdata/10^5_reads_test.fq.gz'	done.
[fastq_Klocs] File ( 1/1) '/Library/Frameworks/R.framework/Versions/4.0/Resources/library/qckitfastq/extdata/10^5_reads_test.fq.gz' 	done.
[fastqq] File ( 1/1) '/Library/Frameworks/R.framework/Versions/4.0/Resources/library/qckitfastq/extdata/10^5_reads_test.fq.gz'	done.
[fastqq] File ( 1/1) '/Library/Frameworks/R.framework/Versions/4.0/Resources/library/qckitfastq/extdata/10^5_reads_test.fq.gz'	done.
[fastq_Klocs] File ( 1/1) '/Library/Frameworks/R.framework/Versions/4.0/Resources/library/qckitfastq/extdata/10^5_reads_test.fq.gz' 	done.
[fastqq] File ( 1/1) '/Library/Frameworks/R.framework/Versions/4.0/Resources/library/qckitfastq/extdata/10^5_reads_test.fq.gz'	done.
[fastq_Klocs] File ( 1/1) '/Library/Frameworks/R.framework/Versions/4.0/Resources/library/qckitfastq/extdata/10^5_reads_test.fq.gz' 	done.
══ testthat results  ═══════════════════════════════════════════════════════════
[ OK: 37 | SKIPPED: 0 | WARNINGS: 2 | FAILED: 0 ]
> 
> proc.time()
   user  system elapsed 
 47.591  20.691  48.130 

Example timings

qckitfastq.Rcheck/qckitfastq-Ex.timings

nameusersystemelapsed
GC_content0.2440.0060.253
adapter_content0.0050.0020.007
calc_adapter_content0.0040.0010.004
calc_format_score0.0000.0000.001
calc_over_rep_seq0.1150.0080.123
dimensions0.1700.0210.194
find_format0.0020.0010.002
gc_per_read0.2270.0030.230
kmer_count0.0580.0030.063
overrep_kmer1.4990.8660.856
overrep_reads0.1410.0050.147
per_base_quality0.3370.0180.356
per_read_quality0.2780.0070.284
plot_GC_content0.7450.0280.774
plot_adapter_content0.2860.0030.290
plot_overrep_kmer1.8660.9271.117
plot_overrep_reads0.4130.0060.419
plot_per_base_quality1.6410.0171.668
plot_per_read_quality0.5580.0190.577
plot_read_content0.5510.0060.559
plot_read_length0.3820.0020.385
qual_score_per_read0.2930.0140.307
read_base_content0.0830.0020.085
read_content0.0930.0060.099
read_length0.0030.0000.004
run_all24.30712.29232.561