Back to Multiple platform build/check report for BioC 3.11 |
|
This page was generated on 2020-01-16 13:33:08 -0500 (Thu, 16 Jan 2020).
Package 1556/1818 | Hostname | OS / Arch | INSTALL | BUILD | CHECK | BUILD BIN | ||||||
seqbias 1.35.0 Daniel Jones
| malbec2 | Linux (Ubuntu 18.04.3 LTS) / x86_64 | OK | OK | WARNINGS | |||||||
tokay2 | Windows Server 2012 R2 Standard / x64 | OK | OK | WARNINGS | ERROR | |||||||
celaya2 | OS X 10.11.6 El Capitan / x86_64 | OK | [ OK ] | WARNINGS | OK |
Package: seqbias |
Version: 1.35.0 |
Command: /Library/Frameworks/R.framework/Versions/Current/Resources/bin/R CMD build --keep-empty-dirs --no-resave-data seqbias |
StartedAt: 2020-01-15 20:29:43 -0500 (Wed, 15 Jan 2020) |
EndedAt: 2020-01-15 20:32:42 -0500 (Wed, 15 Jan 2020) |
EllapsedTime: 178.5 seconds |
RetCode: 0 |
Status: OK |
PackageFile: seqbias_1.35.0.tar.gz |
PackageFileSize: 718.7 KiB |
############################################################################## ############################################################################## ### ### Running command: ### ### /Library/Frameworks/R.framework/Versions/Current/Resources/bin/R CMD build --keep-empty-dirs --no-resave-data seqbias ### ############################################################################## ############################################################################## * checking for file ‘seqbias/DESCRIPTION’ ... OK * preparing ‘seqbias’: * checking DESCRIPTION meta-information ... OK * cleaning src * installing the package to build vignettes * creating vignettes ... OK * cleaning src * checking for LF line-endings in source and make files and shell scripts * checking for empty or unneeded directories * building ‘seqbias_1.35.0.tar.gz’