Back to Multiple platform build/check report for BioC 3.11 |
|
This page was generated on 2020-10-17 11:59:37 -0400 (Sat, 17 Oct 2020).
TO THE DEVELOPERS/MAINTAINERS OF THE sigaR PACKAGE: Please make sure to use the following settings in order to reproduce any error or warning you see on this page. |
Package 1649/1905 | Hostname | OS / Arch | INSTALL | BUILD | CHECK | BUILD BIN | ||||||
sigaR 1.36.0 Wessel N. van Wieringen
| malbec2 | Linux (Ubuntu 18.04.4 LTS) / x86_64 | OK | OK | ERROR | |||||||
tokay2 | Windows Server 2012 R2 Standard / x64 | OK | OK | ERROR | NA | |||||||
machv2 | macOS 10.14.6 Mojave / x86_64 | OK | OK | ERROR | [ OK ] |
Package: sigaR |
Version: 1.36.0 |
Command: rm -rf sigaR.buildbin-libdir && mkdir sigaR.buildbin-libdir && /Users/biocbuild/BBS/utils/build-universal.sh sigaR_1.36.0.tar.gz /Library/Frameworks/R.framework/Versions/Current/Resources/bin/R sigaR.buildbin-libdir |
StartedAt: 2020-10-17 07:59:19 -0400 (Sat, 17 Oct 2020) |
EndedAt: 2020-10-17 07:59:38 -0400 (Sat, 17 Oct 2020) |
EllapsedTime: 19.0 seconds |
RetCode: 0 |
Status: OK |
PackageFile: sigaR_1.36.0.tgz |
PackageFileSize: 797.5 KiB |
############################################################################## ############################################################################## ### ### Running command: ### ### rm -rf sigaR.buildbin-libdir && mkdir sigaR.buildbin-libdir && /Users/biocbuild/BBS/utils/build-universal.sh sigaR_1.36.0.tar.gz /Library/Frameworks/R.framework/Versions/Current/Resources/bin/R sigaR.buildbin-libdir ### ############################################################################## ############################################################################## >>>>>>> >>>>>>> INSTALLATION WITH 'R CMD INSTALL --preclean --no-multiarch --library=sigaR.buildbin-libdir sigaR_1.36.0.tar.gz' >>>>>>> * installing *source* package ‘sigaR’ ... ** using staged installation ** R ** data ** inst ** byte-compile and prepare package for lazy loading ** help *** installing help indices ** building package indices ** installing vignettes ** testing if installed package can be loaded from temporary location ** testing if installed package can be loaded from final location ** testing if installed package keeps a record of temporary installation path * DONE (sigaR)