Back to Multiple platform build/check report for BioC 3.11 |
|
This page was generated on 2020-10-17 11:59:40 -0400 (Sat, 17 Oct 2020).
TO THE DEVELOPERS/MAINTAINERS OF THE sojourner PACKAGE: Please make sure to use the following settings in order to reproduce any error or warning you see on this page. |
Package 1697/1905 | Hostname | OS / Arch | INSTALL | BUILD | CHECK | BUILD BIN | ||||||
sojourner 1.2.1 Sojourner Developer
| malbec2 | Linux (Ubuntu 18.04.4 LTS) / x86_64 | OK | OK | OK | |||||||
tokay2 | Windows Server 2012 R2 Standard / x64 | OK | OK | ERROR | NA | |||||||
machv2 | macOS 10.14.6 Mojave / x86_64 | OK | OK | [ OK ] | OK |
Package: sojourner |
Version: 1.2.1 |
Command: /Library/Frameworks/R.framework/Versions/Current/Resources/bin/R CMD check --install=check:sojourner.install-out.txt --library=/Library/Frameworks/R.framework/Versions/Current/Resources/library --no-vignettes --timings sojourner_1.2.1.tar.gz |
StartedAt: 2020-10-17 05:31:15 -0400 (Sat, 17 Oct 2020) |
EndedAt: 2020-10-17 05:43:21 -0400 (Sat, 17 Oct 2020) |
EllapsedTime: 725.4 seconds |
RetCode: 0 |
Status: OK |
CheckDir: sojourner.Rcheck |
Warnings: 0 |
############################################################################## ############################################################################## ### ### Running command: ### ### /Library/Frameworks/R.framework/Versions/Current/Resources/bin/R CMD check --install=check:sojourner.install-out.txt --library=/Library/Frameworks/R.framework/Versions/Current/Resources/library --no-vignettes --timings sojourner_1.2.1.tar.gz ### ############################################################################## ############################################################################## * using log directory ‘/Users/biocbuild/bbs-3.11-bioc/meat/sojourner.Rcheck’ * using R version 4.0.3 (2020-10-10) * using platform: x86_64-apple-darwin17.0 (64-bit) * using session charset: UTF-8 * using option ‘--no-vignettes’ * checking for file ‘sojourner/DESCRIPTION’ ... OK * this is package ‘sojourner’ version ‘1.2.1’ * package encoding: UTF-8 * checking package namespace information ... OK * checking package dependencies ... OK * checking if this is a source package ... OK * checking if there is a namespace ... OK * checking for hidden files and directories ... OK * checking for portable file names ... OK * checking for sufficient/correct file permissions ... OK * checking whether package ‘sojourner’ can be installed ... OK * checking installed package size ... OK * checking package directory ... OK * checking ‘build’ directory ... OK * checking DESCRIPTION meta-information ... OK * checking top-level files ... OK * checking for left-over files ... OK * checking index information ... OK * checking package subdirectories ... OK * checking R files for non-ASCII characters ... OK * checking R files for syntax errors ... OK * checking whether the package can be loaded ... OK * checking whether the package can be loaded with stated dependencies ... OK * checking whether the package can be unloaded cleanly ... OK * checking whether the namespace can be loaded with stated dependencies ... OK * checking whether the namespace can be unloaded cleanly ... OK * checking dependencies in R code ... OK * checking S3 generic/method consistency ... OK * checking replacement functions ... OK * checking foreign function calls ... OK * checking R code for possible problems ... OK * checking Rd files ... OK * checking Rd metadata ... OK * checking Rd cross-references ... OK * checking for missing documentation entries ... OK * checking for code/documentation mismatches ... OK * checking Rd \usage sections ... OK * checking Rd contents ... OK * checking for unstated dependencies in examples ... OK * checking files in ‘vignettes’ ... OK * checking examples ... OK Examples with CPU (user + system) or elapsed time > 5s user system elapsed plotLocalizations_Density-methods 55.281 0.341 55.753 plotTrackOverlay_Dcoef-methods 46.089 0.102 46.274 fitNormDistr-methods 42.943 0.294 43.358 Dcoef-methods 17.511 0.207 17.745 maskTracks-methods 15.798 0.394 16.226 plotIndividual_Tracks-methods 12.362 0.359 12.735 plotTrack-methods 8.764 0.253 9.042 fitRT-methods 6.561 0.092 6.691 compare_RT_CDF-methods 6.254 0.101 163.160 combineTrackll-methods 6.132 0.109 155.491 msd-methods 5.351 0.061 5.420 * checking for unstated dependencies in ‘tests’ ... OK * checking tests ... Running ‘runTests.R’ OK * checking for unstated dependencies in vignettes ... OK * checking package vignettes in ‘inst/doc’ ... OK * checking running R code from vignettes ... SKIPPED * checking re-building of vignette outputs ... SKIPPED * checking PDF version of manual ... OK * DONE Status: OK
sojourner.Rcheck/00install.out
############################################################################## ############################################################################## ### ### Running command: ### ### /Library/Frameworks/R.framework/Versions/Current/Resources/bin/R CMD INSTALL sojourner ### ############################################################################## ############################################################################## * installing to library ‘/Library/Frameworks/R.framework/Versions/4.0/Resources/library’ * installing *source* package ‘sojourner’ ... ** using staged installation ** R ** inst ** byte-compile and prepare package for lazy loading ** help *** installing help indices ** building package indices ** installing vignettes ** testing if installed package can be loaded from temporary location ** testing if installed package can be loaded from final location ** testing if installed package keeps a record of temporary installation path * DONE (sojourner)
sojourner.Rcheck/tests/runTests.Rout
R version 4.0.3 (2020-10-10) -- "Bunny-Wunnies Freak Out" Copyright (C) 2020 The R Foundation for Statistical Computing Platform: x86_64-apple-darwin17.0 (64-bit) R is free software and comes with ABSOLUTELY NO WARRANTY. You are welcome to redistribute it under certain conditions. Type 'license()' or 'licence()' for distribution details. R is a collaborative project with many contributors. Type 'contributors()' for more information and 'citation()' on how to cite R or R packages in publications. Type 'demo()' for some demos, 'help()' for on-line help, or 'help.start()' for an HTML browser interface to help. Type 'q()' to quit R. > BiocGenerics:::testPackage("sojourner") Reading ParticleTracker file: SWR1_WT_140mW_image6.csv ... mage6 read and processed. Process complete. Reading ParticleTracker file: SWR1_WT_140mW_image6.csv ... mage6 read and processed. Process complete. applying filter, min 5 max Inf Reading ParticleTracker file: SWR1_WT_140mW_image6.csv ... mage6 read and processed. Process complete. applying filter, min 5 max Inf applying filter, min 7 max Inf 45 tracks length > & = 1 45 tracks length > & = 2 45 tracks length > & = 3 45 tracks length > & = 4 45 tracks length > & = 5 45 tracks length > & = 6 ... Reading ParticleTracker file: SWR1_WT_140mW_image6.csv ... mage6 read and processed. Process complete. applying trimmer, min 1 max 20 RUNIT TEST PROTOCOL -- Sat Oct 17 05:43:12 2020 *********************************************** Number of test functions: 4 Number of errors: 0 Number of failures: 0 1 Test Suite : sojourner RUnit Tests - 4 test functions, 0 errors, 0 failures Number of test functions: 4 Number of errors: 0 Number of failures: 0 > > proc.time() user system elapsed 9.220 0.482 9.699
sojourner.Rcheck/sojourner-Ex.timings
name | user | system | elapsed | |
Dcoef-methods | 17.511 | 0.207 | 17.745 | |
combineTrackll-methods | 6.132 | 0.109 | 155.491 | |
compareFolder-methods | 0.259 | 0.014 | 0.273 | |
compare_RT_CDF-methods | 6.254 | 0.101 | 163.160 | |
createTrackll-methods | 0.067 | 0.007 | 0.074 | |
dispVariance-methods | 1.587 | 0.017 | 1.607 | |
displacementCDF-methods | 3.256 | 0.186 | 3.483 | |
dwellTime-methods | 0.543 | 0.007 | 0.552 | |
exportTrackll-methods | 0.133 | 0.017 | 0.152 | |
filterTrack-methods | 0.156 | 0.007 | 0.165 | |
fitNormDistr-methods | 42.943 | 0.294 | 43.358 | |
fitRT-methods | 6.561 | 0.092 | 6.691 | |
linkSkippedFrames-methods | 0.240 | 0.028 | 0.269 | |
maskTracks-methods | 15.798 | 0.394 | 16.226 | |
mergeTracks-methods | 0.069 | 0.007 | 0.076 | |
msd-methods | 5.351 | 0.061 | 5.420 | |
plotIndividual_Tracks-methods | 12.362 | 0.359 | 12.735 | |
plotLocalizations_Density-methods | 55.281 | 0.341 | 55.753 | |
plotTrack-methods | 8.764 | 0.253 | 9.042 | |
plotTrackOverlay_Dcoef-methods | 46.089 | 0.102 | 46.274 | |
sojournerGUI-methods | 0 | 0 | 0 | |
squareDisp-methods | 0.247 | 0.012 | 0.261 | |