Back to Multiple platform build/check report for BioC 3.11 |
|
This page was generated on 2020-10-16 11:58:58 -0400 (Fri, 16 Oct 2020).
TO THE DEVELOPERS/MAINTAINERS OF THE ssPATHS PACKAGE: Please make sure to use the following settings in order to reproduce any error or warning you see on this page. |
Package 1736/1905 | Hostname | OS / Arch | INSTALL | BUILD | CHECK | BUILD BIN | ||||||
ssPATHS 1.2.0 Natalie R. Davidson
| malbec2 | Linux (Ubuntu 18.04.4 LTS) / x86_64 | OK | OK | OK | |||||||
tokay2 | Windows Server 2012 R2 Standard / x64 | OK | OK | OK | [ OK ] | |||||||
machv2 | macOS 10.14.6 Mojave / x86_64 | OK | OK | OK | OK |
Package: ssPATHS |
Version: 1.2.0 |
Command: rm -rf ssPATHS.buildbin-libdir && mkdir ssPATHS.buildbin-libdir && C:\Users\biocbuild\bbs-3.11-bioc\R\bin\R.exe CMD INSTALL --merge-multiarch --build --library=ssPATHS.buildbin-libdir ssPATHS_1.2.0.tar.gz |
StartedAt: 2020-10-16 11:24:57 -0400 (Fri, 16 Oct 2020) |
EndedAt: 2020-10-16 11:25:48 -0400 (Fri, 16 Oct 2020) |
EllapsedTime: 51.3 seconds |
RetCode: 0 |
Status: OK |
PackageFile: ssPATHS_1.2.0.zip |
PackageFileSize: 3.666 MiB |
############################################################################## ############################################################################## ### ### Running command: ### ### rm -rf ssPATHS.buildbin-libdir && mkdir ssPATHS.buildbin-libdir && C:\Users\biocbuild\bbs-3.11-bioc\R\bin\R.exe CMD INSTALL --merge-multiarch --build --library=ssPATHS.buildbin-libdir ssPATHS_1.2.0.tar.gz ### ############################################################################## ############################################################################## install for i386 * installing *source* package 'ssPATHS' ... ** using staged installation ** R ** data *** moving datasets to lazyload DB ** inst ** byte-compile and prepare package for lazy loading ** help *** installing help indices converting help for package 'ssPATHS' finding HTML links ... done expected_score_output html gene_weights_reference html get_classification_accuracy html get_gene_weights html get_hypoxia_genes html get_new_samp_score html new_samp_df html tcga_expr_df html ** building package indices ** installing vignettes ** testing if installed package can be loaded from temporary location ** testing if installed package can be loaded from final location ** testing if installed package keeps a record of temporary installation path install for x64 * installing *source* package 'ssPATHS' ... ** testing if installed package can be loaded * MD5 sums packaged installation of 'ssPATHS' as ssPATHS_1.2.0.zip * DONE (ssPATHS)