Back to Multiple platform build/check report for BioC 3.11 |
|
This page was generated on 2020-01-16 13:36:03 -0500 (Thu, 16 Jan 2020).
Package 1795/1818 | Hostname | OS / Arch | INSTALL | BUILD | CHECK | BUILD BIN | ||||||
wateRmelon 1.31.0 Leo
| malbec2 | Linux (Ubuntu 18.04.3 LTS) / x86_64 | OK | OK | OK | |||||||
tokay2 | Windows Server 2012 R2 Standard / x64 | OK | OK | OK | NA | |||||||
celaya2 | OS X 10.11.6 El Capitan / x86_64 | [ OK ] | OK | OK | OK |
Package: wateRmelon |
Version: 1.31.0 |
Command: /Library/Frameworks/R.framework/Versions/Current/Resources/bin/R CMD INSTALL wateRmelon |
StartedAt: 2020-01-15 19:24:48 -0500 (Wed, 15 Jan 2020) |
EndedAt: 2020-01-15 19:26:01 -0500 (Wed, 15 Jan 2020) |
EllapsedTime: 73.2 seconds |
RetCode: 0 |
Status: OK |
############################################################################## ############################################################################## ### ### Running command: ### ### /Library/Frameworks/R.framework/Versions/Current/Resources/bin/R CMD INSTALL wateRmelon ### ############################################################################## ############################################################################## * installing to library ‘/Library/Frameworks/R.framework/Versions/4.0/Resources/library’ * installing *source* package ‘wateRmelon’ ... ** using staged installation ** R ** data ** inst ** byte-compile and prepare package for lazy loading No methods found in package ‘RSQLite’ for request: ‘dbListFields’ when loading ‘lumi’ Creating a generic function from function ‘as.methylumi’ in package ‘wateRmelon’ ** help *** installing help indices ** building package indices ** installing vignettes ‘wateRmelon.Rnw’ ** testing if installed package can be loaded from temporary location No methods found in package ‘RSQLite’ for request: ‘dbListFields’ when loading ‘lumi’ ** testing if installed package can be loaded from final location No methods found in package ‘RSQLite’ for request: ‘dbListFields’ when loading ‘lumi’ ** testing if installed package keeps a record of temporary installation path * DONE (wateRmelon)