Back to Multiple platform build/check report for BioC 3.11 |
|
This page was generated on 2020-10-17 11:59:53 -0400 (Sat, 17 Oct 2020).
TO THE DEVELOPERS/MAINTAINERS OF THE wateRmelon PACKAGE: Please make sure to use the following settings in order to reproduce any error or warning you see on this page. |
Package 1881/1905 | Hostname | OS / Arch | INSTALL | BUILD | CHECK | BUILD BIN | ||||||
wateRmelon 1.32.0 Leo
| malbec2 | Linux (Ubuntu 18.04.4 LTS) / x86_64 | OK | OK | OK | ![]() | ||||||
tokay2 | Windows Server 2012 R2 Standard / x64 | OK | OK | OK | NA | |||||||
machv2 | macOS 10.14.6 Mojave / x86_64 | OK | OK | OK | [ OK ] | ![]() |
Package: wateRmelon |
Version: 1.32.0 |
Command: rm -rf wateRmelon.buildbin-libdir && mkdir wateRmelon.buildbin-libdir && /Users/biocbuild/BBS/utils/build-universal.sh wateRmelon_1.32.0.tar.gz /Library/Frameworks/R.framework/Versions/Current/Resources/bin/R wateRmelon.buildbin-libdir |
StartedAt: 2020-10-17 08:11:04 -0400 (Sat, 17 Oct 2020) |
EndedAt: 2020-10-17 08:12:14 -0400 (Sat, 17 Oct 2020) |
EllapsedTime: 70.0 seconds |
RetCode: 0 |
Status: OK |
PackageFile: wateRmelon_1.32.0.tgz |
PackageFileSize: 1.374 MiB |
############################################################################## ############################################################################## ### ### Running command: ### ### rm -rf wateRmelon.buildbin-libdir && mkdir wateRmelon.buildbin-libdir && /Users/biocbuild/BBS/utils/build-universal.sh wateRmelon_1.32.0.tar.gz /Library/Frameworks/R.framework/Versions/Current/Resources/bin/R wateRmelon.buildbin-libdir ### ############################################################################## ############################################################################## >>>>>>> >>>>>>> INSTALLATION WITH 'R CMD INSTALL --preclean --no-multiarch --library=wateRmelon.buildbin-libdir wateRmelon_1.32.0.tar.gz' >>>>>>> * installing *source* package ‘wateRmelon’ ... ** using staged installation ** R ** data ** inst ** byte-compile and prepare package for lazy loading No methods found in package ‘RSQLite’ for request: ‘dbListFields’ when loading ‘lumi’ Creating a generic function from function ‘as.methylumi’ in package ‘wateRmelon’ ** help *** installing help indices ** building package indices ** installing vignettes ** testing if installed package can be loaded from temporary location No methods found in package ‘RSQLite’ for request: ‘dbListFields’ when loading ‘lumi’ ** testing if installed package can be loaded from final location No methods found in package ‘RSQLite’ for request: ‘dbListFields’ when loading ‘lumi’ ** testing if installed package keeps a record of temporary installation path * DONE (wateRmelon)