Back to "Blame Jeroen" build/check report for BioC 3.11

BUILD BIN report for AnnotationFilter on tokay2

This page was generated on 2020-04-15 03:20:12 -0400 (Wed, 15 Apr 2020).

These builds are using Rtools40 and R-testing by Jeroen Ooms (available at https://cran.r-project.org/bin/windows/testing/rtools40.html)
TO THE DEVELOPERS/MAINTAINERS OF THE AnnotationFilter PACKAGE: Please make sure to use the following settings in order to reproduce any error or warning you see on this page.
Package 6/89HostnameOS / ArchINSTALLBUILDCHECKBUILD BIN
AnnotationFilter 1.11.0
Bioconductor Package Maintainer
Snapshot Date: 2020-04-14 17:00:05 -0400 (Tue, 14 Apr 2020)
URL: https://git.bioconductor.org/packages/AnnotationFilter
Branch: master
Last Commit: 5c2ac36
Last Changed Date: 2019-10-29 13:42:18 -0400 (Tue, 29 Oct 2019)
tokay2 Windows Server 2012 R2 Standard / x64  OK  OK  OK [ OK ]

Summary

Package: AnnotationFilter
Version: 1.11.0
Command: rm -rf AnnotationFilter.buildbin-libdir && mkdir AnnotationFilter.buildbin-libdir && C:\Users\bioctesting\bbs-3.11-bioc-testing\R\bin\R.exe CMD INSTALL --merge-multiarch --build --library=AnnotationFilter.buildbin-libdir AnnotationFilter_1.11.0.tar.gz
StartedAt: 2020-04-15 00:00:47 -0400 (Wed, 15 Apr 2020)
EndedAt: 2020-04-15 00:01:10 -0400 (Wed, 15 Apr 2020)
EllapsedTime: 23.2 seconds
RetCode: 0
Status:  OK  
PackageFile: AnnotationFilter_1.11.0.zip
PackageFileSize: 520.4 KiB

Command output

##############################################################################
##############################################################################
###
### Running command:
###
###   rm -rf AnnotationFilter.buildbin-libdir && mkdir AnnotationFilter.buildbin-libdir && C:\Users\bioctesting\bbs-3.11-bioc-testing\R\bin\R.exe CMD INSTALL --merge-multiarch --build --library=AnnotationFilter.buildbin-libdir AnnotationFilter_1.11.0.tar.gz
###
##############################################################################
##############################################################################



install for i386

* installing *source* package 'AnnotationFilter' ...
** using staged installation
** R
** inst
** byte-compile and prepare package for lazy loading
** help
*** installing help indices
  converting help for package 'AnnotationFilter'
    finding HTML links ... done
    AnnotationFilter                        html  
    AnnotationFilterList                    html  
    GenenameFilter                          html  
** building package indices
** installing vignettes
** testing if installed package can be loaded from temporary location
** testing if installed package can be loaded from final location
** testing if installed package keeps a record of temporary installation path

install for x64

* installing *source* package 'AnnotationFilter' ...
** testing if installed package can be loaded
* MD5 sums
packaged installation of 'AnnotationFilter' as AnnotationFilter_1.11.0.zip
* DONE (AnnotationFilter)