Back to "Blame Jeroen" build/check report for BioC 3.11 |
This page was generated on 2020-04-15 03:20:11 -0400 (Wed, 15 Apr 2020).
These builds are using Rtools40 and R-testing by Jeroen Ooms (available at https://cran.r-project.org/bin/windows/testing/rtools40.html) |
TO THE DEVELOPERS/MAINTAINERS OF THE AnnotationHub PACKAGE: Please make sure to use the following settings in order to reproduce any error or warning you see on this page. |
Package 8/89 | Hostname | OS / Arch | INSTALL | BUILD | CHECK | BUILD BIN | |||||
AnnotationHub 2.19.9 Bioconductor Package Maintainer
| tokay2 | Windows Server 2012 R2 Standard / x64 | [ OK ] | OK | WARNINGS | OK |
Package: AnnotationHub |
Version: 2.19.9 |
Command: C:\cygwin\bin\curl.exe -O https://malbec2.bioconductor.org/BBS/3.11/bioc-testing/src/contrib/AnnotationHub_2.19.9.tar.gz && rm -rf AnnotationHub.buildbin-libdir && mkdir AnnotationHub.buildbin-libdir && C:\Users\bioctesting\bbs-3.11-bioc-testing\R\bin\R.exe CMD INSTALL --merge-multiarch --build --library=AnnotationHub.buildbin-libdir AnnotationHub_2.19.9.tar.gz && C:\Users\bioctesting\bbs-3.11-bioc-testing\R\bin\R.exe CMD INSTALL AnnotationHub_2.19.9.zip && rm AnnotationHub_2.19.9.tar.gz AnnotationHub_2.19.9.zip |
StartedAt: 2020-04-14 18:18:34 -0400 (Tue, 14 Apr 2020) |
EndedAt: 2020-04-14 18:19:01 -0400 (Tue, 14 Apr 2020) |
EllapsedTime: 26.4 seconds |
RetCode: 0 |
Status: OK |
############################################################################## ############################################################################## ### ### Running command: ### ### C:\cygwin\bin\curl.exe -O https://malbec2.bioconductor.org/BBS/3.11/bioc-testing/src/contrib/AnnotationHub_2.19.9.tar.gz && rm -rf AnnotationHub.buildbin-libdir && mkdir AnnotationHub.buildbin-libdir && C:\Users\bioctesting\bbs-3.11-bioc-testing\R\bin\R.exe CMD INSTALL --merge-multiarch --build --library=AnnotationHub.buildbin-libdir AnnotationHub_2.19.9.tar.gz && C:\Users\bioctesting\bbs-3.11-bioc-testing\R\bin\R.exe CMD INSTALL AnnotationHub_2.19.9.zip && rm AnnotationHub_2.19.9.tar.gz AnnotationHub_2.19.9.zip ### ############################################################################## ############################################################################## % Total % Received % Xferd Average Speed Time Time Time Current Dload Upload Total Spent Left Speed 0 0 0 0 0 0 0 0 --:--:-- --:--:-- --:--:-- 0 100 214k 100 214k 0 0 1894k 0 --:--:-- --:--:-- --:--:-- 2002k install for i386 * installing *source* package 'AnnotationHub' ... ** using staged installation ** R ** inst ** byte-compile and prepare package for lazy loading ** help *** installing help indices converting help for package 'AnnotationHub' finding HTML links ... done AnnotationHub-class html AnnotationHub-package html AnnotationHubResource-class html Hub-utils html convertHub html getAnnotationHubOption html listResources html utils html ** building package indices ** installing vignettes ** testing if installed package can be loaded from temporary location ** testing if installed package can be loaded from final location ** testing if installed package keeps a record of temporary installation path install for x64 * installing *source* package 'AnnotationHub' ... ** testing if installed package can be loaded * MD5 sums packaged installation of 'AnnotationHub' as AnnotationHub_2.19.9.zip * DONE (AnnotationHub) * installing to library 'C:/Users/bioctesting/bbs-3.11-bioc-testing/R/library' package 'AnnotationHub' successfully unpacked and MD5 sums checked