Back to Multiple platform build/check report for BioC 3.11 (small subset of software packages ONLY)

INSTALL report for BiocParallel on malbec2

This page was generated on 2020-01-24 03:57:02 -0500 (Fri, 24 Jan 2020).

Package 10/41HostnameOS / ArchINSTALLBUILDCHECKBUILD BIN
BiocParallel 1.21.2
Bioconductor Package Maintainer
Snapshot Date: 2020-01-24 01:50:48 -0500 (Fri, 24 Jan 2020)
URL: https://git.bioconductor.org/packages/BiocParallel
Branch: master
Last Commit: 15dc9f6
Last Changed Date: 2019-12-25 18:38:52 -0500 (Wed, 25 Dec 2019)
malbec2 Linux (Ubuntu 18.04.3 LTS) / x86_64 [ OK ] OK  OK 
tokay2 Windows Server 2012 R2 Standard / x64  OK  ERROR  skipped  skipped 

Summary

Package: BiocParallel
Version: 1.21.2
Command: /home/biocbuild/bbs-3.11-bioc/R/bin/R CMD INSTALL BiocParallel
StartedAt: 2020-01-24 01:57:30 -0500 (Fri, 24 Jan 2020)
EndedAt: 2020-01-24 01:57:46 -0500 (Fri, 24 Jan 2020)
EllapsedTime: 16.0 seconds
RetCode: 0
Status:  OK 

Command output

##############################################################################
##############################################################################
###
### Running command:
###
###   /home/biocbuild/bbs-3.11-bioc/R/bin/R CMD INSTALL BiocParallel
###
##############################################################################
##############################################################################


* installing to library ‘/home/biocbuild/bbs-3.11-bioc-testing/Rlibs’
* installing *source* package ‘BiocParallel’ ...
** using staged installation
checking for gcc... gcc
checking whether the C compiler works... yes
checking for C compiler default output file name... a.out
checking for suffix of executables... 
checking whether we are cross compiling... no
checking for suffix of object files... o
checking whether we are using the GNU C compiler... yes
checking whether gcc accepts -g... yes
checking for gcc option to accept ISO C89... none needed
checking for shm_open in -lrt... yes
configure: creating ./config.status
config.status: creating src/Makevars
** libs
g++ -std=gnu++11 -I"/home/biocbuild/bbs-3.11-bioc/R/include" -DNDEBUG  -I'/home/biocbuild/bbs-3.11-bioc/R/library/BH/include' -I/usr/local/include   -fpic  -g -O2  -Wall -c ipcmutex.cpp -o ipcmutex.o
g++ -std=gnu++11 -shared -L/home/biocbuild/bbs-3.11-bioc/R/lib -L/usr/local/lib -o BiocParallel.so ipcmutex.o -lrt -L/home/biocbuild/bbs-3.11-bioc/R/lib -lR
installing to /home/biocbuild/bbs-3.11-bioc-testing/Rlibs/00LOCK-BiocParallel/00new/BiocParallel/libs
** R
** inst
** byte-compile and prepare package for lazy loading
** help
*** installing help indices
** building package indices
** installing vignettes
** testing if installed package can be loaded from temporary location
** checking absolute paths in shared objects and dynamic libraries
** testing if installed package can be loaded from final location
** testing if installed package keeps a record of temporary installation path
* DONE (BiocParallel)