Back to Multiple platform build/check report for BioC 3.11 (small subset of software packages ONLY) |
This page was generated on 2020-01-24 03:57:02 -0500 (Fri, 24 Jan 2020).
Package 14/41 | Hostname | OS / Arch | INSTALL | BUILD | CHECK | BUILD BIN | |||||
Biostrings 2.55.4 H. Pagès
| malbec2 | Linux (Ubuntu 18.04.3 LTS) / x86_64 | OK | [ OK ] | WARNINGS | ||||||
tokay2 | Windows Server 2012 R2 Standard / x64 | OK | ERROR | skipped | skipped |
Package: Biostrings |
Version: 2.55.4 |
Command: /home/biocbuild/bbs-3.11-bioc/R/bin/R CMD build --keep-empty-dirs --no-resave-data Biostrings |
StartedAt: 2020-01-24 02:18:58 -0500 (Fri, 24 Jan 2020) |
EndedAt: 2020-01-24 02:20:54 -0500 (Fri, 24 Jan 2020) |
EllapsedTime: 116.3 seconds |
RetCode: 0 |
Status: OK |
PackageFile: Biostrings_2.55.4.tar.gz |
PackageFileSize: 12.13 MiB |
############################################################################## ############################################################################## ### ### Running command: ### ### /home/biocbuild/bbs-3.11-bioc/R/bin/R CMD build --keep-empty-dirs --no-resave-data Biostrings ### ############################################################################## ############################################################################## * checking for file ‘Biostrings/DESCRIPTION’ ... OK * preparing ‘Biostrings’: * checking DESCRIPTION meta-information ... OK * cleaning src * installing the package to build vignettes * creating vignettes ... OK * cleaning src * checking for LF line-endings in source and make files and shell scripts * checking for empty or unneeded directories * looking to see if a ‘data/datalist’ file should be added * building ‘Biostrings_2.55.4.tar.gz’