Back to "Blame Jeroen" build/check report for BioC 3.11 |
This page was generated on 2020-04-15 03:20:09 -0400 (Wed, 15 Apr 2020).
These builds are using Rtools40 and R-testing by Jeroen Ooms (available at https://cran.r-project.org/bin/windows/testing/rtools40.html) |
TO THE DEVELOPERS/MAINTAINERS OF THE S4Vectors PACKAGE: Please make sure to use the following settings in order to reproduce any error or warning you see on this page. |
Package 76/89 | Hostname | OS / Arch | INSTALL | BUILD | CHECK | BUILD BIN | |||||
S4Vectors 0.25.15 Bioconductor Package Maintainer
| tokay2 | Windows Server 2012 R2 Standard / x64 | OK | [ OK ] | WARNINGS | OK |
Package: S4Vectors |
Version: 0.25.15 |
Command: chmod a+r S4Vectors -R && C:\Users\bioctesting\bbs-3.11-bioc-testing\R\bin\R.exe CMD build --keep-empty-dirs --no-resave-data S4Vectors |
StartedAt: 2020-04-14 18:31:29 -0400 (Tue, 14 Apr 2020) |
EndedAt: 2020-04-14 18:33:10 -0400 (Tue, 14 Apr 2020) |
EllapsedTime: 100.6 seconds |
RetCode: 0 |
Status: OK |
PackageFile: S4Vectors_0.25.15.tar.gz |
PackageFileSize: 641.6 KiB |
############################################################################## ############################################################################## ### ### Running command: ### ### chmod a+r S4Vectors -R && C:\Users\bioctesting\bbs-3.11-bioc-testing\R\bin\R.exe CMD build --keep-empty-dirs --no-resave-data S4Vectors ### ############################################################################## ############################################################################## * checking for file 'S4Vectors/DESCRIPTION' ... OK * preparing 'S4Vectors': * checking DESCRIPTION meta-information ... OK * cleaning src * installing the package to build vignettes * creating vignettes ... OK * cleaning src * checking for LF line-endings in source and make files and shell scripts * checking for empty or unneeded directories * building 'S4Vectors_0.25.15.tar.gz'