Back to "Blame Jeroen" build/check report for BioC 3.11

BUILD report for ensembldb on tokay2

This page was generated on 2020-04-15 03:20:14 -0400 (Wed, 15 Apr 2020).

These builds are using Rtools40 and R-testing by Jeroen Ooms (available at https://cran.r-project.org/bin/windows/testing/rtools40.html)
TO THE DEVELOPERS/MAINTAINERS OF THE ensembldb PACKAGE: Please make sure to use the following settings in order to reproduce any error or warning you see on this page.
Package 33/89HostnameOS / ArchINSTALLBUILDCHECKBUILD BIN
ensembldb 2.11.3
Johannes Rainer
Snapshot Date: 2020-04-14 17:00:05 -0400 (Tue, 14 Apr 2020)
URL: https://git.bioconductor.org/packages/ensembldb
Branch: master
Last Commit: 514b9d3
Last Changed Date: 2020-01-22 10:20:06 -0400 (Wed, 22 Jan 2020)
tokay2 Windows Server 2012 R2 Standard / x64  OK [ OK ] OK  OK 

Summary

Package: ensembldb
Version: 2.11.3
Command: chmod a+r ensembldb -R && C:\Users\bioctesting\bbs-3.11-bioc-testing\R\bin\R.exe CMD build --keep-empty-dirs --no-resave-data ensembldb
StartedAt: 2020-04-14 19:42:25 -0400 (Tue, 14 Apr 2020)
EndedAt: 2020-04-14 20:10:29 -0400 (Tue, 14 Apr 2020)
EllapsedTime: 1684.1 seconds
RetCode: 0
Status:  OK  
PackageFile: ensembldb_2.11.3.tar.gz
PackageFileSize: 3.039 MiB

Command output

##############################################################################
##############################################################################
###
### Running command:
###
###   chmod a+r ensembldb -R && C:\Users\bioctesting\bbs-3.11-bioc-testing\R\bin\R.exe CMD build --keep-empty-dirs --no-resave-data ensembldb
###
##############################################################################
##############################################################################


* checking for file 'ensembldb/DESCRIPTION' ... OK
* preparing 'ensembldb':
* checking DESCRIPTION meta-information ... OK
* installing the package to build vignettes
* creating vignettes ... OK
* checking for LF line-endings in source and make files and shell scripts
* checking for empty or unneeded directories
* building 'ensembldb_2.11.3.tar.gz'