Back to Multiple platform build/check report for BioC 3.11 (small subset of software packages ONLY)

BUILD report for zlibbioc on malbec2

This page was generated on 2020-01-24 03:57:02 -0500 (Fri, 24 Jan 2020).

Package 41/41HostnameOS / ArchINSTALLBUILDCHECKBUILD BIN
zlibbioc 1.33.1
Bioconductor Package Maintainer
Snapshot Date: 2020-01-24 01:50:48 -0500 (Fri, 24 Jan 2020)
URL: https://git.bioconductor.org/packages/zlibbioc
Branch: master
Last Commit: 11be463
Last Changed Date: 2020-01-23 21:51:48 -0500 (Thu, 23 Jan 2020)
malbec2 Linux (Ubuntu 18.04.3 LTS) / x86_64  OK [ OK ] OK 
tokay2 Windows Server 2012 R2 Standard / x64  OK  ERROR  skipped  skipped 

Summary

Package: zlibbioc
Version: 1.33.1
Command: /home/biocbuild/bbs-3.11-bioc/R/bin/R CMD build --keep-empty-dirs --no-resave-data zlibbioc
StartedAt: 2020-01-24 02:15:08 -0500 (Fri, 24 Jan 2020)
EndedAt: 2020-01-24 02:15:16 -0500 (Fri, 24 Jan 2020)
EllapsedTime: 7.5 seconds
RetCode: 0
Status:  OK 
PackageFile: zlibbioc_1.33.1.tar.gz
PackageFileSize: 251.5 KiB

Command output

##############################################################################
##############################################################################
###
### Running command:
###
###   /home/biocbuild/bbs-3.11-bioc/R/bin/R CMD build --keep-empty-dirs --no-resave-data zlibbioc
###
##############################################################################
##############################################################################


* checking for file ‘zlibbioc/DESCRIPTION’ ... OK
* preparing ‘zlibbioc’:
* checking DESCRIPTION meta-information ... OK
* cleaning src
* installing the package to build vignettes
* creating vignettes ... OK
* cleaning src
* checking for LF line-endings in source and make files and shell scripts
* checking for empty or unneeded directories
* building ‘zlibbioc_1.33.1.tar.gz’