Back to Build/check report for BioC 3.11 experimental data |
This page was generated on 2020-10-15 20:46:01 -0400 (Thu, 15 Oct 2020).
TO THE DEVELOPERS/MAINTAINERS OF THE SNAGEEdata PACKAGE: Please make sure to use the following settings in order to reproduce any error or warning you see on this page. |
Package 343/391 | Hostname | OS / Arch | INSTALL | BUILD | CHECK | ||||||
SNAGEEdata 1.24.0 David Venet
| malbec2 | Linux (Ubuntu 18.04.4 LTS) / x86_64 | OK | [ OK ] | OK | ![]() |
Package: SNAGEEdata |
Version: 1.24.0 |
Command: /home/biocbuild/bbs-3.11-bioc/R/bin/R CMD build --keep-empty-dirs --no-resave-data SNAGEEdata |
StartedAt: 2020-10-15 12:36:21 -0400 (Thu, 15 Oct 2020) |
EndedAt: 2020-10-15 12:36:49 -0400 (Thu, 15 Oct 2020) |
EllapsedTime: 28.5 seconds |
RetCode: 0 |
Status: OK |
PackageFile: SNAGEEdata_1.24.0.tar.gz |
PackageFileSize: 29.22 MiB |
############################################################################## ############################################################################## ### ### Running command: ### ### /home/biocbuild/bbs-3.11-bioc/R/bin/R CMD build --keep-empty-dirs --no-resave-data SNAGEEdata ### ############################################################################## ############################################################################## * checking for file ‘SNAGEEdata/DESCRIPTION’ ... OK * preparing ‘SNAGEEdata’: * checking DESCRIPTION meta-information ... OK * checking for LF line-endings in source and make files and shell scripts * checking for empty or unneeded directories * building ‘SNAGEEdata_1.24.0.tar.gz’