Back to Multiple platform build/check report for BioC 3.12 |
|
This page was generated on 2021-05-06 12:34:31 -0400 (Thu, 06 May 2021).
To the developers/maintainers of the CGHcall package: Please make sure to use the following settings in order to reproduce any error or warning you see on this page. |
Package 269/1974 | Hostname | OS / Arch | INSTALL | BUILD | CHECK | BUILD BIN | ||||||||
CGHcall 2.52.0 (landing page) Mark van de Wiel
| malbec1 | Linux (Ubuntu 18.04.5 LTS) / x86_64 | OK | OK | OK | |||||||||
tokay1 | Windows Server 2012 R2 Standard / x64 | OK | OK | OK | OK | |||||||||
merida1 | macOS 10.14.6 Mojave / x86_64 | OK | OK | OK | OK | |||||||||
Package: CGHcall |
Version: 2.52.0 |
Command: rm -rf CGHcall.buildbin-libdir && mkdir CGHcall.buildbin-libdir && /Users/biocbuild/BBS/utils/build-universal.sh CGHcall_2.52.0.tar.gz /Library/Frameworks/R.framework/Versions/Current/Resources/bin/R CGHcall.buildbin-libdir |
StartedAt: 2021-05-06 08:09:49 -0400 (Thu, 06 May 2021) |
EndedAt: 2021-05-06 08:10:55 -0400 (Thu, 06 May 2021) |
EllapsedTime: 66.2 seconds |
RetCode: 0 |
Status: OK |
PackageFile: CGHcall_2.52.0.tgz |
PackageFileSize: 458.5 KiB |
############################################################################## ############################################################################## ### ### Running command: ### ### rm -rf CGHcall.buildbin-libdir && mkdir CGHcall.buildbin-libdir && /Users/biocbuild/BBS/utils/build-universal.sh CGHcall_2.52.0.tar.gz /Library/Frameworks/R.framework/Versions/Current/Resources/bin/R CGHcall.buildbin-libdir ### ############################################################################## ############################################################################## >>>>>>> >>>>>>> INSTALLATION WITH 'R CMD INSTALL --preclean --no-multiarch --library=CGHcall.buildbin-libdir CGHcall_2.52.0.tar.gz' >>>>>>> * installing *source* package ‘CGHcall’ ... ** using staged installation ** R ** data ** inst ** byte-compile and prepare package for lazy loading ** help *** installing help indices ** building package indices ** installing vignettes ** testing if installed package can be loaded from temporary location ** testing if installed package can be loaded from final location ** testing if installed package keeps a record of temporary installation path * DONE (CGHcall)