Back to Multiple platform build/check report for BioC 3.12 |
|
This page was generated on 2021-05-06 12:30:58 -0400 (Thu, 06 May 2021).
To the developers/maintainers of the DNABarcodeCompatibility package: Please make sure to use the following settings in order to reproduce any error or warning you see on this page. |
Package 498/1974 | Hostname | OS / Arch | INSTALL | BUILD | CHECK | BUILD BIN | ||||||||
DNABarcodeCompatibility 1.6.0 (landing page) Céline Trébeau
| malbec1 | Linux (Ubuntu 18.04.5 LTS) / x86_64 | OK | OK | OK | ![]() | ||||||||
tokay1 | Windows Server 2012 R2 Standard / x64 | OK | OK | OK | OK | ![]() | ||||||||
merida1 | macOS 10.14.6 Mojave / x86_64 | OK | OK | OK | OK | ![]() | ||||||||
Package: DNABarcodeCompatibility |
Version: 1.6.0 |
Command: rm -rf DNABarcodeCompatibility.buildbin-libdir && mkdir DNABarcodeCompatibility.buildbin-libdir && C:\Users\biocbuild\bbs-3.12-bioc\R\bin\R.exe CMD INSTALL --merge-multiarch --build --library=DNABarcodeCompatibility.buildbin-libdir DNABarcodeCompatibility_1.6.0.tar.gz |
StartedAt: 2021-05-06 08:56:39 -0400 (Thu, 06 May 2021) |
EndedAt: 2021-05-06 08:57:05 -0400 (Thu, 06 May 2021) |
EllapsedTime: 26.1 seconds |
RetCode: 0 |
Status: OK |
PackageFile: DNABarcodeCompatibility_1.6.0.zip |
PackageFileSize: 338.8 KiB |
############################################################################## ############################################################################## ### ### Running command: ### ### rm -rf DNABarcodeCompatibility.buildbin-libdir && mkdir DNABarcodeCompatibility.buildbin-libdir && C:\Users\biocbuild\bbs-3.12-bioc\R\bin\R.exe CMD INSTALL --merge-multiarch --build --library=DNABarcodeCompatibility.buildbin-libdir DNABarcodeCompatibility_1.6.0.tar.gz ### ############################################################################## ############################################################################## install for i386 * installing *source* package 'DNABarcodeCompatibility' ... ** using staged installation ** R ** data *** moving datasets to lazyload DB ** inst ** byte-compile and prepare package for lazy loading ** help *** installing help indices converting help for package 'DNABarcodeCompatibility' finding HTML links ... done DNABarcodeCompatibility-package html IlluminaIndexes html IlluminaIndexesRaw html distance_filter html experiment_design html file_loading_and_checking html get_all_combinations html get_random_combinations html optimize_combinations html ** building package indices ** installing vignettes ** testing if installed package can be loaded from temporary location ** testing if installed package can be loaded from final location ** testing if installed package keeps a record of temporary installation path install for x64 * installing *source* package 'DNABarcodeCompatibility' ... ** testing if installed package can be loaded * MD5 sums packaged installation of 'DNABarcodeCompatibility' as DNABarcodeCompatibility_1.6.0.zip * DONE (DNABarcodeCompatibility)