Back to Multiple platform build/check report for BioC 3.12 |
|
This page was generated on 2021-05-06 12:35:05 -0400 (Thu, 06 May 2021).
To the developers/maintainers of the GeneStructureTools package: Please make sure to use the following settings in order to reproduce any error or warning you see on this page. |
Package 701/1974 | Hostname | OS / Arch | INSTALL | BUILD | CHECK | BUILD BIN | ||||||||
GeneStructureTools 1.10.0 (landing page) Beth Signal
| malbec1 | Linux (Ubuntu 18.04.5 LTS) / x86_64 | OK | OK | OK | |||||||||
tokay1 | Windows Server 2012 R2 Standard / x64 | OK | OK | OK | OK | |||||||||
merida1 | macOS 10.14.6 Mojave / x86_64 | OK | OK | OK | OK | |||||||||
Package: GeneStructureTools |
Version: 1.10.0 |
Command: /Library/Frameworks/R.framework/Versions/Current/Resources/bin/R CMD check --install=check:GeneStructureTools.install-out.txt --library=/Library/Frameworks/R.framework/Versions/Current/Resources/library --no-vignettes --timings GeneStructureTools_1.10.0.tar.gz |
StartedAt: 2021-05-06 02:03:52 -0400 (Thu, 06 May 2021) |
EndedAt: 2021-05-06 02:12:02 -0400 (Thu, 06 May 2021) |
EllapsedTime: 490.0 seconds |
RetCode: 0 |
Status: OK |
CheckDir: GeneStructureTools.Rcheck |
Warnings: 0 |
############################################################################## ############################################################################## ### ### Running command: ### ### /Library/Frameworks/R.framework/Versions/Current/Resources/bin/R CMD check --install=check:GeneStructureTools.install-out.txt --library=/Library/Frameworks/R.framework/Versions/Current/Resources/library --no-vignettes --timings GeneStructureTools_1.10.0.tar.gz ### ############################################################################## ############################################################################## * using log directory ‘/Users/biocbuild/bbs-3.12-bioc/meat/GeneStructureTools.Rcheck’ * using R version 4.0.5 (2021-03-31) * using platform: x86_64-apple-darwin17.0 (64-bit) * using session charset: UTF-8 * using option ‘--no-vignettes’ * checking for file ‘GeneStructureTools/DESCRIPTION’ ... OK * checking extension type ... Package * this is package ‘GeneStructureTools’ version ‘1.10.0’ * package encoding: UTF-8 * checking package namespace information ... OK * checking package dependencies ... OK * checking if this is a source package ... OK * checking if there is a namespace ... OK * checking for hidden files and directories ... OK * checking for portable file names ... OK * checking for sufficient/correct file permissions ... OK * checking whether package ‘GeneStructureTools’ can be installed ... OK * checking installed package size ... OK * checking package directory ... OK * checking ‘build’ directory ... OK * checking DESCRIPTION meta-information ... OK * checking top-level files ... OK * checking for left-over files ... OK * checking index information ... OK * checking package subdirectories ... OK * checking R files for non-ASCII characters ... OK * checking R files for syntax errors ... OK * checking whether the package can be loaded ... OK * checking whether the package can be loaded with stated dependencies ... OK * checking whether the package can be unloaded cleanly ... OK * checking whether the namespace can be loaded with stated dependencies ... OK * checking whether the namespace can be unloaded cleanly ... OK * checking dependencies in R code ... OK * checking S3 generic/method consistency ... OK * checking replacement functions ... OK * checking foreign function calls ... OK * checking R code for possible problems ... OK * checking Rd files ... OK * checking Rd metadata ... OK * checking Rd cross-references ... OK * checking for missing documentation entries ... OK * checking for code/documentation mismatches ... OK * checking Rd \usage sections ... OK * checking Rd contents ... OK * checking for unstated dependencies in examples ... OK * checking files in ‘vignettes’ ... OK * checking examples ... OK Examples with CPU (user + system) or elapsed time > 5s user system elapsed leafcutterTranscriptChangeSummary 30.771 0.573 31.398 whippetTranscriptChangeSummary 17.943 0.148 18.133 UTR2UTR53 5.154 0.275 5.484 replaceJunction 5.137 0.062 5.217 alternativeIntronUsage 4.997 0.026 5.034 * checking for unstated dependencies in vignettes ... OK * checking package vignettes in ‘inst/doc’ ... OK * checking running R code from vignettes ... SKIPPED * checking re-building of vignette outputs ... SKIPPED * checking PDF version of manual ... OK * DONE Status: OK
GeneStructureTools.Rcheck/00install.out
############################################################################## ############################################################################## ### ### Running command: ### ### /Library/Frameworks/R.framework/Versions/Current/Resources/bin/R CMD INSTALL GeneStructureTools ### ############################################################################## ############################################################################## * installing to library ‘/Library/Frameworks/R.framework/Versions/4.0/Resources/library’ * installing *source* package ‘GeneStructureTools’ ... ** using staged installation ** R ** inst ** byte-compile and prepare package for lazy loading ** help *** installing help indices ** building package indices ** installing vignettes ** testing if installed package can be loaded from temporary location ** testing if installed package can be loaded from final location ** testing if installed package keeps a record of temporary installation path * DONE (GeneStructureTools)
GeneStructureTools.Rcheck/GeneStructureTools-Ex.timings
name | user | system | elapsed | |
DEXSeqIdsToGeneIds | 0.005 | 0.001 | 0.006 | |
UTR2UTR53 | 5.154 | 0.275 | 5.484 | |
addBroadTypes | 0.276 | 0.005 | 0.282 | |
addIntronInTranscript | 2.773 | 0.080 | 3.052 | |
alternativeIntronUsage | 4.997 | 0.026 | 5.034 | |
annotateGeneModel | 1.067 | 0.006 | 1.074 | |
attrChangeAltSpliced | 1.765 | 0.061 | 1.834 | |
coordinates-methods | 0.070 | 0.044 | 0.119 | |
diffSplicingResults-methods | 0.079 | 0.050 | 0.135 | |
exonsToTranscripts | 0.329 | 0.007 | 0.336 | |
filterGtfOverlap | 0.347 | 0.006 | 0.354 | |
filterWhippetEvents | 0.087 | 0.049 | 0.141 | |
findDEXexonType | 3.993 | 0.022 | 4.021 | |
findExonContainingTranscripts | 0.577 | 0.049 | 0.631 | |
findIntronContainingTranscripts | 0.905 | 0.055 | 0.967 | |
findJunctionPairs | 1.997 | 0.056 | 2.062 | |
formatWhippetEvents | 0.016 | 0.005 | 0.021 | |
getOrfs | 1.090 | 0.009 | 1.101 | |
getUOrfs | 0.834 | 0.009 | 0.844 | |
junctions-methods | 0.075 | 0.042 | 0.122 | |
leafcutterTranscriptChangeSummary | 30.771 | 0.573 | 31.398 | |
makeGeneModel | 0.224 | 0.005 | 0.230 | |
maxLocation | 0.004 | 0.000 | 0.004 | |
orfDiff | 2.969 | 0.072 | 3.056 | |
orfSimilarity | 0.001 | 0.000 | 0.002 | |
overlapTypes | 3.295 | 0.016 | 3.318 | |
readCounts-methods | 0.077 | 0.048 | 0.129 | |
readWhippetDIFFfiles | 0.007 | 0.005 | 0.012 | |
readWhippetDataSet | 0.068 | 0.040 | 0.115 | |
readWhippetJNCfiles | 0.037 | 0.021 | 0.060 | |
readWhippetPSIfiles | 0.019 | 0.019 | 0.040 | |
removeDuplicateTranscripts | 0.335 | 0.007 | 0.342 | |
removeSameExon | 0.293 | 0.006 | 0.299 | |
removeVersion | 0.000 | 0.000 | 0.001 | |
reorderExonNumbers | 0.246 | 0.005 | 0.251 | |
replaceJunction | 5.137 | 0.062 | 5.217 | |
skipExonInTranscript | 1.911 | 0.057 | 1.982 | |
summariseExonTypes | 3.758 | 0.051 | 3.816 | |
transcriptChangeSummary | 2.138 | 0.053 | 2.200 | |
whippetTranscriptChangeSummary | 17.943 | 0.148 | 18.133 | |