Back to Multiple platform build/check report for BioC 3.12 |
|
This page was generated on 2021-05-06 12:31:30 -0400 (Thu, 06 May 2021).
To the developers/maintainers of the GlobalAncova package: Please make sure to use the following settings in order to reproduce any error or warning you see on this page. |
Package 750/1974 | Hostname | OS / Arch | INSTALL | BUILD | CHECK | BUILD BIN | ||||||||
GlobalAncova 4.8.0 (landing page) Manuela Hummel
| malbec1 | Linux (Ubuntu 18.04.5 LTS) / x86_64 | OK | OK | OK | |||||||||
tokay1 | Windows Server 2012 R2 Standard / x64 | OK | OK | OK | OK | |||||||||
merida1 | macOS 10.14.6 Mojave / x86_64 | OK | OK | OK | OK | |||||||||
Package: GlobalAncova |
Version: 4.8.0 |
Command: C:\cygwin\bin\curl.exe -O http://172.29.0.3/BBS/3.12/bioc/src/contrib/GlobalAncova_4.8.0.tar.gz && rm -rf GlobalAncova.buildbin-libdir && mkdir GlobalAncova.buildbin-libdir && C:\Users\biocbuild\bbs-3.12-bioc\R\bin\R.exe CMD INSTALL --merge-multiarch --build --library=GlobalAncova.buildbin-libdir GlobalAncova_4.8.0.tar.gz && C:\Users\biocbuild\bbs-3.12-bioc\R\bin\R.exe CMD INSTALL GlobalAncova_4.8.0.zip && rm GlobalAncova_4.8.0.tar.gz GlobalAncova_4.8.0.zip |
StartedAt: 2021-05-05 18:25:59 -0400 (Wed, 05 May 2021) |
EndedAt: 2021-05-05 18:26:49 -0400 (Wed, 05 May 2021) |
EllapsedTime: 50.2 seconds |
RetCode: 0 |
Status: OK |
############################################################################## ############################################################################## ### ### Running command: ### ### C:\cygwin\bin\curl.exe -O http://172.29.0.3/BBS/3.12/bioc/src/contrib/GlobalAncova_4.8.0.tar.gz && rm -rf GlobalAncova.buildbin-libdir && mkdir GlobalAncova.buildbin-libdir && C:\Users\biocbuild\bbs-3.12-bioc\R\bin\R.exe CMD INSTALL --merge-multiarch --build --library=GlobalAncova.buildbin-libdir GlobalAncova_4.8.0.tar.gz && C:\Users\biocbuild\bbs-3.12-bioc\R\bin\R.exe CMD INSTALL GlobalAncova_4.8.0.zip && rm GlobalAncova_4.8.0.tar.gz GlobalAncova_4.8.0.zip ### ############################################################################## ############################################################################## % Total % Received % Xferd Average Speed Time Time Time Current Dload Upload Total Spent Left Speed 0 0 0 0 0 0 0 0 --:--:-- --:--:-- --:--:-- 0 100 606k 100 606k 0 0 29.2M 0 --:--:-- --:--:-- --:--:-- 31.1M install for i386 * installing *source* package 'GlobalAncova' ... ** using staged installation ** libs "C:/rtools40/mingw32/bin/"gcc -I"C:/Users/BIOCBU~1/BBS-3~1.12-/R/include" -DNDEBUG -I"C:/extsoft/include" -O2 -Wall -std=gnu99 -mfpmath=sse -msse2 -mstackrealign -c GlobalAncova.c -o GlobalAncova.o GlobalAncova.c: In function 'permut_withFperm': GlobalAncova.c:166:8: warning: 'ord_perm' may be used uninitialized in this function [-Wmaybe-uninitialized] int *ord_perm ; ^~~~~~~~ GlobalAncova.c: In function 'permut': GlobalAncova.c:268:8: warning: 'ord_perm' may be used uninitialized in this function [-Wmaybe-uninitialized] int *ord_perm ; ^~~~~~~~ "C:/rtools40/mingw32/bin/"gcc -I"C:/Users/BIOCBU~1/BBS-3~1.12-/R/include" -DNDEBUG -I"C:/extsoft/include" -O2 -Wall -std=gnu99 -mfpmath=sse -msse2 -mstackrealign -c ludcmp.c -o ludcmp.o "C:/rtools40/mingw32/bin/"gcc -I"C:/Users/BIOCBU~1/BBS-3~1.12-/R/include" -DNDEBUG -I"C:/extsoft/include" -O2 -Wall -std=gnu99 -mfpmath=sse -msse2 -mstackrealign -c matrix.c -o matrix.o C:/rtools40/mingw32/bin/gcc -shared -s -static-libgcc -o GlobalAncova.dll tmp.def GlobalAncova.o ludcmp.o matrix.o -LC:/extsoft/lib/i386 -LC:/extsoft/lib -LC:/Users/BIOCBU~1/BBS-3~1.12-/R/bin/i386 -lR installing to C:/Users/biocbuild/bbs-3.12-bioc/meat/GlobalAncova.buildbin-libdir/00LOCK-GlobalAncova/00new/GlobalAncova/libs/i386 ** R ** data ** inst ** byte-compile and prepare package for lazy loading ** help *** installing help indices converting help for package 'GlobalAncova' finding HTML links ... done GAhier-class html GlobalAncova-methods html GlobalAncova html GlobalAncova.closed-methods html GlobalAncova.closed html GlobalAncova.decomp html Plot.all html Plot.features html Plot.genes-methods html Plot.genes html Plot.sequential html Plot.subjects-methods html Plot.subjects html bindata html colon.normal html colon.pheno html colon.tumour html gGlobalAncova html gGlobalAncova.hierarchical html genesettesting html pair.compare html pathways html phenodata html vantVeer html ** building package indices ** installing vignettes ** testing if installed package can be loaded from temporary location ** testing if installed package can be loaded from final location ** testing if installed package keeps a record of temporary installation path install for x64 * installing *source* package 'GlobalAncova' ... ** libs "C:/rtools40/mingw64/bin/"gcc -I"C:/Users/BIOCBU~1/BBS-3~1.12-/R/include" -DNDEBUG -I"C:/extsoft/include" -O2 -Wall -std=gnu99 -mfpmath=sse -msse2 -mstackrealign -c GlobalAncova.c -o GlobalAncova.o GlobalAncova.c: In function 'permut_withFperm': GlobalAncova.c:166:8: warning: 'ord_perm' may be used uninitialized in this function [-Wmaybe-uninitialized] int *ord_perm ; ^~~~~~~~ GlobalAncova.c: In function 'permut': GlobalAncova.c:268:8: warning: 'ord_perm' may be used uninitialized in this function [-Wmaybe-uninitialized] int *ord_perm ; ^~~~~~~~ "C:/rtools40/mingw64/bin/"gcc -I"C:/Users/BIOCBU~1/BBS-3~1.12-/R/include" -DNDEBUG -I"C:/extsoft/include" -O2 -Wall -std=gnu99 -mfpmath=sse -msse2 -mstackrealign -c ludcmp.c -o ludcmp.o "C:/rtools40/mingw64/bin/"gcc -I"C:/Users/BIOCBU~1/BBS-3~1.12-/R/include" -DNDEBUG -I"C:/extsoft/include" -O2 -Wall -std=gnu99 -mfpmath=sse -msse2 -mstackrealign -c matrix.c -o matrix.o C:/rtools40/mingw64/bin/gcc -shared -s -static-libgcc -o GlobalAncova.dll tmp.def GlobalAncova.o ludcmp.o matrix.o -LC:/extsoft/lib/x64 -LC:/extsoft/lib -LC:/Users/BIOCBU~1/BBS-3~1.12-/R/bin/x64 -lR installing to C:/Users/biocbuild/bbs-3.12-bioc/meat/GlobalAncova.buildbin-libdir/GlobalAncova/libs/x64 ** testing if installed package can be loaded * MD5 sums packaged installation of 'GlobalAncova' as GlobalAncova_4.8.0.zip * DONE (GlobalAncova) * installing to library 'C:/Users/biocbuild/bbs-3.12-bioc/R/library' package 'GlobalAncova' successfully unpacked and MD5 sums checked