Back to Multiple platform build/check report for BioC 3.12 |
|
This page was generated on 2021-05-06 12:28:35 -0400 (Thu, 06 May 2021).
To the developers/maintainers of the PhenStat package: Please make sure to use the following settings in order to reproduce any error or warning you see on this page. |
Package 1339/1974 | Hostname | OS / Arch | INSTALL | BUILD | CHECK | BUILD BIN | ||||||||
PhenStat 2.26.0 (landing page) Hamed Haselimashhadi
| malbec1 | Linux (Ubuntu 18.04.5 LTS) / x86_64 | OK | OK | OK | ![]() | ||||||||
tokay1 | Windows Server 2012 R2 Standard / x64 | OK | OK | OK | OK | ![]() | ||||||||
merida1 | macOS 10.14.6 Mojave / x86_64 | OK | OK | OK | OK | ![]() | ||||||||
Package: PhenStat |
Version: 2.26.0 |
Command: /home/biocbuild/bbs-3.12-bioc/R/bin/R CMD build --keep-empty-dirs --no-resave-data PhenStat |
StartedAt: 2021-05-05 20:57:26 -0400 (Wed, 05 May 2021) |
EndedAt: 2021-05-05 20:58:06 -0400 (Wed, 05 May 2021) |
EllapsedTime: 39.9 seconds |
RetCode: 0 |
Status: OK |
PackageFile: PhenStat_2.26.0.tar.gz |
PackageFileSize: 727.4 KiB |
############################################################################## ############################################################################## ### ### Running command: ### ### /home/biocbuild/bbs-3.12-bioc/R/bin/R CMD build --keep-empty-dirs --no-resave-data PhenStat ### ############################################################################## ############################################################################## * checking for file ‘PhenStat/DESCRIPTION’ ... OK * preparing ‘PhenStat’: * checking DESCRIPTION meta-information ... OK * installing the package to build vignettes * creating vignettes ... OK Warning: ‘inst/doc’ files ‘PhenStat.Rnw’, ‘PhenStat.pdf’, ‘PhenStat.R’ ignored as vignettes have been rebuilt. Run R CMD build with --no-build-vignettes to prevent rebuilding. * checking for LF line-endings in source and make files and shell scripts * checking for empty or unneeded directories * building ‘PhenStat_2.26.0.tar.gz’