SGSeq.Rcheck/tests_i386/runTests.Rout
R version 4.0.5 (2021-03-31) -- "Shake and Throw"
Copyright (C) 2021 The R Foundation for Statistical Computing
Platform: i386-w64-mingw32/i386 (32-bit)
R is free software and comes with ABSOLUTELY NO WARRANTY.
You are welcome to redistribute it under certain conditions.
Type 'license()' or 'licence()' for distribution details.
R is a collaborative project with many contributors.
Type 'contributors()' for more information and
'citation()' on how to cite R or R packages in publications.
Type 'demo()' for some demos, 'help()' for on-line help, or
'help.start()' for an HTML browser interface to help.
Type 'q()' to quit R.
> BiocGenerics:::testPackage("SGSeq")
Attaching package: 'BiocGenerics'
The following objects are masked from 'package:parallel':
clusterApply, clusterApplyLB, clusterCall, clusterEvalQ,
clusterExport, clusterMap, parApply, parCapply, parLapply,
parLapplyLB, parRapply, parSapply, parSapplyLB
The following objects are masked from 'package:stats':
IQR, mad, sd, var, xtabs
The following objects are masked from 'package:base':
Filter, Find, Map, Position, Reduce, anyDuplicated, append,
as.data.frame, basename, cbind, colnames, dirname, do.call,
duplicated, eval, evalq, get, grep, grepl, intersect, is.unsorted,
lapply, mapply, match, mget, order, paste, pmax, pmax.int, pmin,
pmin.int, rank, rbind, rownames, sapply, setdiff, sort, table,
tapply, union, unique, unsplit, which.max, which.min
Attaching package: 'S4Vectors'
The following object is masked from 'package:base':
expand.grid
Attaching package: 'IRanges'
The following object is masked from 'package:grDevices':
windows
Attaching package: 'Biostrings'
The following object is masked from 'package:base':
strsplit
Attaching package: 'MatrixGenerics'
The following objects are masked from 'package:matrixStats':
colAlls, colAnyNAs, colAnys, colAvgsPerRowSet, colCollapse,
colCounts, colCummaxs, colCummins, colCumprods, colCumsums,
colDiffs, colIQRDiffs, colIQRs, colLogSumExps, colMadDiffs,
colMads, colMaxs, colMeans2, colMedians, colMins, colOrderStats,
colProds, colQuantiles, colRanges, colRanks, colSdDiffs, colSds,
colSums2, colTabulates, colVarDiffs, colVars, colWeightedMads,
colWeightedMeans, colWeightedMedians, colWeightedSds,
colWeightedVars, rowAlls, rowAnyNAs, rowAnys, rowAvgsPerColSet,
rowCollapse, rowCounts, rowCummaxs, rowCummins, rowCumprods,
rowCumsums, rowDiffs, rowIQRDiffs, rowIQRs, rowLogSumExps,
rowMadDiffs, rowMads, rowMaxs, rowMeans2, rowMedians, rowMins,
rowOrderStats, rowProds, rowQuantiles, rowRanges, rowRanks,
rowSdDiffs, rowSds, rowSums2, rowTabulates, rowVarDiffs, rowVars,
rowWeightedMads, rowWeightedMeans, rowWeightedMedians,
rowWeightedSds, rowWeightedVars
Welcome to Bioconductor
Vignettes contain introductory material; view with
'browseVignettes()'. To cite Bioconductor, see
'citation("Biobase")', and for packages 'citation("pkgname")'.
Attaching package: 'Biobase'
The following object is masked from 'package:MatrixGenerics':
rowMedians
The following objects are masked from 'package:matrixStats':
anyMissing, rowMedians
Predict features...
N1 complete.
N2 complete.
N3 complete.
N4 complete.
T1 complete.
T2 complete.
T3 complete.
T4 complete.
Process features...
Obtain counts...
N1 complete.
N2 complete.
N3 complete.
N4 complete.
T1 complete.
T2 complete.
T3 complete.
T4 complete.
Find segments...
Find variants...
Annotate variants...
[updateObject] Validating the updated object ... OK
[updateObject] Validating the updated object ... OK
Find segments...
Find variants...
Annotate variants...
Find segments...
Find variants...
Annotate variants...
Find segments...
Find variants...
Annotate variants...
Find segments...
Find variants...
Annotate variants...
N1 complete.
N2 complete.
N3 complete.
N4 complete.
T1 complete.
T2 complete.
T3 complete.
T4 complete.
N1 complete.
N2 complete.
N3 complete.
N4 complete.
T1 complete.
T2 complete.
T3 complete.
T4 complete.
[updateObject] Validating the updated object ... OK
[updateObject] Validating the updated object ... OK
N1 complete.
N2 complete.
N3 complete.
N4 complete.
T1 complete.
T2 complete.
T3 complete.
T4 complete.
N1 complete.
N2 complete.
N3 complete.
N4 complete.
T1 complete.
T2 complete.
T3 complete.
T4 complete.
Loading required package: BSgenome.Hsapiens.UCSC.hg19
Loading required package: BSgenome
Loading required package: rtracklayer
[updateObject] Validating the updated object ... OK
[updateObject] Validating the updated object ... OK
Predicting effect of 2 variants on 3 coding transcripts...
[updateObject] Validating the updated object ... OK
[updateObject] Validating the updated object ... OK
Predicting effect of 3 variants on 3 coding transcripts...
RUNIT TEST PROTOCOL -- Thu May 06 07:10:03 2021
***********************************************
Number of test functions: 17
Number of errors: 0
Number of failures: 0
1 Test Suite :
SGSeq RUnit Tests - 17 test functions, 0 errors, 0 failures
Number of test functions: 17
Number of errors: 0
Number of failures: 0
>
> proc.time()
user system elapsed
215.07 2.57 220.98
|
SGSeq.Rcheck/tests_x64/runTests.Rout
R version 4.0.5 (2021-03-31) -- "Shake and Throw"
Copyright (C) 2021 The R Foundation for Statistical Computing
Platform: x86_64-w64-mingw32/x64 (64-bit)
R is free software and comes with ABSOLUTELY NO WARRANTY.
You are welcome to redistribute it under certain conditions.
Type 'license()' or 'licence()' for distribution details.
R is a collaborative project with many contributors.
Type 'contributors()' for more information and
'citation()' on how to cite R or R packages in publications.
Type 'demo()' for some demos, 'help()' for on-line help, or
'help.start()' for an HTML browser interface to help.
Type 'q()' to quit R.
> BiocGenerics:::testPackage("SGSeq")
Attaching package: 'BiocGenerics'
The following objects are masked from 'package:parallel':
clusterApply, clusterApplyLB, clusterCall, clusterEvalQ,
clusterExport, clusterMap, parApply, parCapply, parLapply,
parLapplyLB, parRapply, parSapply, parSapplyLB
The following objects are masked from 'package:stats':
IQR, mad, sd, var, xtabs
The following objects are masked from 'package:base':
Filter, Find, Map, Position, Reduce, anyDuplicated, append,
as.data.frame, basename, cbind, colnames, dirname, do.call,
duplicated, eval, evalq, get, grep, grepl, intersect, is.unsorted,
lapply, mapply, match, mget, order, paste, pmax, pmax.int, pmin,
pmin.int, rank, rbind, rownames, sapply, setdiff, sort, table,
tapply, union, unique, unsplit, which.max, which.min
Attaching package: 'S4Vectors'
The following object is masked from 'package:base':
expand.grid
Attaching package: 'IRanges'
The following object is masked from 'package:grDevices':
windows
Attaching package: 'Biostrings'
The following object is masked from 'package:base':
strsplit
Attaching package: 'MatrixGenerics'
The following objects are masked from 'package:matrixStats':
colAlls, colAnyNAs, colAnys, colAvgsPerRowSet, colCollapse,
colCounts, colCummaxs, colCummins, colCumprods, colCumsums,
colDiffs, colIQRDiffs, colIQRs, colLogSumExps, colMadDiffs,
colMads, colMaxs, colMeans2, colMedians, colMins, colOrderStats,
colProds, colQuantiles, colRanges, colRanks, colSdDiffs, colSds,
colSums2, colTabulates, colVarDiffs, colVars, colWeightedMads,
colWeightedMeans, colWeightedMedians, colWeightedSds,
colWeightedVars, rowAlls, rowAnyNAs, rowAnys, rowAvgsPerColSet,
rowCollapse, rowCounts, rowCummaxs, rowCummins, rowCumprods,
rowCumsums, rowDiffs, rowIQRDiffs, rowIQRs, rowLogSumExps,
rowMadDiffs, rowMads, rowMaxs, rowMeans2, rowMedians, rowMins,
rowOrderStats, rowProds, rowQuantiles, rowRanges, rowRanks,
rowSdDiffs, rowSds, rowSums2, rowTabulates, rowVarDiffs, rowVars,
rowWeightedMads, rowWeightedMeans, rowWeightedMedians,
rowWeightedSds, rowWeightedVars
Welcome to Bioconductor
Vignettes contain introductory material; view with
'browseVignettes()'. To cite Bioconductor, see
'citation("Biobase")', and for packages 'citation("pkgname")'.
Attaching package: 'Biobase'
The following object is masked from 'package:MatrixGenerics':
rowMedians
The following objects are masked from 'package:matrixStats':
anyMissing, rowMedians
Predict features...
N1 complete.
N2 complete.
N3 complete.
N4 complete.
T1 complete.
T2 complete.
T3 complete.
T4 complete.
Process features...
Obtain counts...
N1 complete.
N2 complete.
N3 complete.
N4 complete.
T1 complete.
T2 complete.
T3 complete.
T4 complete.
Find segments...
Find variants...
Annotate variants...
[updateObject] Validating the updated object ... OK
[updateObject] Validating the updated object ... OK
Find segments...
Find variants...
Annotate variants...
Find segments...
Find variants...
Annotate variants...
Find segments...
Find variants...
Annotate variants...
Find segments...
Find variants...
Annotate variants...
N1 complete.
N2 complete.
N3 complete.
N4 complete.
T1 complete.
T2 complete.
T3 complete.
T4 complete.
N1 complete.
N2 complete.
N3 complete.
N4 complete.
T1 complete.
T2 complete.
T3 complete.
T4 complete.
[updateObject] Validating the updated object ... OK
[updateObject] Validating the updated object ... OK
N1 complete.
N2 complete.
N3 complete.
N4 complete.
T1 complete.
T2 complete.
T3 complete.
T4 complete.
N1 complete.
N2 complete.
N3 complete.
N4 complete.
T1 complete.
T2 complete.
T3 complete.
T4 complete.
Loading required package: BSgenome.Hsapiens.UCSC.hg19
Loading required package: BSgenome
Loading required package: rtracklayer
[updateObject] Validating the updated object ... OK
[updateObject] Validating the updated object ... OK
Predicting effect of 2 variants on 3 coding transcripts...
[updateObject] Validating the updated object ... OK
[updateObject] Validating the updated object ... OK
Predicting effect of 3 variants on 3 coding transcripts...
RUNIT TEST PROTOCOL -- Thu May 06 07:14:50 2021
***********************************************
Number of test functions: 17
Number of errors: 0
Number of failures: 0
1 Test Suite :
SGSeq RUnit Tests - 17 test functions, 0 errors, 0 failures
Number of test functions: 17
Number of errors: 0
Number of failures: 0
>
> proc.time()
user system elapsed
281.18 2.34 286.70
|